BEGIN:VCALENDAR
VERSION:2.0
PRODID:-//My Calendar//mxm.dk//
BEGIN:VEVENT
SUMMARY:ARMANI PROYECTO BLUES
DTSTART:20241027T000000Z
DTEND:20241027T080000Z
DTSTAMP:20260421T064945Z
DESCRIPTION:<p dir="ltr" style="margin: 0pt 0px\; font-family: Abel\, sans
 -serif\; text-align: center\; -webkit-text-size-adjust: 100%\; line-height
 : 1.656\;"><font color="#201f1e" face="Arial"><u><b><span style="font-size
 : 15.3333px\;">ARMANI PROYECTO BLUES</span></b></u></font></p><p dir="ltr"
  style="margin: 0pt 0px\; font-family: Abel\, sans-serif\; text-align: cen
 ter\; -webkit-text-size-adjust: 100%\; line-height: 1.656\;"><font color="
 #201f1e" face="Arial"><u><b><span style="font-size: 15.3333px\;">EN WO</sp
 an>&nbsp\;-&nbsp\;<font face="Abel\, sans-serif"><span style="font-size: 1
 5.3333px\;">NECOCHEA</span></font></b></u></font><br></p><p dir="ltr" styl
 e="margin: 0pt 0px\; font-family: Abel\, sans-serif\; text-align: center\;
  -webkit-text-size-adjust: 100%\; color: rgb(51\, 51\, 51)\; font-size: 14
 px\; line-height: 1.656\;"><span style="font-size: 11pt\; font-family: Ari
 al\; color: rgb(34\, 34\, 34)\; font-variant-numeric: normal\; font-varian
 t-east-asian: normal\; vertical-align: baseline\; white-space-collapse: pr
 eserve\;">&nbsp\;</span></p><p dir="ltr" style="margin: 0pt 0px\; font-fam
 ily: Abel\, sans-serif\; text-align: center\; -webkit-text-size-adjust: 10
 0%\; color: rgb(51\, 51\, 51)\; font-size: 14px\; line-height: 1.656\;"><s
 pan style="color: rgb(32\, 31\, 30)\; font-family: Arial\; font-size: 11.5
 pt\;">Entradas anticipadas limitadas en efectivo:</span></p><p dir="ltr" s
 tyle="margin: 0pt 0px\; font-family: Abel\, sans-serif\; text-align: cente
 r\; -webkit-text-size-adjust: 100%\; color: rgb(51\, 51\, 51)\; font-size:
  14px\; line-height: 1.656\;"><span style="color: rgb(32\, 31\, 30)\; font
 -family: Arial\; font-size: 11.5pt\;"><br></span></p><p dir="ltr" style="m
 argin: 0pt 0px\; font-family: Abel\, sans-serif\; text-align: center\; -we
 bkit-text-size-adjust: 100%\; color: rgb(51\, 51\, 51)\; font-size: 14px\;
  line-height: 1.656\;"><span style="font-size: 11pt\; font-family: Arial\;
  color: rgb(34\, 34\, 34)\; font-variant-numeric: normal\; font-variant-ea
 st-asian: normal\; vertical-align: baseline\;">&nbsp\;ADN Store:&nbsp\;Cal
 le 61 N° 2813 -&nbsp\;Necochea.</span></p><p dir="ltr" style="margin: 0pt
  0px\; font-family: Abel\, sans-serif\; text-align: center\; -webkit-text-
 size-adjust: 100%\; color: rgb(51\, 51\, 51)\; font-size: 14px\; line-heig
 ht: 1.656\;"><span style="font-size: 11pt\; font-family: Arial\; color: rg
 b(34\, 34\, 34)\; font-variant-numeric: normal\; font-variant-east-asian: 
 normal\; vertical-align: baseline\; white-space-collapse: preserve\;"></sp
 an></p><p dir="ltr" style="margin: 0pt 0px\; font-family: Abel\, sans-seri
 f\; text-align: center\; -webkit-text-size-adjust: 100%\; color: rgb(51\, 
 51\, 51)\; font-size: 14px\; line-height: 1.656\;"><br></p><p dir="ltr" st
 yle="margin: 0pt 0px\; font-family: Abel\, sans-serif\; text-align: center
 \; -webkit-text-size-adjust: 100%\; color: rgb(51\, 51\, 51)\; font-size: 
 14px\; line-height: 1.656\;"><span style="font-size: 11.5pt\; font-family:
  Arial\; color: rgb(32\, 31\, 30)\; font-variant-numeric: normal\; font-va
 riant-east-asian: normal\; vertical-align: baseline\;"><br></span></p><p d
 ir="ltr" style="margin: 0pt 0px\; font-family: Abel\, sans-serif\; text-al
 ign: center\; -webkit-text-size-adjust: 100%\; color: rgb(51\, 51\, 51)\; 
 font-size: 14px\; line-height: 1.38\;"><a href="http://www.articket.com.ar
 /" style="color: rgb(51\, 122\, 183)\;"><span style="font-size: 11.5pt\; f
 ont-family: Arial\; color: rgb(17\, 85\, 204)\; font-variant-numeric: norm
 al\; font-variant-east-asian: normal\; text-decoration: underline\; text-d
 ecoration-skip-ink: none\; vertical-align: baseline\; white-space-collapse
 : preserve\;">www.articket.com.ar</span></a></p><p class="MsoNormal" style
 ="margin-right: 0px\; margin-bottom: 10pt\; margin-left: 0px\; text-align:
  center\; -webkit-text-size-adjust: 100%\; color: rgb(34\, 34\, 34)\; font
 -family: Arial\, Helvetica\, sans-serif\; font-size: small\; line-height: 
 14.95px\;"><span style="font-family: Calibri\, sans-serif\;"><br></span></
 p><p dir="ltr" style="margin: 0pt 0px\; font-family: Abel\, sans-serif\; t
 ext-align: center\; -webkit-text-size-adjust: 100%\; color: rgb(51\, 51\, 
 51)\; font-size: 14px\; line-height: 1.38\;"><span style="font-size: 11pt\
 ; font-family: Arial\; color: rgb(34\, 34\, 34)\; font-variant-numeric: no
 rmal\; font-variant-east-asian: normal\; vertical-align: baseline\; white-
 space-collapse: preserve\;"><span style="font-weight: 700\;">APTO TODO PUB
 LICO</span></span></p>
END:VEVENT
END:VCALENDAR
