BEGIN:VCALENDAR
VERSION:2.0
PRODID:-//My Calendar//mxm.dk//
BEGIN:VEVENT
SUMMARY:CUMBIA GRANDE - BAJO LAS ESTRELLAS
DTSTART:20250227T000000Z
DTEND:20250227T080000Z
DTSTAMP:20260424T112745Z
DESCRIPTION:<p dir="ltr" style="margin: 0pt 0px\; text-align: center\; lin
 e-height: 1.656\;"><font color="#201f1e" face="Arial"><span style="font-si
 ze: 15.3333px\;"><u><b>CUMBIA GRANDE "BAJO LAS ESTRELLAS"<br>EN VILLA VICT
 ORIA</b></u></span></font></p><p dir="ltr" style="margin: 0pt 0px\; text-a
 lign: center\; line-height: 1.656\;"><font color="#201f1e" face="Arial"><s
 pan style="font-size: 15.3333px\;"><u><br></u></span></font><span style="f
 ont-weight: bolder\; font-size: 18px\; text-align: left\; background-color
 : rgb(255\, 255\, 0)\;"><font color="#000000">LAS ENTRADAS SE CANJEAN EN B
 OLETERIA DE LA VILLA VICTORIA.</font></span><font color="#201f1e" face="Ar
 ial"><span style="font-size: 15.3333px\;"><span style="font-weight: bolder
 \;"><u><br></u></span></span></font></p><p dir="ltr" style="margin: 0pt 0p
 x\; text-align: center\; line-height: 1.656\;"><font color="#222222" face=
 "Arial\, Helvetica\, sans-serif" size="2"><br></font></p><p dir="ltr" styl
 e="margin: 0pt 0px\; font-family: Abel\, sans-serif\; text-align: center\;
  color: rgb(51\, 51\, 51)\; font-size: 14px\; line-height: 1.656\;"><font 
 color="#201f1e" face="Arial"><span style="font-size: 15.3333px\;"><u style
 ="font-weight: 700\;"></u></span></font></p><p dir="ltr" style="margin: 0p
 t 0px\; font-family: Abel\, sans-serif\; text-align: center\; color: rgb(5
 1\, 51\, 51)\; font-size: 14px\; line-height: 1.656\;"><span style="backgr
 ound-color: transparent\; color: rgb(32\, 31\, 30)\; font-family: Arial\; 
 font-size: 11.5pt\;">Entradas anticipadas limitadas en efectivo:</span></p
 ><p dir="ltr" style="margin: 0pt 0px\; font-family: Abel\, sans-serif\; te
 xt-align: center\; color: rgb(51\, 51\, 51)\; font-size: 14px\; line-heigh
 t: 1.656\;"><span style="font-size: 11pt\; font-family: Arial\; color: rgb
 (34\, 34\, 34)\; background-color: transparent\; font-variant-numeric: nor
 mal\; font-variant-east-asian: normal\; vertical-align: baseline\;">&nbsp\
 ;</span></p><p dir="ltr" style="margin: 0pt 0px\; font-family: Abel\, sans
 -serif\; text-align: center\; color: rgb(51\, 51\, 51)\; font-size: 14px\;
  line-height: 1.656\;"><span style="font-size: 11.5pt\; font-family: Arial
 \; color: rgb(32\, 31\, 30)\; background-color: transparent\; font-weight:
  700\; font-variant-numeric: normal\; font-variant-east-asian: normal\; ve
 rtical-align: baseline\;">La Casa de las Guitarras:</span><span style="fon
 t-size: 11.5pt\; font-family: Arial\; color: rgb(32\, 31\, 30)\; backgroun
 d-color: transparent\; font-variant-numeric: normal\; font-variant-east-as
 ian: normal\; vertical-align: baseline\;">&nbsp\;Belgrano 3420 - Mar del P
 lata</span></p><p dir="ltr" style="margin: 0pt 0px\; font-family: Abel\, s
 ans-serif\; text-align: center\; color: rgb(51\, 51\, 51)\; font-size: 14p
 x\; line-height: 1.656\;"><span style="font-size: 11.5pt\; font-family: Ar
 ial\; color: rgb(32\, 31\, 30)\; background-color: transparent\; font-weig
 ht: 700\; font-variant-numeric: normal\; font-variant-east-asian: normal\;
  vertical-align: baseline\;">CONEX:&nbsp\;</span><span style="font-size: 1
 1.5pt\; font-family: Arial\; color: rgb(32\, 31\, 30)\; background-color: 
 transparent\; font-variant-numeric: normal\; font-variant-east-asian: norm
 al\; vertical-align: baseline\;">San Martín 3263 - Mar del Plata<br></spa
 n></p><p dir="ltr" style="margin: 0pt 0px\; font-family: Abel\, sans-serif
 \; text-align: center\; color: rgb(51\, 51\, 51)\; font-size: 14px\; line-
 height: 1.656\;"><span style="font-size: 11.5pt\; font-family: Arial\; col
 or: rgb(32\, 31\, 30)\; background-color: transparent\; font-variant-numer
 ic: normal\; font-variant-east-asian: normal\; vertical-align: baseline\;"
 ><span style="background-color: transparent\; color: rgb(34\, 34\, 34)\; f
 ont-size: 11pt\;">&nbsp\;</span></span></p><p dir="ltr" style="margin: 0pt
  0px\; font-family: Abel\, sans-serif\; text-align: center\; color: rgb(51
 \, 51\, 51)\; font-size: 14px\; line-height: 1.38\;"><a href="http://www.a
 rticket.com.ar/" style="color: rgb(51\, 122\, 183)\;"><span style="font-si
 ze: 11.5pt\; font-family: Arial\; color: rgb(17\, 85\, 204)\; font-variant
 -numeric: normal\; font-variant-east-asian: normal\; text-decoration-line:
  underline\; text-decoration-skip-ink: none\; vertical-align: baseline\;">
 www.articket.com.ar</span></a></p><p class="MsoNormal" style="margin-right
 : 0px\; margin-bottom: 10pt\; margin-left: 0px\; text-align: center\; colo
 r: rgb(34\, 34\, 34)\; font-family: Arial\, Helvetica\, sans-serif\; font-
 size: small\; line-height: 14.95px\;"><span style="font-family: Calibri\, 
 sans-serif\;"><br></span></p><p class="MsoNormal" style="margin-right: 0px
 \; margin-bottom: 10pt\; margin-left: 0px\; font-family: Abel\, sans-serif
 \; text-align: center\; line-height: 14.95px\;"><font color="#201f1e" face
 ="Arial"><span style="font-size: 15.3333px\;"><b style="font-weight: bold 
 !important\;">EVENTO APTO TODO PUBLICO</b></span></font></p>
END:VEVENT
END:VCALENDAR
