BEGIN:VCALENDAR
VERSION:2.0
PRODID:-//My Calendar//mxm.dk//
BEGIN:VEVENT
SUMMARY:REY GARUFA - DIA DE LOS ENAMOROCKEADOS EN WO
DTSTART:20250215T000000Z
DTEND:20250215T080000Z
DTSTAMP:20260420T195803Z
DESCRIPTION:<p dir="ltr" style="margin: 0pt 0px\; text-align: center\; lin
 e-height: 1.656\;"><span style="font-family: Abel\, sans-serif\; font-weig
 ht: bolder\;"><span style="text-align: left\; font-size: 15.3333px\;"><fon
 t color="#201f1e" face="Arial"><u>&nbsp\;</u></font></span></span><span st
 yle="text-align: left\; font-size: 15.3333px\;"><font color="#201f1e" face
 ="Arial"><b><u>REY GARUFA</u></b></font></span></p><p dir="ltr" style="mar
 gin: 0pt 0px\; text-align: center\; line-height: 1.656\;"><span style="tex
 t-align: left\; font-size: 15.3333px\;"><font color="#201f1e" face="Arial"
 ><b><u> DIA DE LOS ENAMOROCKEADOS EN WO</u></b></font></span></p><p dir="l
 tr" style="margin: 0pt 0px\; font-family: Abel\, sans-serif\; text-align: 
 center\; line-height: 1.656\;"><font color="#201f1e" face="Arial"><u><font
  face="Abel\, sans-serif"><span style="font-size: 15.3333px\;"><span style
 ="font-weight: bolder\;">NECOCHEA</span></span></font></u></font><br></p><
 p dir="ltr" style="margin: 0pt 0px\; font-family: Abel\, sans-serif\; text
 -align: center\; color: rgb(51\, 51\, 51)\; font-size: 14px\; line-height:
  1.656\;"><span style="font-size: 11pt\; font-family: Arial\; color: rgb(3
 4\, 34\, 34)\; background-color: transparent\; font-variant-numeric: norma
 l\; font-variant-east-asian: normal\; vertical-align: baseline\; white-spa
 ce-collapse: preserve\;">&nbsp\;</span></p><div style="text-align: center\
 ; color: rgb(34\, 34\, 34)\; font-family: Arial\, Helvetica\, sans-serif\;
  font-size: small\;"><br></div><p dir="ltr" style="margin: 0pt 0px\; font-
 family: Abel\, sans-serif\; text-align: center\; text-size-adjust: 100%\; 
 color: rgb(51\, 51\, 51)\; font-size: 14px\; line-height: 1.656\;"><span s
 tyle="color: rgb(32\, 31\, 30)\; font-family: Arial\; font-size: 11.5pt\;"
 >Entradas anticipadas limitadas en efectivo:</span></p><p dir="ltr" style=
 "margin: 0pt 0px\; font-family: Abel\, sans-serif\; text-align: center\; t
 ext-size-adjust: 100%\; color: rgb(51\, 51\, 51)\; font-size: 14px\; line-
 height: 1.656\;"><span style="color: rgb(32\, 31\, 30)\; font-family: Aria
 l\; font-size: 11.5pt\;"><br></span></p><p dir="ltr" style="margin: 0pt 0p
 x\; font-family: Abel\, sans-serif\; text-align: center\; text-size-adjust
 : 100%\; color: rgb(51\, 51\, 51)\; font-size: 14px\; line-height: 1.656\;
 "><span style="font-size: 11pt\; font-family: Arial\; color: rgb(34\, 34\,
  34)\; font-variant-numeric: normal\; font-variant-east-asian: normal\; ve
 rtical-align: baseline\;"><span style="font-weight: bolder\;">&nbsp\;</spa
 n><span style="font-weight: bolder\;">ADN Store</span><span style="font-we
 ight: bolder\;">:</span>&nbsp\;Calle 61 N° 2813 -&nbsp\;<span style="font
 -weight: bolder\;">Necochea.</span></span></p><p dir="ltr" style="margin: 
 0pt 0px\; font-family: Abel\, sans-serif\; text-align: center\; color: rgb
 (51\, 51\, 51)\; font-size: 14px\; line-height: 1.656\;"><span style="font
 -size: 11pt\; font-family: Arial\; color: rgb(34\, 34\, 34)\; background-c
 olor: transparent\; font-variant-numeric: normal\; font-variant-east-asian
 : normal\; vertical-align: baseline\; white-space-collapse: preserve\;"></
 span></p><p dir="ltr" style="margin: 0pt 0px\; font-family: Abel\, sans-se
 rif\; text-align: center\; text-size-adjust: 100%\; color: rgb(51\, 51\, 5
 1)\; font-size: 14px\; line-height: 1.656\;"><br></p><p dir="ltr" style="m
 argin: 0pt 0px\; font-family: Abel\, sans-serif\; text-align: center\; tex
 t-size-adjust: 100%\; color: rgb(51\, 51\, 51)\; font-size: 14px\; line-he
 ight: 1.656\;"><span style="font-size: 11.5pt\; font-family: Arial\; color
 : rgb(32\, 31\, 30)\; font-variant-numeric: normal\; font-variant-east-asi
 an: normal\; vertical-align: baseline\;"><br></span></p><p dir="ltr" style
 ="margin: 0pt 0px\; font-family: Abel\, sans-serif\; text-align: center\; 
 color: rgb(51\, 51\, 51)\; font-size: 14px\; line-height: 1.38\;"><a href=
 "http://www.articket.com.ar/" style="color: rgb(51\, 122\, 183)\;"><span s
 tyle="font-size: 11.5pt\; font-family: Arial\; color: rgb(17\, 85\, 204)\;
  font-variant-numeric: normal\; font-variant-east-asian: normal\; text-dec
 oration-line: underline\; text-decoration-skip-ink: none\; vertical-align:
  baseline\; white-space-collapse: preserve\;">www.articket.com.ar</span></
 a></p><p class="MsoNormal" style="margin-right: 0px\; margin-bottom: 10pt\
 ; margin-left: 0px\; text-align: center\; color: rgb(34\, 34\, 34)\; font-
 family: Arial\, Helvetica\, sans-serif\; font-size: small\; line-height: 1
 4.95px\;"><span style="font-family: Calibri\, sans-serif\;"><br></span></p
 ><p dir="ltr" style="margin: 0pt 0px\; font-family: Abel\, sans-serif\; te
 xt-align: center\; color: rgb(51\, 51\, 51)\; font-size: 14px\; line-heigh
 t: 1.38\;"><span style="font-size: 11pt\; font-family: Arial\; color: rgb(
 34\, 34\, 34)\; font-variant-numeric: normal\; font-variant-east-asian: no
 rmal\; vertical-align: baseline\; white-space-collapse: preserve\;"><span 
 style="font-weight: 700\;">APTO TODO PUBLICO</span></span></p>
END:VEVENT
END:VCALENDAR
