BEGIN:VCALENDAR
VERSION:2.0
PRODID:-//My Calendar//mxm.dk//
BEGIN:VEVENT
SUMMARY:REY GARUFA EN CARNAVAL - WO
DTSTART:20250304T000000Z
DTEND:20250304T080000Z
DTSTAMP:20260422T105957Z
DESCRIPTION:<p dir="ltr" style="text-align: center\; margin: 0pt 0px\; lin
 e-height: 1.656\;"><font color="#201f1e" face="Arial"><span style="font-si
 ze: 15.3333px\;"><b><u>REY GARUFA EN CARNAVAL - WO</u></b></span></font></
 p><p dir="ltr" style="margin: 0pt 0px\; font-family: Abel\, sans-serif\; t
 ext-align: center\; line-height: 1.656\;"><font color="#201f1e" face="Aria
 l"><u><font face="Abel\, sans-serif"><span style="font-size: 15.3333px\; f
 ont-weight: bolder\;">NECOCHEA</span></font></u></font><br></p><p dir="ltr
 " style="margin: 0pt 0px\; font-family: Abel\, sans-serif\; text-align: ce
 nter\; color: rgb(51\, 51\, 51)\; font-size: 14px\; line-height: 1.656\;">
 <br></p><div style="color: rgb(34\, 34\, 34)\; font-family: Arial\, Helvet
 ica\, sans-serif\; font-size: small\;"><br></div><p dir="ltr" style="margi
 n: 0pt 0px\; font-family: Abel\, sans-serif\; text-align: center\; text-si
 ze-adjust: 100%\; color: rgb(51\, 51\, 51)\; font-size: 14px\; line-height
 : 1.656\;"><span style="color: rgb(32\, 31\, 30)\; font-family: Arial\; fo
 nt-size: 11.5pt\;">Entradas anticipadas limitadas en efectivo:</span></p><
 p dir="ltr" style="margin: 0pt 0px\; font-family: Abel\, sans-serif\; text
 -align: center\; text-size-adjust: 100%\; color: rgb(51\, 51\, 51)\; font-
 size: 14px\; line-height: 1.656\;"><span style="color: rgb(32\, 31\, 30)\;
  font-family: Arial\; font-size: 11.5pt\;"><br></span></p><p dir="ltr" sty
 le="margin: 0pt 0px\; font-family: Abel\, sans-serif\; text-align: center\
 ; text-size-adjust: 100%\; color: rgb(51\, 51\, 51)\; font-size: 14px\; li
 ne-height: 1.656\;"><span style="font-size: 11pt\; font-family: Arial\; co
 lor: rgb(34\, 34\, 34)\; font-variant-numeric: normal\; font-variant-east-
 asian: normal\; vertical-align: baseline\;"><span style="font-weight: bold
 er\;">&nbsp\;ADN Store:</span>&nbsp\;Calle 61 N° 2813 -&nbsp\;<span style
 ="font-weight: bolder\;">Necochea.</span></span></p><p dir="ltr" style="ma
 rgin: 0pt 0px\; font-family: Abel\, sans-serif\; text-align: center\; text
 -size-adjust: 100%\; color: rgb(51\, 51\, 51)\; font-size: 14px\; line-hei
 ght: 1.656\;"><span style="font-size: 11.5pt\; font-family: Arial\; color:
  rgb(32\, 31\, 30)\; font-variant-numeric: normal\; font-variant-east-asia
 n: normal\; vertical-align: baseline\;"><br></span></p><p dir="ltr" style=
 "margin: 0pt 0px\; font-family: Abel\, sans-serif\; text-align: center\; c
 olor: rgb(51\, 51\, 51)\; font-size: 14px\; line-height: 1.38\;"><a href="
 http://www.articket.com.ar/" style="color: rgb(51\, 122\, 183)\;"><span st
 yle="font-size: 11.5pt\; font-family: Arial\; color: rgb(17\, 85\, 204)\; 
 font-variant-numeric: normal\; font-variant-east-asian: normal\; text-deco
 ration-line: underline\; text-decoration-skip-ink: none\; vertical-align: 
 baseline\; white-space-collapse: preserve\;">www.articket.com.ar</span></a
 ></p><p class="MsoNormal" style="margin-right: 0px\; margin-bottom: 10pt\;
  margin-left: 0px\; text-align: center\; color: rgb(34\, 34\, 34)\; font-f
 amily: Arial\, Helvetica\, sans-serif\; font-size: small\; line-height: 14
 .95px\;"><span style="font-family: Calibri\, sans-serif\;"><br></span></p>
 <p dir="ltr" style="margin: 0pt 0px\; font-family: Abel\, sans-serif\; tex
 t-align: center\; color: rgb(51\, 51\, 51)\; font-size: 14px\; line-height
 : 1.38\;"><span style="font-size: 11pt\; font-family: Arial\; color: rgb(3
 4\, 34\, 34)\; font-variant-numeric: normal\; font-variant-east-asian: nor
 mal\; vertical-align: baseline\; white-space-collapse: preserve\;"><span s
 tyle="font-weight: 700\;">APTO TODO PUBLICO</span></span></p>
END:VEVENT
END:VCALENDAR
