BEGIN:VCALENDAR
VERSION:2.0
PRODID:-//My Calendar//mxm.dk//
BEGIN:VEVENT
SUMMARY:ONDA VAGA EN WO
DTSTART:20250412T000000Z
DTEND:20250412T080000Z
DTSTAMP:20260421T114656Z
DESCRIPTION:<p dir="ltr" style="text-align: center\; margin: 0pt 0px\; lin
 e-height: 1.656\;"><font color="#201f1e" face="Arial"><span style="font-si
 ze: 15.3333px\;"><span style="font-weight: bolder\;"><u>ONDA VAGA EN WO</u
 ></span></span></font></p><p dir="ltr" style="margin: 0pt 0px\; font-famil
 y: Abel\, sans-serif\; text-align: center\; line-height: 1.656\;"><font co
 lor="#201f1e" face="Arial"><u><font face="Abel\, sans-serif"><span style="
 font-size: 15.3333px\; font-weight: bolder\;">NECOCHEA</span></font></u></
 font><br></p><p dir="ltr" style="margin: 0pt 0px\; font-family: Abel\, san
 s-serif\; text-align: center\; color: rgb(51\, 51\, 51)\; font-size: 14px\
 ; line-height: 1.656\;"><br></p><div style="color: rgb(34\, 34\, 34)\; fon
 t-family: Arial\, Helvetica\, sans-serif\; font-size: small\;"><br></div><
 p dir="ltr" style="margin: 0pt 0px\; font-family: Abel\, sans-serif\; text
 -align: center\; text-size-adjust: 100%\; color: rgb(51\, 51\, 51)\; font-
 size: 14px\; line-height: 1.656\;"><span style="color: rgb(32\, 31\, 30)\;
  font-family: Arial\; font-size: 11.5pt\;">Entradas anticipadas limitadas 
 en efectivo:</span></p><p dir="ltr" style="margin: 0pt 0px\; font-family: 
 Abel\, sans-serif\; text-align: center\; text-size-adjust: 100%\; color: r
 gb(51\, 51\, 51)\; font-size: 14px\; line-height: 1.656\;"><span style="co
 lor: rgb(32\, 31\, 30)\; font-family: Arial\; font-size: 11.5pt\;"><br></s
 pan></p><p dir="ltr" style="margin: 0pt 0px\; font-family: Abel\, sans-ser
 if\; text-align: center\; text-size-adjust: 100%\; color: rgb(51\, 51\, 51
 )\; font-size: 14px\; line-height: 1.656\;"><span style="font-size: 11pt\;
  font-family: Arial\; color: rgb(34\, 34\, 34)\; font-variant-numeric: nor
 mal\; font-variant-east-asian: normal\; vertical-align: baseline\;"><span 
 style="font-weight: bolder\;">&nbsp\;ADN Store:</span>&nbsp\;Calle 61 N° 
 2813 -&nbsp\;<span style="font-weight: bolder\;">Necochea.</span></span></
 p><p dir="ltr" style="margin: 0pt 0px\; font-family: Abel\, sans-serif\; t
 ext-align: center\; text-size-adjust: 100%\; color: rgb(51\, 51\, 51)\; fo
 nt-size: 14px\; line-height: 1.656\;"><span style="font-size: 11.5pt\; fon
 t-family: Arial\; color: rgb(32\, 31\, 30)\; font-variant-numeric: normal\
 ; font-variant-east-asian: normal\; vertical-align: baseline\;"><br></span
 ></p><p dir="ltr" style="margin: 0pt 0px\; font-family: Abel\, sans-serif\
 ; text-align: center\; color: rgb(51\, 51\, 51)\; font-size: 14px\; line-h
 eight: 1.38\;"><a href="http://www.articket.com.ar/" style="color: rgb(51\
 , 122\, 183)\;"><span style="font-size: 11.5pt\; font-family: Arial\; colo
 r: rgb(17\, 85\, 204)\; font-variant-numeric: normal\; font-variant-east-a
 sian: normal\; text-decoration-line: underline\; text-decoration-skip-ink:
  none\; vertical-align: baseline\; white-space-collapse: preserve\;">www.a
 rticket.com.ar</span></a></p><p class="MsoNormal" style="margin-right: 0px
 \; margin-bottom: 10pt\; margin-left: 0px\; text-align: center\; color: rg
 b(34\, 34\, 34)\; font-family: Arial\, Helvetica\, sans-serif\; font-size:
  small\; line-height: 14.95px\;"><span style="font-family: Calibri\, sans-
 serif\;"><br></span></p><p dir="ltr" style="margin: 0pt 0px\; font-family:
  Abel\, sans-serif\; text-align: center\; color: rgb(51\, 51\, 51)\; font-
 size: 14px\; line-height: 1.38\;"><span style="font-size: 11pt\; font-fami
 ly: Arial\; color: rgb(34\, 34\, 34)\; font-variant-numeric: normal\; font
 -variant-east-asian: normal\; vertical-align: baseline\; white-space-colla
 pse: preserve\;"><span style="font-weight: 700\;">APTO TODO PUBLICO</span>
 </span></p>
END:VEVENT
END:VCALENDAR
