BEGIN:VCALENDAR
VERSION:2.0
PRODID:-//My Calendar//mxm.dk//
BEGIN:VEVENT
SUMMARY:EXPERIENCIA QUEEN EN BOLIVAR
DTSTART:20250531T000000Z
DTEND:20250531T080000Z
DTSTAMP:20260421T105633Z
DESCRIPTION:<div style="text-align: center\; text-size-adjust: 100%\;"><fo
 nt color="#222222" face="Arial"><span style="font-size: 14.6667px\; caret-
 color: rgb(34\, 34\, 34)\;"><span style="font-weight: bolder\;"><u>EXPERIE
 NCIA QUEEN<br>EN BOLIVAR</u></span></span></font></div><div style="font-fa
 mily: Abel\, sans-serif\; text-align: center\; text-size-adjust: 100%\;"><
 p dir="ltr" style="margin: 0pt 0px\; color: rgb(51\, 51\, 51)\; font-size:
  14px\; line-height: 1.656\;"><span style="font-size: 11.5pt\; font-family
 : Arial\; color: rgb(32\, 31\, 30)\; font-variant-numeric: normal\; font-v
 ariant-east-asian: normal\; vertical-align: baseline\;"><br></span></p><p 
 dir="ltr" style="margin: 0pt 0px\; color: rgb(51\, 51\, 51)\; font-size: 1
 4px\; caret-color: rgb(51\, 51\, 51)\; line-height: 1.656\;"><font color="
 #222222" face="Arial"><span style="font-size: 14.6667px\;"><u>Efectivo en:
 </u></span></font></p><p dir="ltr" style="margin: 0pt 0px\; color: rgb(51\
 , 51\, 51)\; font-size: 14px\; line-height: 1.656\;"><span style="font-siz
 e: 11.5pt\; font-family: Arial\; color: rgb(32\, 31\, 30)\; font-variant-n
 umeric: normal\; font-variant-east-asian: normal\; vertical-align: baselin
 e\;"></span></p><p dir="ltr" style="margin: 0pt 0px\; color: rgb(51\, 51\,
  51)\; font-size: 14px\; caret-color: rgb(51\, 51\, 51)\; line-height: 1.6
 56\;"><span style="font-size: 11.5pt\; font-family: Arial\; color: rgb(32\
 , 31\, 30)\; font-variant-numeric: normal\; font-variant-east-asian: norma
 l\; vertical-align: baseline\;"><span style="font-weight: bolder\;">PC Cel
 l:</span>&nbsp\;Roca 402 esquina Rondeau</span><span style="color: rgb(32\
 , 31\, 30)\; font-family: Arial\; font-size: 11.5pt\;">&nbsp\;-&nbsp\;<b s
 tyle="font-weight: bold !important\;">Bolivar</b></span></p><p dir="ltr" s
 tyle="margin: 0pt 0px\; color: rgb(51\, 51\, 51)\; font-size: 14px\; caret
 -color: rgb(51\, 51\, 51)\; line-height: 1.656\;"><span style="font-size: 
 11.5pt\; font-family: Arial\; color: rgb(32\, 31\, 30)\; font-variant-nume
 ric: normal\; font-variant-east-asian: normal\; vertical-align: baseline\;
 "><br></span></p><p dir="ltr" style="margin: 0pt 0px\; color: rgb(51\, 51\
 , 51)\; font-size: 14px\; line-height: 1.656\;"><span style="font-size: 11
 .5pt\; font-family: Arial\; color: rgb(32\, 31\, 30)\; font-variant-numeri
 c: normal\; font-variant-east-asian: normal\; vertical-align: baseline\;">
 <span style="color: rgb(17\, 85\, 204)\; text-decoration-line: underline\;
  font-size: 11.5pt\; font-variant-numeric: normal\; font-variant-east-asia
 n: normal\; text-decoration-skip-ink: none\; vertical-align: baseline\;"><
 a href="http://www.articket.com.ar/" style="color: rgb(51\, 122\, 183)\; f
 ont-family: Abel\, sans-serif\; font-size: 14px\;">www.articket.com.ar</a>
 </span></span></p><p dir="ltr" style="margin: 0pt 0px\; color: rgb(51\, 51
 \, 51)\; font-size: 14px\; line-height: 1.656\;"><span style="font-size: 1
 1.5pt\; font-family: Arial\; color: rgb(32\, 31\, 30)\; font-variant-numer
 ic: normal\; font-variant-east-asian: normal\; vertical-align: baseline\;"
 ><br></span></p><p dir="ltr" style="margin: 0pt 0px\; color: rgb(51\, 51\,
  51)\; font-size: 14px\; line-height: 1.656\;"><span style="font-size: 11p
 t\; font-family: Arial\; color: rgb(34\, 34\, 34)\; font-variant-numeric: 
 normal\; font-variant-east-asian: normal\; vertical-align: baseline\;"><sp
 an style="font-weight: 700\;">&nbsp\;SHOW&nbsp\;</span></span><span style=
 "color: rgb(32\, 31\, 30)\; font-family: Arial\; font-size: 15.3333px\;"><
 span style="font-weight: 700\;">APTO TODO PUBLICO</span></span></p></div>
END:VEVENT
END:VCALENDAR
