BEGIN:VCALENDAR
VERSION:2.0
PRODID:-//My Calendar//mxm.dk//
BEGIN:VEVENT
SUMMARY:KOINO YOKAN EN NECOCHEA
DTSTART:20240119T230000Z
DTEND:20240120T080000Z
DTSTAMP:20260421T150742Z
DESCRIPTION:<p dir="ltr" style="margin: 0pt 0px\; font-family: Abel\, sans
 -serif\; text-align: center\; color: rgb(51\, 51\, 51)\; font-size: 14px\;
  line-height: 1.656\;"><font color="#201f1e" face="Arial"><span style="fon
 t-size: 15.3333px\; white-space-collapse: preserve\;"><span style="font-we
 ight: 700\;"><u>KOINO YOKAN<br></u></span></span></font></p><p dir="ltr" s
 tyle="margin: 0pt 0px\; font-family: Abel\, sans-serif\; text-align: cente
 r\; color: rgb(51\, 51\, 51)\; font-size: 14px\; line-height: 1.656\;"><sp
 an style="font-size: 11.5pt\; font-family: Arial\; color: rgb(32\, 31\, 30
 )\; background-color: transparent\; font-variant-numeric: normal\; font-va
 riant-east-asian: normal\; vertical-align: baseline\; white-space-collapse
 : preserve\;"><span style="background-color: transparent\; font-size: 11.5
 pt\;">\nEntradas anticipadas limitadas en efectivo:</span>\n</span></p><p 
 dir="ltr" style="margin: 0pt 0px\; font-family: Abel\, sans-serif\; text-a
 lign: center\; color: rgb(51\, 51\, 51)\; font-size: 14px\; line-height: 1
 .656\;"><span style="font-size: 11pt\; font-family: Arial\; color: rgb(34\
 , 34\, 34)\; background-color: transparent\; font-variant-numeric: normal\
 ; font-variant-east-asian: normal\; vertical-align: baseline\; white-space
 -collapse: preserve\;">&nbsp\;</span></p><p dir="ltr" style="margin: 0pt 0
 px\; font-family: Abel\, sans-serif\; text-align: center\; color: rgb(51\,
  51\, 51)\; font-size: 14px\; line-height: 1.656\;"><span style="font-size
 : 11.5pt\; font-family: Arial\; color: rgb(32\, 31\, 30)\; font-weight: 70
 0\; font-variant-numeric: normal\; font-variant-east-asian: normal\; verti
 cal-align: baseline\; white-space-collapse: preserve\;">ADN Store:</span><
 span style="font-size: 11.5pt\; font-family: Arial\; color: rgb(32\, 31\, 
 30)\; font-variant-numeric: normal\; font-variant-east-asian: normal\; ver
 tical-align: baseline\; white-space-collapse: preserve\;"> Calle 61 N° 28
 13 - Necochea</span></p><p dir="ltr" style="margin: 0pt 0px\; font-family:
  Abel\, sans-serif\; text-align: center\; color: rgb(51\, 51\, 51)\; font-
 size: 14px\; line-height: 1.656\;"><span style="font-size: 11pt\; font-fam
 ily: Arial\; color: rgb(34\, 34\, 34)\; background-color: transparent\; fo
 nt-variant-numeric: normal\; font-variant-east-asian: normal\; vertical-al
 ign: baseline\; white-space-collapse: preserve\;">&nbsp\;</span></p><p dir
 ="ltr" style="margin: 0pt 0px\; font-family: Abel\, sans-serif\; text-alig
 n: center\; color: rgb(51\, 51\, 51)\; font-size: 14px\; line-height: 1.38
 \;"><a href="http://www.articket.com.ar/" style="color: rgb(51\, 122\, 183
 )\;"><span style="font-size: 11.5pt\; font-family: Arial\; color: rgb(17\,
  85\, 204)\; font-variant-numeric: normal\; font-variant-east-asian: norma
 l\; text-decoration-line: underline\; text-decoration-skip-ink: none\; ver
 tical-align: baseline\; white-space-collapse: preserve\;">www.articket.com
 .ar</span></a></p><p class="MsoNormal" style="margin-right: 0px\; margin-b
 ottom: 10pt\; margin-left: 0px\; text-align: center\; color: rgb(34\, 34\,
  34)\; font-family: Arial\, Helvetica\, sans-serif\; font-size: small\; li
 ne-height: 14.95px\;"><span style="font-family: Calibri\, sans-serif\;"><b
 r></span></p><p dir="ltr" style="margin: 0pt 0px\; font-family: Abel\, san
 s-serif\; text-align: center\; color: rgb(51\, 51\, 51)\; font-size: 14px\
 ; line-height: 1.38\;"><font color="#222222" face="Arial"><span style="fon
 t-size: 14.6667px\; white-space-collapse: preserve\;"><span style="font-we
 ight: 700\;">SHOW APTO TODO PUBLICO</span></span></font></p>
END:VEVENT
END:VCALENDAR
