BEGIN:VCALENDAR
VERSION:2.0
PRODID:-//My Calendar//mxm.dk//
BEGIN:VEVENT
SUMMARY:A.N.I.M.A.L - LA PROFECIA EN BITTER CASA BAR
DTSTART:20251004T000000Z
DTEND:20251004T020000Z
DTSTAMP:20260421T051146Z
DESCRIPTION:<p dir="ltr" style="margin: 0pt 0px\; font-family: Abel\, sans
 -serif\; text-align: center\; color: rgb(51\, 51\, 51)\; font-size: 14px\;
  line-height: 1.656\;"><font color="#201f1e" face="Arial"><span style="fon
 t-size: 15.3333px\;"><span style="text-decoration-line: underline\;"><span
  style="font-weight: bolder\;">A.N.I.M.A.L<br>EN OLAVARRIA</span><br><br>B
 anda invitada: La profecía<br><br></span></span></font></p><p dir="ltr" s
 tyle="margin: 0pt 0px\; font-family: Abel\, sans-serif\; text-align: cente
 r\; color: rgb(51\, 51\, 51)\; font-size: 14px\; line-height: 1.656\;"><fo
 nt color="#201f1e" face="Arial"><span style="font-size: 15.3333px\;"><u st
 yle="font-weight: 700\;"></u></span></font></p><p dir="ltr" style="margin:
  0pt 0px\; font-family: Abel\, sans-serif\; text-align: center\; color: rg
 b(51\, 51\, 51)\; font-size: 14px\; line-height: 1.656\;"><span style="bac
 kground-color: transparent\; color: rgb(32\, 31\, 30)\; font-family: Arial
 \; font-size: 11.5pt\;">Entradas anticipadas limitadas en efectivo:</span>
 </p><p dir="ltr" style="margin: 0pt 0px\; font-family: Abel\, sans-serif\;
  text-align: center\; color: rgb(51\, 51\, 51)\; font-size: 14px\; line-he
 ight: 1.656\;"><span style="font-size: 11pt\; font-family: Arial\; color: 
 rgb(34\, 34\, 34)\; background-color: transparent\; font-variant-numeric: 
 normal\; font-variant-east-asian: normal\; vertical-align: baseline\;">&nb
 sp\;</span></p><p dir="ltr" style="margin: 0pt 0px\; font-family: Abel\, s
 ans-serif\; text-align: center\; color: rgb(51\, 51\, 51)\; font-size: 14p
 x\; caret-color: rgb(51\, 51\, 51)\; -webkit-tap-highlight-color: rgba(0\,
  0\, 0\, 0)\; text-size-adjust: 100%\; line-height: 1.656\;"><span style="
 font-size: 11.5pt\; font-family: Arial\; color: rgb(32\, 31\, 30)\; font-v
 ariant-numeric: normal\; font-variant-east-asian: normal\; vertical-align:
  baseline\;"><span style="font-weight: bolder\;">TecnoCentro:</span></span
 ><span style="font-size: 11.5pt\; font-family: Arial\; color: rgb(32\, 31\
 , 30)\; font-variant-numeric: normal\; font-variant-east-asian: normal\; v
 ertical-align: baseline\;">&nbsp\;Rivadavia 3065 -&nbsp\;<span style="font
 -weight: bolder\;">Olavarria</span></span></p><p dir="ltr" style="margin: 
 0pt 0px\; font-family: Abel\, sans-serif\; text-align: center\; color: rgb
 (51\, 51\, 51)\; font-size: 14px\; caret-color: rgb(51\, 51\, 51)\; -webki
 t-tap-highlight-color: rgba(0\, 0\, 0\, 0)\; text-size-adjust: 100%\; line
 -height: 1.656\;"><span style="font-size: 11.5pt\; font-family: Arial\; co
 lor: rgb(32\, 31\, 30)\; font-variant-numeric: normal\; font-variant-east-
 asian: normal\; vertical-align: baseline\;"><span style="font-size: 11.5pt
 \; font-variant-numeric: normal\; font-variant-east-asian: normal\; vertic
 al-align: baseline\;"><span style="font-weight: bolder\;">PC Cell:&nbsp\;<
 /span></span><font color="#201f1e" face="Arial" style="font-size: 1rem\;">
 <span style="font-size: 15.3333px\;">Calle Olavarría Nro112<span style="f
 ont-weight: bolder\;">&nbsp\;</span></span></font><span style="font-size: 
 11.5pt\;">&nbsp\;-&nbsp\;</span><span style="font-weight: bolder\; font-si
 ze: 11.5pt\;">Bolivar</span><br></span></p><div><span style="font-size: 11
 .5pt\; font-family: Arial\; color: rgb(32\, 31\, 30)\; font-variant-numeri
 c: normal\; font-variant-east-asian: normal\; vertical-align: baseline\;">
 <span style="font-weight: bolder\; font-size: 11.5pt\;"><br></span></span>
 </div><p dir="ltr" style="margin: 0pt 0px\; font-family: Abel\, sans-serif
 \; text-align: center\; color: rgb(51\, 51\, 51)\; font-size: 14px\; line-
 height: 1.38\;"><a href="http://www.articket.com.ar/" style="color: rgb(51
 \, 122\, 183)\;"><span style="font-size: 11.5pt\; font-family: Arial\; col
 or: rgb(17\, 85\, 204)\; font-variant-numeric: normal\; font-variant-east-
 asian: normal\; text-decoration-line: underline\; text-decoration-skip-ink
 : none\; vertical-align: baseline\;">www.articket.com.ar</span></a></p><p 
 class="MsoNormal" style="margin-right: 0px\; margin-bottom: 10pt\; margin-
 left: 0px\; text-align: center\; color: rgb(34\, 34\, 34)\; font-family: A
 rial\, Helvetica\, sans-serif\; font-size: small\; line-height: 14.95px\;"
 ><span style="font-family: Calibri\, sans-serif\;"><br></span></p><p class
 ="MsoNormal" style="margin-right: 0px\; margin-bottom: 10pt\; margin-left:
  0px\; text-align: center\; line-height: 14.95px\;"><font color="#222222" 
 face="Arial"><span style="font-size: 14.6667px\;"><span style="font-weight
 : bolder\;">EVENTO ATP</span></span></font><br><br><font color="#222222" f
 ace="Arial"><span style="font-size: 14.6667px\;"><span style="font-weight:
  bolder\;">Asistir con el HardTicket en mano o el QR descargado en el celu
 lar.</span></span></font><br><font color="#222222" face="Arial"><span styl
 e="font-size: 14.6667px\;"><span style="font-weight: bolder\;">No se acept
 an cambios ni devoluciones.</span></span></font></p><p class="MsoNormal" s
 tyle="margin-right: 0px\; margin-bottom: 10pt\; margin-left: 0px\; text-al
 ign: center\; line-height: 14.95px\;"><font color="#222222" face="Arial"><
 span style="font-size: 14.6667px\;"><span style="font-weight: bolder\;"><b
 r></span></span></font></p><p class="MsoNormal" style="margin-right: 0px\;
  margin-bottom: 10pt\; margin-left: 0px\; text-align: center\; line-height
 : 14.95px\;"><font color="#222222" face="Arial"><span style="font-size: 14
 .6667px\;"><span style="font-weight: bolder\;">---</span></span></font></p
 ><p class="MsoNormal" style="margin-right: 0px\; margin-bottom: 10pt\; mar
 gin-left: 0px\; text-align: center\; line-height: 14.95px\;"><br></p>
END:VEVENT
END:VCALENDAR
