BEGIN:VCALENDAR
VERSION:2.0
PRODID:-//My Calendar//mxm.dk//
BEGIN:VEVENT
SUMMARY:CLAUDIO TANO MARCIELLO PRESENTA VIVE EN NECOCHEA
DTSTART:20250807T230000Z
DTEND:20250808T080000Z
DTSTAMP:20260421T114427Z
DESCRIPTION:<p dir="ltr" style="margin: 0pt 0px\; text-align: center\; lin
 e-height: 1.656\;"><u style=""><font color="#201f1e" face="Arial"><span st
 yle="font-size: 15.3333px\;"><b>CTM PRESENTA VIVE</b></span></font><br><fo
 nt color="#201f1e" face="Arial"><span style="font-size: 15.3333px\; font-w
 eight: bolder\;">EN WO&nbsp\;</span></font></u><u style="font-weight: bold
 er\; color: rgb(32\, 31\, 30)\; font-family: Arial\; font-size: 1rem\;"><f
 ont face="Abel\, sans-serif"><span style="font-size: 15.3333px\;">NECOCHEA
 </span></font></u></p><p dir="ltr" style="margin: 0pt 0px\; font-family: A
 bel\, sans-serif\; text-align: center\; line-height: 1.656\;"><font color=
 "#201f1e" face="Arial"><u><font face="Abel\, sans-serif"><span style="font
 -size: 15.3333px\; font-weight: bolder\;"><br></span></font></u></font></p
 ><p dir="ltr" style="margin: 0pt 0px\; line-height: 1.656\;"></p><div styl
 e="text-align: center\;"><div><font color="#222222" face="Arial\, Helvetic
 a\, sans-serif" size="2">El legendario guitarrista argentino Claudio “Ta
 no” Marciello\, ex integrante de Almafuerte y actual líder de CTM\, lle
 ga a Necochea para presentar en vivo su más reciente trabajo discográfic
 o: “Vive”.</font></div><div><font color="#222222" face="Arial\, Helvet
 ica\, sans-serif" size="2"><br></font></div><div><font color="#222222" fac
 e="Arial\, Helvetica\, sans-serif" size="2">Con una trayectoria que dejó 
 huella en el heavy metal y el rock nacional\, el Tano regresa con un show 
 poderoso\, emotivo y profundamente musical\, acompañado por su banda CTM\
 , para compartir este nuevo capítulo de su carrera.</font></div><div><fon
 t color="#222222" face="Arial\, Helvetica\, sans-serif" size="2"><br></fon
 t></div><div><font color="#222222" face="Arial\, Helvetica\, sans-serif" s
 ize="2">“Vive” es más que un disco: es una declaración artística qu
 e combina la fuerza del rock con la sensibilidad de un músico que sigue e
 xplorando\, creando y sintiendo cada nota. Una noche especial para los ama
 ntes de la buena música\, la guitarra virtuosa y el mensaje sincero.</fon
 t></div></div><p></p><p dir="ltr" style="margin: 0pt 0px\; font-family: Ab
 el\, sans-serif\; text-align: center\; color: rgb(51\, 51\, 51)\; font-siz
 e: 14px\; line-height: 1.656\;"><br></p><div style="color: rgb(34\, 34\, 3
 4)\; font-family: Arial\, Helvetica\, sans-serif\; font-size: small\;"><br
 ></div><p dir="ltr" style="margin: 0pt 0px\; font-family: Abel\, sans-seri
 f\; text-align: center\; text-size-adjust: 100%\; color: rgb(51\, 51\, 51)
 \; font-size: 14px\; line-height: 1.656\;"><span style="color: rgb(32\, 31
 \, 30)\; font-family: Arial\; font-size: 11.5pt\;">Entradas anticipadas li
 mitadas en efectivo:</span></p><p dir="ltr" style="margin: 0pt 0px\; font-
 family: Abel\, sans-serif\; text-align: center\; text-size-adjust: 100%\; 
 color: rgb(51\, 51\, 51)\; font-size: 14px\; line-height: 1.656\;"><span s
 tyle="color: rgb(32\, 31\, 30)\; font-family: Arial\; font-size: 11.5pt\;"
 ><br></span></p><p dir="ltr" style="margin: 0pt 0px\; font-family: Abel\, 
 sans-serif\; text-align: center\; text-size-adjust: 100%\; color: rgb(51\,
  51\, 51)\; font-size: 14px\; line-height: 1.656\;"><span style="font-size
 : 11pt\; font-family: Arial\; color: rgb(34\, 34\, 34)\; font-variant-nume
 ric: normal\; font-variant-east-asian: normal\; vertical-align: baseline\;
 "><span style="font-weight: bolder\;">&nbsp\;ADN Store:</span>&nbsp\;Calle
  61 N° 2813 -&nbsp\;<span style="font-weight: bolder\;">Necochea.</span><
 /span></p><p dir="ltr" style="margin: 0pt 0px\; font-family: Abel\, sans-s
 erif\; text-align: center\; text-size-adjust: 100%\; color: rgb(51\, 51\, 
 51)\; font-size: 14px\; line-height: 1.656\;"><span style="font-size: 11.5
 pt\; font-family: Arial\; color: rgb(32\, 31\, 30)\; font-variant-numeric:
  normal\; font-variant-east-asian: normal\; vertical-align: baseline\;"><b
 r></span></p><p dir="ltr" style="margin: 0pt 0px\; font-family: Abel\, san
 s-serif\; text-align: center\; color: rgb(51\, 51\, 51)\; font-size: 14px\
 ; line-height: 1.38\;"><a href="http://www.articket.com.ar/" style="color:
  rgb(51\, 122\, 183)\;"><span style="font-size: 11.5pt\; font-family: Aria
 l\; color: rgb(17\, 85\, 204)\; font-variant-numeric: normal\; font-varian
 t-east-asian: normal\; text-decoration-line: underline\; text-decoration-s
 kip-ink: none\; vertical-align: baseline\; white-space-collapse: preserve\
 ;">www.articket.com.ar</span></a></p><p class="MsoNormal" style="margin-ri
 ght: 0px\; margin-bottom: 10pt\; margin-left: 0px\; text-align: center\; c
 olor: rgb(34\, 34\, 34)\; font-family: Arial\, Helvetica\, sans-serif\; fo
 nt-size: small\; line-height: 14.95px\;"><span style="font-family: Calibri
 \, sans-serif\;"><br></span></p><p><font color="#222222" face="Arial\, Hel
 vetica\, sans-serif" size="2"></font></p><p dir="ltr" style="margin: 0pt 0
 px\; font-family: Abel\, sans-serif\; text-align: center\; color: rgb(51\,
  51\, 51)\; font-size: 14px\; line-height: 1.38\;"><span style="font-size:
  11pt\; font-family: Arial\; color: rgb(34\, 34\, 34)\; font-variant-numer
 ic: normal\; font-variant-east-asian: normal\; vertical-align: baseline\; 
 white-space-collapse: preserve\;"><span style="font-weight: bolder\;">APTO
  TODO PUBLICO</span></span></p>
END:VEVENT
END:VCALENDAR
