BEGIN:VCALENDAR
VERSION:2.0
PRODID:-//My Calendar//mxm.dk//
BEGIN:VEVENT
SUMMARY:LUIS BARNI BAND
DTSTART:20250921T000000Z
DTEND:20250919T220200Z
DTSTAMP:20260421T051119Z
DESCRIPTION:<div style="text-align: center\; -webkit-tap-highlight-color: 
 rgba(0\, 0\, 0\, 0)\; text-size-adjust: 100%\; color: rgb(34\, 34\, 34)\;"
 ><div style="-webkit-tap-highlight-color: rgba(0\, 0\, 0\, 0)\; text-size-
 adjust: 100%\;"><u><b>LUIS BARNI BAND</b></u></div><div style="-webkit-tap
 -highlight-color: rgba(0\, 0\, 0\, 0)\; text-size-adjust: 100%\;"><br></di
 v><div style="-webkit-tap-highlight-color: rgba(0\, 0\, 0\, 0)\; text-size
 -adjust: 100%\;">Celebrando 15 años del disco Evoluzion</div></div><div s
 tyle="text-align: center\; -webkit-tap-highlight-color: rgba(0\, 0\, 0\, 0
 )\; text-size-adjust: 100%\; color: rgb(34\, 34\, 34)\; font-family: Arial
 \, Helvetica\, sans-serif\; font-size: small\;"><p dir="ltr" style="margin
 : 0pt 0px\; color: rgb(51\, 51\, 51)\; font-family: Abel\, sans-serif\; fo
 nt-size: 14px\; line-height: 1.656\;"><br></p><p dir="ltr" style="margin: 
 0pt 0px\; color: rgb(51\, 51\, 51)\; font-family: Abel\, sans-serif\; font
 -size: 14px\; line-height: 1.656\;"><span style="font-size: 11.5pt\; font-
 family: Arial\; color: rgb(32\, 31\, 30)\; font-variant-numeric: normal\; 
 font-variant-east-asian: normal\; vertical-align: baseline\;"><br></span><
 /p><p dir="ltr" style="margin: 0pt 0px\; color: rgb(51\, 51\, 51)\; font-f
 amily: Abel\, sans-serif\; font-size: 14px\; line-height: 1.656\;"><span s
 tyle="font-size: 11.5pt\; font-family: Arial\; color: rgb(32\, 31\, 30)\; 
 font-variant-numeric: normal\; font-variant-east-asian: normal\; vertical-
 align: baseline\;"><span style="color: rgb(17\, 85\, 204)\; text-decoratio
 n-line: underline\; font-size: 11.5pt\; font-variant-numeric: normal\; fon
 t-variant-east-asian: normal\; text-decoration-skip-ink: none\; vertical-a
 lign: baseline\;"><a href="http://www.articket.com.ar/" style="color: rgb(
 51\, 122\, 183)\; font-family: Abel\, sans-serif\; font-size: 14px\;">www.
 articket.com.ar</a></span></span></p><p dir="ltr" style="margin: 0pt 0px\;
  color: rgb(51\, 51\, 51)\; font-family: Abel\, sans-serif\; font-size: 14
 px\; line-height: 1.656\;"><span style="font-size: 11.5pt\; font-family: A
 rial\; color: rgb(32\, 31\, 30)\; font-variant-numeric: normal\; font-vari
 ant-east-asian: normal\; vertical-align: baseline\;"><br></span></p><p dir
 ="ltr" style="margin: 0pt 0px\; color: rgb(51\, 51\, 51)\; font-family: Ab
 el\, sans-serif\; font-size: 14px\; line-height: 1.656\;"><span style="fon
 t-size: 11pt\; font-family: Arial\; color: rgb(34\, 34\, 34)\; font-varian
 t-numeric: normal\; font-variant-east-asian: normal\; vertical-align: base
 line\;"><span style="font-weight: 700\;">&nbsp\;SHOW&nbsp\;</span></span><
 span style="color: rgb(32\, 31\, 30)\; font-family: Arial\; font-size: 15.
 3333px\;"><span style="font-weight: 700\;">APTO TODO PUBLICO</span></span>
 </p></div>
END:VEVENT
END:VCALENDAR
