BEGIN:VCALENDAR
VERSION:2.0
PRODID:-//My Calendar//mxm.dk//
BEGIN:VEVENT
SUMMARY:PATRICIA SOSA - ALQUIMIA 2025
DTSTART:20251116T000000Z
DTEND:20251116T020000Z
DTSTAMP:20260419T094728Z
DESCRIPTION:<p dir="ltr" style="margin: 0pt 0px\; font-family: Abel\, sans
 -serif\; text-align: center\; caret-color: rgb(51\, 51\, 51)\; -webkit-tap
 -highlight-color: rgba(0\, 0\, 0\, 0)\; text-size-adjust: 100%\; line-heig
 ht: 1.656\;"><font color="#201f1e" face="Arial"><span style="font-size: 15
 .3333px\;"><u><b>PATRICIA SOSA<br>PRESENTA: ALQUIMIA 2025<br>EN OLAVARRIA<
 /b></u></span></font></p><p dir="ltr" style="margin: 0pt 0px\; font-family
 : Abel\, sans-serif\; text-align: center\; color: rgb(51\, 51\, 51)\; font
 -size: 14px\; caret-color: rgb(51\, 51\, 51)\; -webkit-tap-highlight-color
 : rgba(0\, 0\, 0\, 0)\; text-size-adjust: 100%\; line-height: 1.656\;"><sp
 an style="font-size: 11.5pt\; font-family: Arial\; color: rgb(32\, 31\, 30
 )\; font-variant-numeric: normal\; font-variant-east-asian: normal\; verti
 cal-align: baseline\;"><br></span></p><p dir="ltr" style="margin: 0pt 0px\
 ; font-family: Abel\, sans-serif\; text-align: center\; color: rgb(51\, 51
 \, 51)\; font-size: 14px\; caret-color: rgb(51\, 51\, 51)\; -webkit-tap-hi
 ghlight-color: rgba(0\, 0\, 0\, 0)\; text-size-adjust: 100%\; line-height:
  1.656\;"><span style="font-size: 11.5pt\; font-family: Arial\; color: rgb
 (32\, 31\, 30)\; font-variant-numeric: normal\; font-variant-east-asian: n
 ormal\; vertical-align: baseline\;">Entradas anticipadas:<br><br></span></
 p><p dir="ltr" style="margin: 0pt 0px\; font-family: Abel\, sans-serif\; t
 ext-align: center\; color: rgb(51\, 51\, 51)\; font-size: 14px\; caret-col
 or: rgb(51\, 51\, 51)\; -webkit-tap-highlight-color: rgba(0\, 0\, 0\, 0)\;
  text-size-adjust: 100%\; line-height: 1.656\;"><u style="color: rgb(34\, 
 34\, 34)\; font-family: Arial\; font-size: 14.6667px\;">POR SISTEMA:<br></
 u><span style="color: rgb(34\, 34\, 34)\; font-family: Arial\; font-size: 
 11pt\;"><b>(Todos los medios de pago)</b></span></p><p dir="ltr" style="ma
 rgin: 0pt 0px\; font-family: Abel\, sans-serif\; text-align: center\; colo
 r: rgb(51\, 51\, 51)\; font-size: 14px\; caret-color: rgb(51\, 51\, 51)\; 
 -webkit-tap-highlight-color: rgba(0\, 0\, 0\, 0)\; text-size-adjust: 100%\
 ; line-height: 1.656\;"><span style="font-weight: 700\; color: rgb(34\, 34
 \, 34)\; font-family: Arial\; font-size: 11pt\;"><br></span></p><p dir="lt
 r" style="margin: 0pt 0px\; font-family: Abel\, sans-serif\; text-align: c
 enter\; color: rgb(51\, 51\, 51)\; font-size: 14px\; caret-color: rgb(51\,
  51\, 51)\; -webkit-tap-highlight-color: rgba(0\, 0\, 0\, 0)\; text-size-a
 djust: 100%\; line-height: 1.656\;"><font color="#222222" face="Arial"><sp
 an style="font-size: 14.6667px\;"><u>Efectivo en:</u></span></font></p><p 
 dir="ltr" style="margin: 0pt 0px\; font-family: Abel\, sans-serif\; text-a
 lign: center\; color: rgb(51\, 51\, 51)\; font-size: 14px\; caret-color: r
 gb(51\, 51\, 51)\; -webkit-tap-highlight-color: rgba(0\, 0\, 0\, 0)\; text
 -size-adjust: 100%\; line-height: 1.656\;"><span style="font-size: 11.5pt\
 ; font-family: Arial\; color: rgb(32\, 31\, 30)\; font-variant-numeric: no
 rmal\; font-variant-east-asian: normal\; vertical-align: baseline\;"><b>Te
 cnoCentro:</b></span><span style="font-size: 11.5pt\; font-family: Arial\;
  color: rgb(32\, 31\, 30)\; font-variant-numeric: normal\; font-variant-ea
 st-asian: normal\; vertical-align: baseline\;"><span style="font-weight: b
 older\;">&nbsp\;</span>Rivadavia 3065 -&nbsp\;<b>Olavarria</b></span></p><
 div style="text-align: center\; -webkit-tap-highlight-color: rgba(0\, 0\, 
 0\, 0)\; text-size-adjust: 100%\; font-family: Arial\, Helvetica\, sans-se
 rif\; font-size: small\; color: rgb(33\, 33\, 33)\;"><i><br></i></div><p d
 ir="ltr" style="margin: 0pt 0px\; font-family: Abel\, sans-serif\; text-al
 ign: center\; color: rgb(51\, 51\, 51)\; font-size: 14px\; caret-color: rg
 b(51\, 51\, 51)\; -webkit-tap-highlight-color: rgba(0\, 0\, 0\, 0)\; text-
 size-adjust: 100%\; line-height: 1.656\;"><span style="font-size: 11pt\; f
 ont-family: Arial\; color: rgb(34\, 34\, 34)\; font-variant-numeric: norma
 l\; font-variant-east-asian: normal\; vertical-align: baseline\;"><u><b>En
 tradas de Discapacidad</b></u></span></p><p dir="ltr" style="margin: 0pt 0
 px\; font-family: Abel\, sans-serif\; text-align: center\; color: rgb(51\,
  51\, 51)\; font-size: 14px\; caret-color: rgb(51\, 51\, 51)\; -webkit-tap
 -highlight-color: rgba(0\, 0\, 0\, 0)\; text-size-adjust: 100%\; line-heig
 ht: 1.656\;"><span style="font-size: 11pt\; font-family: Arial\; color: rg
 b(34\, 34\, 34)\; font-variant-numeric: normal\; font-variant-east-asian: 
 normal\; vertical-align: baseline\;"></span></p><p dir="ltr" style="margin
 : 0pt 0px\; font-family: Abel\, sans-serif\; text-align: center\; color: r
 gb(51\, 51\, 51)\; font-size: 14px\; line-height: 1.656\;"><span style="fo
 nt-size: 11pt\; font-family: Arial\; color: rgb(34\, 34\, 34)\; font-varia
 nt-numeric: normal\; font-variant-east-asian: normal\; vertical-align: bas
 eline\;">Para solicitar entradas de discapacidad por favor&nbsp\;dirigirse
  a la&nbsp\;<b>Boletería del Teatro</b>&nbsp\;de&nbsp\;<b>Lunes a viernes
  de 8:30 a 16hs.</b></span></p><p style="margin: 0pt 0px\; text-align: cen
 ter\; color: rgb(34\, 34\, 34)\; font-family: Arial\, Helvetica\, sans-ser
 if\; font-size: small\; line-height: 1.656\;"><font face="Arial" color="#f
 fffff"><span style="font-size: 14.6667px\; background-color: rgb(103\, 78\
 , 167)\;"><b>Las entradas se podrán&nbsp\;solicitar a partir del 1er día
  hábil del mes corriente del evento.</b></span></font></p><p dir="ltr" st
 yle="margin: 0pt 0px\; font-family: Abel\, sans-serif\; text-align: center
 \; color: rgb(51\, 51\, 51)\; font-size: 14px\; caret-color: rgb(51\, 51\,
  51)\; -webkit-tap-highlight-color: rgba(0\, 0\, 0\, 0)\; text-size-adjust
 : 100%\; line-height: 1.656\;"><span style="font-size: 11pt\; font-family:
  Arial\; color: rgb(34\, 34\, 34)\; font-variant-numeric: normal\; font-va
 riant-east-asian: normal\; vertical-align: baseline\;"><br></span></p><p d
 ir="ltr" style="margin: 0pt 0px\; font-family: Abel\, sans-serif\; text-al
 ign: center\; color: rgb(51\, 51\, 51)\; font-size: 14px\; caret-color: rg
 b(51\, 51\, 51)\; -webkit-tap-highlight-color: rgba(0\, 0\, 0\, 0)\; text-
 size-adjust: 100%\; line-height: 1.38\;"><a href="http://www.articket.com.
 ar/" style="color: rgb(51\, 122\, 183)\;"><span style="font-size: 11.5pt\;
  font-family: Arial\; color: rgb(17\, 85\, 204)\; font-variant-numeric: no
 rmal\; font-variant-east-asian: normal\; text-decoration-line: underline\;
  text-decoration-skip-ink: none\; vertical-align: baseline\;">www.articket
 .com.ar</span></a></p><p style="font-family: Abel\, sans-serif\; text-alig
 n: center\;"><br style="color: rgb(51\, 51\, 51)\; font-size: 14px\; caret
 -color: rgb(51\, 51\, 51)\; -webkit-tap-highlight-color: rgba(0\, 0\, 0\, 
 0)\; text-size-adjust: 100%\;"></p><p dir="ltr" style="margin: 0pt 0px\; f
 ont-family: Abel\, sans-serif\; text-align: center\; color: rgb(51\, 51\, 
 51)\; font-size: 14px\; caret-color: rgb(51\, 51\, 51)\; -webkit-tap-highl
 ight-color: rgba(0\, 0\, 0\, 0)\; text-size-adjust: 100%\; line-height: 1.
 38\;"><span style="font-size: 11pt\; font-family: Arial\; color: rgb(34\, 
 34\, 34)\; font-variant-numeric: normal\; font-variant-east-asian: normal\
 ; vertical-align: baseline\;"><b>APTO TODO PUBLICO</b></span></p><p dir="l
 tr" style="margin: 0pt 0px\; font-family: Abel\, sans-serif\; text-align: 
 center\; color: rgb(51\, 51\, 51)\; font-size: 14px\; caret-color: rgb(51\
 , 51\, 51)\; -webkit-tap-highlight-color: rgba(0\, 0\, 0\, 0)\; text-size-
 adjust: 100%\; line-height: 1.38\;"><span style="font-size: 11pt\; font-fa
 mily: Arial\; color: rgb(34\, 34\, 34)\; font-variant-numeric: normal\; fo
 nt-variant-east-asian: normal\; vertical-align: baseline\;"><b><br></b></s
 pan></p><p dir="ltr" style="margin: 0pt 0px\; font-family: Abel\, sans-ser
 if\; text-align: center\; color: rgb(51\, 51\, 51)\; font-size: 14px\; car
 et-color: rgb(51\, 51\, 51)\; -webkit-tap-highlight-color: rgba(0\, 0\, 0\
 , 0)\; text-size-adjust: 100%\; line-height: 1.38\;"><span style="font-siz
 e: 11pt\; font-family: Arial\; color: rgb(34\, 34\, 34)\; font-variant-num
 eric: normal\; font-variant-east-asian: normal\; vertical-align: baseline\
 ;"><b>---</b></span></p><p dir="ltr" style="margin: 0pt 0px\; font-family:
  Abel\, sans-serif\; text-align: center\; color: rgb(51\, 51\, 51)\; font-
 size: 14px\; caret-color: rgb(51\, 51\, 51)\; -webkit-tap-highlight-color:
  rgba(0\, 0\, 0\, 0)\; text-size-adjust: 100%\; line-height: 1.38\;"><span
  style="font-size: 11pt\; font-family: Arial\; color: rgb(34\, 34\, 34)\; 
 font-variant-numeric: normal\; font-variant-east-asian: normal\; vertical-
 align: baseline\;"><b><br></b></span></p><p dir="ltr" style="margin: 0pt 0
 px\; text-align: center\; -webkit-tap-highlight-color: rgba(0\, 0\, 0\, 0)
 \; text-size-adjust: 100%\; line-height: 1.38\;"><span style="font-variant
 -numeric: normal\; font-variant-east-asian: normal\; vertical-align: basel
 ine\;"><font color="#222222" face="Arial"><span style="font-size: 14.6667p
 x\; caret-color: rgb(51\, 51\, 51)\;"><b>Un viaje musical transformador qu
 e recorrerá todo el país</b><br>Patricia Sosa\, una de las voces más em
 blemáticas y queridas de la música argentina\, inicia su esperada gira n
 acional “ALQUIMIA” en 2025.<br>Dueña de un talento único que puede e
 stallar en la fuerza del rock o conmover con la ternura de una balada\, Pa
 tricia vuelve a encontrarse con<br>su público en un recorrido por todo el
  país. “Alquimia” es también el nombre de su nuevo álbum junto al r
 econocido artista mexicano Manuel Mijares\, que verá<br>la luz a mediados
  de agosto. En este trabajo\, Patricia nos invita a un viaje sonoro donde 
 conviven grandes clásicos ya consagrados\, fusionados con la calidez<br>y
  la fuerza interpretativa que la caracterizan. Un disco necesario para est
 os tiempos\, donde la canción se convierte en un refugio\, en una poesía
  que acompaña y abraza.<br>Como anticipo\, en el mes de julio se lanzará
  el primer adelanto de “Alquimia”\, abriendo el camino hacia un álbum
  que promete emocionar y renovar el vínculo<br>con cada persona que encue
 ntra en la música un sostén y una inspiración. Con “Alquimia”\, Pat
 ricia Sosa se prepara para recorrer los escenarios<br>de la Argentina\, ce
 lebrando la vida\, la música y el encuentro.</span></font></span></p>
END:VEVENT
END:VCALENDAR
