BEGIN:VCALENDAR
VERSION:2.0
PRODID:-//My Calendar//mxm.dk//
BEGIN:VEVENT
SUMMARY:FIESTA RICOTERA XXL - 100x100 REDONDOS
DTSTART:20251019T000000Z
DTEND:20251019T080000Z
DTSTAMP:20260419T141702Z
DESCRIPTION:<p dir="ltr" style="margin: 0pt 0px\; text-align: center\; tex
 t-size-adjust: 100%\; line-height: 1.656\;"><span style="text-align: left\
 ; font-size: 15.3333px\;"><font color="#201f1e" face="Arial"><b><u>SUPERLO
 GICO<br>FIESTA RICOTERA<br>MUESTRA ROCAMBOLE + DJ<br></u></b></font></span
 ><u style="font-size: 15.3333px\; color: rgb(32\, 31\, 30)\; font-family: 
 Arial\;"><span style="font-weight: bolder\;">EN MAR DEL PLATA</span></u></
 p><p dir="ltr" style="margin: 0pt 0px\; font-family: Abel\, sans-serif\; t
 ext-align: center\; text-size-adjust: 100%\; color: rgb(51\, 51\, 51)\; fo
 nt-size: 14px\; line-height: 1.656\;"><font color="#201f1e" face="Arial"><
 span style="font-size: 15.3333px\;"><span style="font-weight: 700\; text-d
 ecoration-line: underline\;"><br></span></span></font></p><p dir="ltr" sty
 le="margin: 0pt 0px\; font-family: Abel\, sans-serif\; text-align: center\
 ; text-size-adjust: 100%\; color: rgb(51\, 51\, 51)\; font-size: 14px\; li
 ne-height: 1.656\;"><font color="#201f1e" face="Arial"><span style="font-s
 ize: 15.3333px\;"><u style="font-weight: 700\;"></u></span></font></p><p d
 ir="ltr" style="margin: 0pt 0px\; font-family: Abel\, sans-serif\; text-al
 ign: center\; text-size-adjust: 100%\; color: rgb(51\, 51\, 51)\; font-siz
 e: 14px\; line-height: 1.656\;"><span style="color: rgb(32\, 31\, 30)\; fo
 nt-family: Arial\; font-size: 11.5pt\;">Entradas anticipadas limitadas en 
 efectivo:</span></p><p dir="ltr" style="margin: 0pt 0px\; font-family: Abe
 l\, sans-serif\; text-align: center\; text-size-adjust: 100%\; color: rgb(
 51\, 51\, 51)\; font-size: 14px\; line-height: 1.656\;"><span style="font-
 size: 11pt\; font-family: Arial\; color: rgb(34\, 34\, 34)\; font-variant-
 numeric: normal\; font-variant-east-asian: normal\; vertical-align: baseli
 ne\;">&nbsp\;</span></p><p dir="ltr" style="margin: 0pt 0px\; font-family:
  Abel\, sans-serif\; text-align: center\; text-size-adjust: 100%\; color: 
 rgb(51\, 51\, 51)\; font-size: 14px\; line-height: 1.656\;"><span style="f
 ont-size: 11.5pt\; font-family: Arial\; color: rgb(32\, 31\, 30)\; font-we
 ight: 700\; font-variant-numeric: normal\; font-variant-east-asian: normal
 \; vertical-align: baseline\;">La Casa de las Guitarras:</span><span style
 ="font-size: 11.5pt\; font-family: Arial\; color: rgb(32\, 31\, 30)\; font
 -variant-numeric: normal\; font-variant-east-asian: normal\; vertical-alig
 n: baseline\;">&nbsp\;Belgrano 3420 - Mar del Plata</span></p><p dir="ltr"
  style="margin: 0pt 0px\; font-family: Abel\, sans-serif\; text-align: cen
 ter\; text-size-adjust: 100%\; color: rgb(51\, 51\, 51)\; font-size: 14px\
 ; line-height: 1.656\;"><span style="font-size: 11.5pt\; font-family: Aria
 l\; color: rgb(32\, 31\, 30)\; font-weight: 700\; font-variant-numeric: no
 rmal\; font-variant-east-asian: normal\; vertical-align: baseline\;">CONEX
 :&nbsp\;</span><span style="font-size: 11.5pt\; font-family: Arial\; color
 : rgb(32\, 31\, 30)\; font-variant-numeric: normal\; font-variant-east-asi
 an: normal\; vertical-align: baseline\;">San Martín 3263 - Mar del Plata<
 /span></p><div style="font-family: Abel\, sans-serif\; text-align: center\
 ;"><span style="caret-color: rgb(51\, 51\, 51)\; font-size: 11.5pt\; font-
 family: Arial\; color: rgb(32\, 31\, 30)\; font-variant-numeric: normal\; 
 font-variant-east-asian: normal\; vertical-align: baseline\;"><span style=
 "font-weight: 700\;"><br></span></span></div><p dir="ltr" style="margin: 0
 pt 0px\; font-family: Abel\, sans-serif\; text-align: center\; text-size-a
 djust: 100%\; color: rgb(51\, 51\, 51)\; font-size: 14px\; line-height: 1.
 38\;"><a href="http://www.articket.com.ar/" style="color: rgb(51\, 122\, 1
 83)\;"><span style="font-size: 11.5pt\; font-family: Arial\; color: rgb(17
 \, 85\, 204)\; font-variant-numeric: normal\; font-variant-east-asian: nor
 mal\; text-decoration-line: underline\; text-decoration-skip-ink: none\; v
 ertical-align: baseline\;">www.articket.com.ar</span></a></p><p class="Mso
 Normal" style="margin-right: 0px\; margin-bottom: 10pt\; margin-left: 0px\
 ; text-align: center\; text-size-adjust: 100%\; color: rgb(34\, 34\, 34)\;
  font-family: Arial\, Helvetica\, sans-serif\; font-size: small\; line-hei
 ght: 14.95px\;"><span style="font-family: Calibri\, sans-serif\;"><br></sp
 an></p><p class="MsoNormal" style="margin-right: 0px\; margin-bottom: 10pt
 \; margin-left: 0px\; text-align: center\; text-size-adjust: 100%\; color:
  rgb(34\, 34\, 34)\; font-family: Arial\, Helvetica\, sans-serif\; font-si
 ze: small\; line-height: 14.95px\;"><span style="font-family: Calibri\, sa
 ns-serif\;"><span style="font-weight: 700\; font-family: Arial\; font-size
 : 14.6667px\;">EVENTO APTO MAYORES 18 AÑOS</span></span></p><p class="Mso
 Normal" style="margin-right: 0px\; margin-bottom: 10pt\; margin-left: 0px\
 ; text-align: center\; text-size-adjust: 100%\; color: rgb(34\, 34\, 34)\;
  font-family: Arial\, Helvetica\, sans-serif\; font-size: small\; line-hei
 ght: 14.95px\;"><span style="font-family: Calibri\, sans-serif\;"><span st
 yle="font-weight: 700\; font-family: Arial\; font-size: 14.6667px\;">Asist
 ir con el HardTicket en mano o el QR descargado en el celular.<br>No se ac
 eptan cambios ni devoluciones.</span></span></p>
END:VEVENT
END:VCALENDAR
