BEGIN:VCALENDAR
VERSION:2.0
PRODID:-//My Calendar//mxm.dk//
BEGIN:VEVENT
SUMMARY:HILDA CANTA CHARLY EN CASA ROCK
DTSTART:20251013T000000Z
DTEND:20251013T025500Z
DTSTAMP:20260422T160920Z
DESCRIPTION:<p dir="ltr" style="margin: 0pt 0px\; text-align: center\; lin
 e-height: 1.656\;"><font color="#201f1e" face="Arial"><span style="font-si
 ze: 15.3333px\; white-space-collapse: preserve\;"><b><u>HILDA CANTA CHARLY
 </u></b></span></font></p><p dir="ltr" style="margin: 0pt 0px\; text-align
 : center\; line-height: 1.656\;"><font color="#201f1e" face="Arial"><span 
 style="font-size: 15.3333px\; white-space-collapse: preserve\;"><b><u></u>
 </b></span></font></p><p dir="ltr" style="margin: 0pt 0px\; text-align: ce
 nter\; line-height: 1.656\;"><font color="#201f1e" face="Arial"><span styl
 e="font-size: 15.3333px\; white-space-collapse: preserve\;"><b><u>Dirigido
  por LITO VITALE</u></b></span></font></p><p dir="ltr" style="margin: 0pt 
 0px\; text-align: center\; line-height: 1.656\;"><font color="#201f1e" fac
 e="Arial"><span style="font-size: 15.3333px\; white-space-collapse: preser
 ve\;"><span style="font-weight: bolder\;"><u>EN CASA ROCK</u></span></span
 ></font></p><p dir="ltr" style="margin: 0pt 0px\; font-family: Abel\, sans
 -serif\; text-align: center\; color: rgb(51\, 51\, 51)\; font-size: 14px\;
  line-height: 1.656\;"><font color="#201f1e" face="Arial"><span style="fon
 t-size: 15.3333px\; white-space-collapse: preserve\;"><span style="font-we
 ight: 700\;"><u><span style="color: rgb(34\, 34\, 34)\; font-family: Arial
 \, Helvetica\, sans-serif\; font-size: small\; font-weight: 400\; text-ali
 gn: start\; white-space-collapse: collapse\;"><br></span></u></span></span
 ></font></p><p dir="ltr" style="margin: 0pt 0px\; font-family: Abel\, sans
 -serif\; text-align: center\; color: rgb(51\, 51\, 51)\; font-size: 14px\;
  line-height: 1.656\;"><span style="font-size: 11.5pt\; font-family: Arial
 \; color: rgb(32\, 31\, 30)\; background-color: transparent\; font-variant
 -numeric: normal\; font-variant-east-asian: normal\; vertical-align: basel
 ine\; white-space-collapse: preserve\;">Entradas anticipadas limitadas en 
 efectivo:</span></p><p dir="ltr" style="margin: 0pt 0px\; font-family: Abe
 l\, sans-serif\; text-align: center\; color: rgb(51\, 51\, 51)\; font-size
 : 14px\; line-height: 1.656\;"><span style="font-size: 11pt\; font-family:
  Arial\; color: rgb(34\, 34\, 34)\; background-color: transparent\; font-v
 ariant-numeric: normal\; font-variant-east-asian: normal\; vertical-align:
  baseline\; white-space-collapse: preserve\;">&nbsp\;</span></p><p dir="lt
 r" style="margin: 0pt 0px\; font-family: Abel\, sans-serif\; text-align: c
 enter\; color: rgb(51\, 51\, 51)\; font-size: 14px\; line-height: 1.656\;"
 ><span style="font-size: 11.5pt\; font-family: Arial\; color: rgb(32\, 31\
 , 30)\; background-color: transparent\; font-variant-numeric: normal\; fon
 t-variant-east-asian: normal\; vertical-align: baseline\; white-space-coll
 apse: preserve\;"><span style="font-weight: bolder\;">La Casa de las Guita
 rras:</span></span><span style="font-size: 11.5pt\; font-family: Arial\; c
 olor: rgb(32\, 31\, 30)\; background-color: transparent\; font-variant-num
 eric: normal\; font-variant-east-asian: normal\; vertical-align: baseline\
 ; white-space-collapse: preserve\;"> Belgrano 3420 - Mar del Plata</span><
 /p><p dir="ltr" style="margin: 0pt 0px\; font-family: Abel\, sans-serif\; 
 text-align: center\; color: rgb(51\, 51\, 51)\; font-size: 14px\; line-hei
 ght: 1.656\;"><span style="font-size: 11.5pt\; font-family: Arial\; color:
  rgb(32\, 31\, 30)\; background-color: transparent\; font-variant-numeric:
  normal\; font-variant-east-asian: normal\; vertical-align: baseline\; whi
 te-space-collapse: preserve\;"><span style="font-weight: bolder\;">CONEX:<
 /span></span><span style="font-size: 11.5pt\; font-family: Arial\; color: 
 rgb(32\, 31\, 30)\; background-color: transparent\; font-weight: 700\; fon
 t-variant-numeric: normal\; font-variant-east-asian: normal\; vertical-ali
 gn: baseline\; white-space-collapse: preserve\;"> </span><span style="font
 -size: 11.5pt\; font-family: Arial\; color: rgb(32\, 31\, 30)\; background
 -color: transparent\; font-variant-numeric: normal\; font-variant-east-asi
 an: normal\; vertical-align: baseline\; white-space-collapse: preserve\;">
 San Martín 3263 - Mar del Plata</span></p><p dir="ltr" style="margin: 0pt
  0px\; font-family: Abel\, sans-serif\; text-align: center\; color: rgb(51
 \, 51\, 51)\; font-size: 14px\; line-height: 1.656\;"><span style="font-si
 ze: 11pt\; font-family: Arial\; color: rgb(34\, 34\, 34)\; background-colo
 r: transparent\; font-variant-numeric: normal\; font-variant-east-asian: n
 ormal\; vertical-align: baseline\; white-space-collapse: preserve\;">&nbsp
 \;</span></p><p dir="ltr" style="margin: 0pt 0px\; font-family: Abel\, san
 s-serif\; text-align: center\; color: rgb(51\, 51\, 51)\; font-size: 14px\
 ; line-height: 1.38\;"><a href="http://www.articket.com.ar/" style="color:
  rgb(51\, 122\, 183)\;"><span style="font-size: 11.5pt\; font-family: Aria
 l\; color: rgb(17\, 85\, 204)\; font-variant-numeric: normal\; font-varian
 t-east-asian: normal\; text-decoration-line: underline\; text-decoration-s
 kip-ink: none\; vertical-align: baseline\; white-space-collapse: preserve\
 ;">www.articket.com.ar</span></a></p><p dir="ltr" style="margin: 0pt 0px\;
  font-family: Abel\, sans-serif\; text-align: center\; color: rgb(51\, 51\
 , 51)\; font-size: 14px\; line-height: 1.656\;"><br></p><p dir="ltr" style
 ="margin: 0pt 0px\; font-family: Abel\, sans-serif\; text-align: center\; 
 color: rgb(51\, 51\, 51)\; font-size: 14px\; line-height: 1.38\;"><span st
 yle="font-size: 11pt\; font-family: Arial\; color: rgb(34\, 34\, 34)\; fon
 t-variant-numeric: normal\; font-variant-east-asian: normal\; vertical-ali
 gn: baseline\; white-space-collapse: preserve\;"><span style="font-weight:
  bolder\;">APTO TODO PUBLICO</span></span></p>
END:VEVENT
END:VCALENDAR
