BEGIN:VCALENDAR
VERSION:2.0
PRODID:-//My Calendar//mxm.dk//
BEGIN:VEVENT
SUMMARY:PILF EN BREW HOUSE
DTSTART:20251025T220000Z
DTEND:20251026T025500Z
DTSTAMP:20260421T070250Z
DESCRIPTION:<div style="text-align: center\; text-size-adjust: 100%\;"><fo
 nt color="#222222" face="Arial"><span style="font-size: 14.6667px\; caret-
 color: rgb(34\, 34\, 34)\;"><b><u>PILF - SWAGGER<br>EN BREWHOUSE<br><br></
 u></b></span></font></div><div style="font-family: Abel\, sans-serif\; tex
 t-align: center\; text-size-adjust: 100%\; font-size: 14px\; color: rgb(34
 \, 34\, 34)\;"><font face="Arial"><span style="font-size: 14.6667px\;"><di
 v style="font-family: Arial\, Helvetica\, sans-serif\; font-size: small\;"
 ><span style="text-align: start\; color: rgb(0\, 0\, 0)\; font-family: -ap
 ple-system\, BlinkMacSystemFont\, &quot\;Segoe UI&quot\;\, Roboto\, Helvet
 ica\, Arial\, sans-serif\; font-size: 14px\;">1500 mts -&nbsp\; Tour de F
 ábrica Cervecería</span><br style="text-align: start\; color: rgb(0\, 0\
 , 0)\; font-family: -apple-system\, BlinkMacSystemFont\, &quot\;Segoe UI&q
 uot\;\, Roboto\, Helvetica\, Arial\, sans-serif\; font-size: 14px\;"><span
  style="text-align: start\; color: rgb(0\, 0\, 0)\; font-family: -apple-sy
 stem\, BlinkMacSystemFont\, &quot\;Segoe UI&quot\;\, Roboto\, Helvetica\, 
 Arial\, sans-serif\; font-size: 14px\;">40 canillas Cerveza Artesanal</spa
 n><br style="text-align: start\; color: rgb(0\, 0\, 0)\; font-family: -app
 le-system\, BlinkMacSystemFont\, &quot\;Segoe UI&quot\;\, Roboto\, Helveti
 ca\, Arial\, sans-serif\; font-size: 14px\;"><span style="text-align: star
 t\; color: rgb(0\, 0\, 0)\; font-family: -apple-system\, BlinkMacSystemFon
 t\, &quot\;Segoe UI&quot\;\, Roboto\, Helvetica\, Arial\, sans-serif\; fon
 t-size: 14px\;">Barra El Chiringuito Bar</span><br style="text-align: star
 t\; color: rgb(0\, 0\, 0)\; font-family: -apple-system\, BlinkMacSystemFon
 t\, &quot\;Segoe UI&quot\;\, Roboto\, Helvetica\, Arial\, sans-serif\; fon
 t-size: 14px\;"><span style="text-align: start\; color: rgb(0\, 0\, 0)\; f
 ont-family: -apple-system\, BlinkMacSystemFont\, &quot\;Segoe UI&quot\;\, 
 Roboto\, Helvetica\, Arial\, sans-serif\; font-size: 14px\;">AntiGaleria d
 e Arte ok</span><br style="text-align: start\; color: rgb(0\, 0\, 0)\; fon
 t-family: -apple-system\, BlinkMacSystemFont\, &quot\;Segoe UI&quot\;\, Ro
 boto\, Helvetica\, Arial\, sans-serif\; font-size: 14px\;"><span style="te
 xt-align: start\; color: rgb(0\, 0\, 0)\; font-family: -apple-system\, Bli
 nkMacSystemFont\, &quot\;Segoe UI&quot\;\, Roboto\, Helvetica\, Arial\, sa
 ns-serif\; font-size: 14px\;">Foodtrucks</span><br style="text-align: star
 t\; color: rgb(0\, 0\, 0)\; font-family: -apple-system\, BlinkMacSystemFon
 t\, &quot\;Segoe UI&quot\;\, Roboto\, Helvetica\, Arial\, sans-serif\; fon
 t-size: 14px\;"><span style="text-align: start\; color: rgb(0\, 0\, 0)\; f
 ont-family: -apple-system\, BlinkMacSystemFont\, &quot\;Segoe UI&quot\;\, 
 Roboto\, Helvetica\, Arial\, sans-serif\; font-size: 14px\;">Música en Vi
 vo</span><br style="text-align: start\; color: rgb(0\, 0\, 0)\; font-famil
 y: -apple-system\, BlinkMacSystemFont\, &quot\;Segoe UI&quot\;\, Roboto\, 
 Helvetica\, Arial\, sans-serif\; font-size: 14px\;"><span style="text-alig
 n: start\; color: rgb(0\, 0\, 0)\; font-family: -apple-system\, BlinkMacSy
 stemFont\, &quot\;Segoe UI&quot\;\, Roboto\, Helvetica\, Arial\, sans-seri
 f\; font-size: 14px\;">Seguridad</span></div></span></font></div><div styl
 e="text-align: center\; text-size-adjust: 100%\; color: rgb(34\, 34\, 34)\
 ; font-family: Arial\, Helvetica\, sans-serif\; font-size: small\;"><span 
 style="font-weight: 700\;"><br></span><p dir="ltr" style="margin: 0pt 0px\
 ; color: rgb(51\, 51\, 51)\; font-family: Abel\, sans-serif\; font-size: 1
 4px\; line-height: 1.656\;"><span style="font-size: 11.5pt\; font-family: 
 Arial\; color: rgb(32\, 31\, 30)\; font-variant-numeric: normal\; font-var
 iant-east-asian: normal\; vertical-align: baseline\;">Entradas anticipadas
  limitadas en efectivo:</span></p><p dir="ltr" style="margin: 0pt 0px\; co
 lor: rgb(51\, 51\, 51)\; font-family: Abel\, sans-serif\; font-size: 14px\
 ; line-height: 1.656\;"><span style="font-size: 11pt\; font-family: Arial\
 ; color: rgb(34\, 34\, 34)\; font-variant-numeric: normal\; font-variant-e
 ast-asian: normal\; vertical-align: baseline\;">&nbsp\;</span></p><p dir="
 ltr" style="margin: 0pt 0px\; color: rgb(51\, 51\, 51)\; font-family: Abel
 \, sans-serif\; font-size: 14px\; line-height: 1.656\;"><span style="font-
 size: 11.5pt\; font-family: Arial\; color: rgb(32\, 31\, 30)\; font-weight
 : 700\; font-variant-numeric: normal\; font-variant-east-asian: normal\; v
 ertical-align: baseline\;">La Casa de las Guitarras:</span><span style="fo
 nt-size: 11.5pt\; font-family: Arial\; color: rgb(32\, 31\, 30)\; font-var
 iant-numeric: normal\; font-variant-east-asian: normal\; vertical-align: b
 aseline\;">&nbsp\;Belgrano 3420 - Mar del Plata</span></p><p dir="ltr" sty
 le="margin: 0pt 0px\; font-family: Abel\, sans-serif\; color: rgb(51\, 51\
 , 51)\; font-size: 14px\; line-height: 1.656\;"><span style="font-size: 11
 .5pt\; font-family: Arial\; color: rgb(32\, 31\, 30)\; background-color: t
 ransparent\; font-variant-numeric: normal\; font-variant-east-asian: norma
 l\; vertical-align: baseline\; white-space-collapse: preserve\;"><span sty
 le="font-weight: bolder\;">FAVA Casa Central:</span></span><span style="fo
 nt-size: 11.5pt\; font-family: Arial\; color: rgb(32\, 31\, 30)\; backgrou
 nd-color: transparent\; font-weight: 700\; font-variant-numeric: normal\; 
 font-variant-east-asian: normal\; vertical-align: baseline\; white-space-c
 ollapse: preserve\;"> </span><span style="font-size: 11.5pt\; font-family:
  Arial\; color: rgb(32\, 31\, 30)\; background-color: transparent\; font-v
 ariant-numeric: normal\; font-variant-east-asian: normal\; vertical-align:
  baseline\; white-space-collapse: preserve\;">Av. Pedro Luro 3247 - Mar de
 l Plata</span></p><p dir="ltr" style="margin: 0pt 0px\; color: rgb(51\, 51
 \, 51)\; font-family: Abel\, sans-serif\; font-size: 14px\; line-height: 1
 .656\;"><span style="font-size: 11.5pt\; font-family: Arial\; color: rgb(3
 2\, 31\, 30)\; font-weight: 700\; font-variant-numeric: normal\; font-vari
 ant-east-asian: normal\; vertical-align: baseline\;">ADN Store:</span><spa
 n style="font-size: 11.5pt\; font-family: Arial\; color: rgb(32\, 31\, 30)
 \; font-variant-numeric: normal\; font-variant-east-asian: normal\; vertic
 al-align: baseline\;">&nbsp\;Calle 61 N° 2813 - Necochea</span></p><p dir
 ="ltr" style="margin: 0pt 0px\; color: rgb(51\, 51\, 51)\; font-family: Ab
 el\, sans-serif\; font-size: 14px\; line-height: 1.656\;"><br></p><p dir="
 ltr" style="margin: 0pt 0px\; color: rgb(51\, 51\, 51)\; font-family: Abel
 \, sans-serif\; font-size: 14px\; line-height: 1.656\;"><u style="font-fam
 ily: Arial\; color: rgb(34\, 34\, 34)\; font-size: 14.6667px\; caret-color
 : rgb(51\, 51\, 51)\;"><span style="font-weight: bolder\;">Entradas de Dis
 capacidad</span><br></u><span style="font-family: Arial\; color: rgb(34\, 
 34\, 34)\; font-size: 14.6667px\;">Para solicitar entradas de discapacidad
  por favor enviar un mail a&nbsp\;<span style="font-weight: bolder\;">acre
 ditaciones@refgroup.com.ar</span></span></p><p dir="ltr" style="margin: 0p
 t 0px\; color: rgb(51\, 51\, 51)\; font-family: Abel\, sans-serif\; font-s
 ize: 14px\; line-height: 1.656\;"><span style="font-family: Arial\; color:
  rgb(34\, 34\, 34)\; font-size: 14.6667px\;"><span style="font-weight: bol
 der\;"><br></span></span></p><p dir="ltr" style="margin: 0pt 0px\; color: 
 rgb(51\, 51\, 51)\; font-family: Abel\, sans-serif\; font-size: 14px\; lin
 e-height: 1.656\;"><span style="font-size: 11.5pt\; font-family: Arial\; c
 olor: rgb(32\, 31\, 30)\; font-variant-numeric: normal\; font-variant-east
 -asian: normal\; vertical-align: baseline\;"><span style="color: rgb(17\, 
 85\, 204)\; text-decoration-line: underline\; font-size: 11.5pt\; font-var
 iant-numeric: normal\; font-variant-east-asian: normal\; text-decoration-s
 kip-ink: none\; vertical-align: baseline\;"><a href="http://www.articket.c
 om.ar/" style="color: rgb(51\, 122\, 183)\; font-family: Abel\, sans-serif
 \; font-size: 14px\;">www.articket.com.ar</a></span></span></p><p dir="ltr
 " style="margin: 0pt 0px\; color: rgb(51\, 51\, 51)\; font-family: Abel\, 
 sans-serif\; font-size: 14px\; line-height: 1.656\;"><span style="font-siz
 e: 11.5pt\; font-family: Arial\; color: rgb(32\, 31\, 30)\; font-variant-n
 umeric: normal\; font-variant-east-asian: normal\; vertical-align: baselin
 e\;"><br></span></p><p dir="ltr" style="margin: 0pt 0px\; color: rgb(51\, 
 51\, 51)\; font-family: Abel\, sans-serif\; font-size: 14px\; line-height:
  1.656\;"><span style="font-size: 11pt\; font-family: Arial\; color: rgb(3
 4\, 34\, 34)\; font-variant-numeric: normal\; font-variant-east-asian: nor
 mal\; vertical-align: baseline\;"><span style="font-weight: 700\;">&nbsp\;
 SHOW&nbsp\;</span></span><span style="color: rgb(32\, 31\, 30)\; font-fami
 ly: Arial\; font-size: 15.3333px\;"><span style="font-weight: 700\;">APTO 
 MAYORES 3 AÑOS</span></span></p></div>
END:VEVENT
END:VCALENDAR
