BEGIN:VCALENDAR
VERSION:2.0
PRODID:-//My Calendar//mxm.dk//
BEGIN:VEVENT
SUMMARY:LARRY ZABALA EN ABBEY ROAD
DTSTART:20260510T000000Z
DTEND:20260510T080000Z
DTSTAMP:20260424T125840Z
DESCRIPTION:<p dir="ltr" style="margin: 0pt 0px\; text-align: center\; tex
 t-size-adjust: 100%\; line-height: 1.656\;"><span style="text-align: left\
 ; font-size: 15.3333px\;"><font color="#201f1e" face="Arial"><span style="
 font-weight: bolder\;"><u>LARRY ZABALA EN MAR DEL PLATA</u></span></font><
 /span><font color="#201f1e" face="Arial"><span style="font-size: 15.3333px
 \;"><span style="font-weight: bolder\;"><u><br></u></span></span></font></
 p><p dir="ltr" style="margin: 0pt 0px\; font-family: Abel\, sans-serif\; t
 ext-align: center\; text-size-adjust: 100%\; color: rgb(51\, 51\, 51)\; fo
 nt-size: 14px\; line-height: 1.656\;"><font color="#201f1e" face="Arial"><
 span style="font-size: 15.3333px\;"><span style="font-weight: 700\;"><u><s
 pan style="color: rgb(34\, 34\, 34)\; font-family: Arial\, Helvetica\, san
 s-serif\; font-size: small\; font-weight: 400\; text-align: start\;"><br><
 /span></u></span></span></font></p><p dir="ltr" style="margin: 0pt 0px\; f
 ont-family: Abel\, sans-serif\; text-align: center\; text-size-adjust: 100
 %\; color: rgb(51\, 51\, 51)\; font-size: 14px\; line-height: 1.656\;"><sp
 an style="font-size: 11.5pt\; font-family: Arial\; color: rgb(32\, 31\, 30
 )\; font-variant-numeric: normal\; font-variant-east-asian: normal\; verti
 cal-align: baseline\;">Entradas anticipadas limitadas en efectivo:</span><
 /p><p dir="ltr" style="margin: 0pt 0px\; font-family: Abel\, sans-serif\; 
 text-align: center\; text-size-adjust: 100%\; color: rgb(51\, 51\, 51)\; f
 ont-size: 14px\; line-height: 1.656\;"><span style="font-size: 11pt\; font
 -family: Arial\; color: rgb(34\, 34\, 34)\; font-variant-numeric: normal\;
  font-variant-east-asian: normal\; vertical-align: baseline\;">&nbsp\;</sp
 an></p><p dir="ltr" style="margin: 0pt 0px\; font-family: Abel\, sans-seri
 f\; text-align: center\; text-size-adjust: 100%\; color: rgb(51\, 51\, 51)
 \; font-size: 14px\; line-height: 1.656\;"><span style="font-size: 11.5pt\
 ; font-family: Arial\; color: rgb(32\, 31\, 30)\; font-weight: 700\; font-
 variant-numeric: normal\; font-variant-east-asian: normal\; vertical-align
 : baseline\;">La Casa de las Guitarras:</span><span style="font-size: 11.5
 pt\; font-family: Arial\; color: rgb(32\, 31\, 30)\; font-variant-numeric:
  normal\; font-variant-east-asian: normal\; vertical-align: baseline\;">&n
 bsp\;Belgrano 3420 - Mar del Plata</span></p><p dir="ltr" style="margin: 0
 pt 0px\; font-family: Abel\, sans-serif\; text-align: center\; color: rgb(
 51\, 51\, 51)\; font-size: 14px\; line-height: 1.656\;"><span style="font-
 size: 11.5pt\; font-family: Arial\; color: rgb(32\, 31\, 30)\; background-
 color: transparent\; font-variant-numeric: normal\; font-variant-east-asia
 n: normal\; vertical-align: baseline\; white-space-collapse: preserve\;"><
 span style="font-weight: bolder\;">FAVA Casa Central:</span></span><span s
 tyle="font-size: 11.5pt\; font-family: Arial\; color: rgb(32\, 31\, 30)\; 
 background-color: transparent\; font-weight: 700\; font-variant-numeric: n
 ormal\; font-variant-east-asian: normal\; vertical-align: baseline\; white
 -space-collapse: preserve\;"> </span><span style="font-size: 11.5pt\; font
 -family: Arial\; color: rgb(32\, 31\, 30)\; background-color: transparent\
 ; font-variant-numeric: normal\; font-variant-east-asian: normal\; vertica
 l-align: baseline\; white-space-collapse: preserve\;">Av. Pedro Luro 3247 
 - Mar del Plata</span></p><div><span style="font-size: 11.5pt\; font-famil
 y: Arial\; color: rgb(32\, 31\, 30)\; background-color: transparent\; font
 -variant-numeric: normal\; font-variant-east-asian: normal\; vertical-alig
 n: baseline\; white-space-collapse: preserve\;"><br></span></div><p dir="l
 tr" style="margin: 0pt 0px\; font-family: Abel\, sans-serif\; text-align: 
 center\; text-size-adjust: 100%\; color: rgb(51\, 51\, 51)\; font-size: 14
 px\; line-height: 1.38\;"><a href="http://www.articket.com.ar/" style="col
 or: rgb(51\, 122\, 183)\;"><span style="font-size: 11.5pt\; font-family: A
 rial\; color: rgb(17\, 85\, 204)\; font-variant-numeric: normal\; font-var
 iant-east-asian: normal\; text-decoration-line: underline\; text-decoratio
 n-skip-ink: none\; vertical-align: baseline\;">www.articket.com.ar</span><
 /a></p><p dir="ltr" style="margin: 0pt 0px\; font-family: Abel\, sans-seri
 f\; text-align: center\; text-size-adjust: 100%\; color: rgb(51\, 51\, 51)
 \; font-size: 14px\; line-height: 1.656\;"><br></p><p dir="ltr" style="mar
 gin: 0pt 0px\; font-family: Abel\, sans-serif\; text-align: center\; text-
 size-adjust: 100%\; color: rgb(51\, 51\, 51)\; font-size: 14px\; line-heig
 ht: 1.38\;"><span style="caret-color: rgb(34\, 34\, 34)\; color: rgb(34\, 
 34\, 34)\; font-family: Arial\; font-size: 14.6667px\; font-weight: 700\; 
 white-space-collapse: preserve\;">EVENTO ATP</span></p><p dir="ltr" style=
 "margin: 0pt 0px\; font-family: Abel\, sans-serif\; text-align: center\; t
 ext-size-adjust: 100%\; color: rgb(51\, 51\, 51)\; font-size: 14px\; line-
 height: 1.38\;"><span style="caret-color: rgb(34\, 34\, 34)\; color: rgb(3
 4\, 34\, 34)\; font-family: Arial\; font-size: 14.6667px\; font-weight: 70
 0\; white-space-collapse: preserve\;"><br></span></p><p dir="ltr" style="m
 argin: 0pt 0px\; text-align: center\; line-height: 1.38\;"><font face="Abe
 l\, sans-serif" color="#9c9c94"><span style="font-size: 12px\;">PROMO BANC
 O PROVINCIA CONDICIONES:&nbsp\;<a href="https://tr.ee/89uSGj" target="_bla
 nk">https://tr.ee/89uSGj</a></span></font></p><p dir="ltr" style="margin: 
 0pt 0px\; text-align: center\; line-height: 1.38\;"><br style="font-family
 : Abel\, sans-serif\;"></p>
END:VEVENT
END:VCALENDAR
