BEGIN:VCALENDAR
VERSION:2.0
PRODID:-//My Calendar//mxm.dk//
BEGIN:VEVENT
SUMMARY:MALA SANGRE EN CASA ROCK
DTSTART:20251109T000000Z
DTEND:20251109T030000Z
DTSTAMP:20260422T123530Z
DESCRIPTION:<p dir="ltr" style="margin: 0pt 0px\; text-align: center\; lin
 e-height: 1.656\;"><font color="#201f1e" face="Arial"><span style="font-si
 ze: 15.3333px\; white-space-collapse: preserve\;"><b><u>MALA SANGRE</u></b
 ></span></font></p><p dir="ltr" style="margin: 0pt 0px\; text-align: cente
 r\; line-height: 1.656\;"><font color="#201f1e" face="Arial"><span style="
 font-size: 15.3333px\; white-space-collapse: preserve\;"><span style="font
 -weight: bolder\;"><u>EN CASA ROCK</u></span></span></font></p><p dir="ltr
 " style="margin: 0pt 0px\; font-family: Abel\, sans-serif\; text-align: ce
 nter\; color: rgb(51\, 51\, 51)\; font-size: 14px\; line-height: 1.656\;">
 <font color="#201f1e" face="Arial"><span style="font-size: 15.3333px\; whi
 te-space-collapse: preserve\;"><span style="font-weight: 700\;"><u><span s
 tyle="color: rgb(34\, 34\, 34)\; font-family: Arial\, Helvetica\, sans-ser
 if\; font-size: small\; font-weight: 400\; text-align: start\; white-space
 -collapse: collapse\;"><br></span></u></span></span></font></p><p dir="ltr
 " style="margin: 0pt 0px\; font-family: Abel\, sans-serif\; text-align: ce
 nter\; color: rgb(51\, 51\, 51)\; font-size: 14px\; line-height: 1.656\;">
 <span style="font-size: 11.5pt\; font-family: Arial\; color: rgb(32\, 31\,
  30)\; background-color: transparent\; font-variant-numeric: normal\; font
 -variant-east-asian: normal\; vertical-align: baseline\; white-space-colla
 pse: preserve\;">Entradas anticipadas limitadas en efectivo:</span></p><p 
 dir="ltr" style="margin: 0pt 0px\; font-family: Abel\, sans-serif\; text-a
 lign: center\; color: rgb(51\, 51\, 51)\; font-size: 14px\; line-height: 1
 .656\;"><span style="font-size: 11pt\; font-family: Arial\; color: rgb(34\
 , 34\, 34)\; background-color: transparent\; font-variant-numeric: normal\
 ; font-variant-east-asian: normal\; vertical-align: baseline\; white-space
 -collapse: preserve\;">&nbsp\;</span></p><p dir="ltr" style="margin: 0pt 0
 px\; font-family: Abel\, sans-serif\; text-align: center\; color: rgb(51\,
  51\, 51)\; font-size: 14px\; line-height: 1.656\;"><span style="font-size
 : 11.5pt\; font-family: Arial\; color: rgb(32\, 31\, 30)\; background-colo
 r: transparent\; font-variant-numeric: normal\; font-variant-east-asian: n
 ormal\; vertical-align: baseline\; white-space-collapse: preserve\;"><span
  style="font-weight: bolder\;">La Casa de las Guitarras:</span></span><spa
 n style="font-size: 11.5pt\; font-family: Arial\; color: rgb(32\, 31\, 30)
 \; background-color: transparent\; font-variant-numeric: normal\; font-var
 iant-east-asian: normal\; vertical-align: baseline\; white-space-collapse:
  preserve\;"> Belgrano 3420 - Mar del Plata</span></p><p dir="ltr" style="
 margin: 0pt 0px\; font-family: Abel\, sans-serif\; text-align: center\; co
 lor: rgb(51\, 51\, 51)\; font-size: 14px\; line-height: 1.656\;"><span sty
 le="font-size: 11.5pt\; font-family: Arial\; color: rgb(32\, 31\, 30)\; ba
 ckground-color: transparent\; font-variant-numeric: normal\; font-variant-
 east-asian: normal\; vertical-align: baseline\; white-space-collapse: pres
 erve\;"><span style="font-weight: bolder\;">FAVA Casa Central:</span></spa
 n><span style="font-size: 11.5pt\; font-family: Arial\; color: rgb(32\, 31
 \, 30)\; background-color: transparent\; font-weight: 700\; font-variant-n
 umeric: normal\; font-variant-east-asian: normal\; vertical-align: baselin
 e\; white-space-collapse: preserve\;"> </span><span style="font-size: 11.5
 pt\; font-family: Arial\; color: rgb(32\, 31\, 30)\; background-color: tra
 nsparent\; font-variant-numeric: normal\; font-variant-east-asian: normal\
 ; vertical-align: baseline\; white-space-collapse: preserve\;">Av. Pedro L
 uro 3247 - Mar del Plata</span></p><p dir="ltr" style="margin: 0pt 0px\; f
 ont-family: Abel\, sans-serif\; text-align: center\; color: rgb(51\, 51\, 
 51)\; font-size: 14px\; line-height: 1.656\;"><span style="background-colo
 r: transparent\; color: rgb(34\, 34\, 34)\; font-family: Arial\; font-size
 : 11pt\; white-space-collapse: preserve\;">&nbsp\;</span></p><p dir="ltr" 
 style="margin: 0pt 0px\; font-family: Abel\, sans-serif\; text-align: cent
 er\; color: rgb(51\, 51\, 51)\; font-size: 14px\; line-height: 1.38\;"><a 
 href="http://www.articket.com.ar/" style="color: rgb(51\, 122\, 183)\;"><s
 pan style="font-size: 11.5pt\; font-family: Arial\; color: rgb(17\, 85\, 2
 04)\; font-variant-numeric: normal\; font-variant-east-asian: normal\; tex
 t-decoration-line: underline\; text-decoration-skip-ink: none\; vertical-a
 lign: baseline\; white-space-collapse: preserve\;">www.articket.com.ar</sp
 an></a></p><p dir="ltr" style="margin: 0pt 0px\; font-family: Abel\, sans-
 serif\; text-align: center\; color: rgb(51\, 51\, 51)\; font-size: 14px\; 
 line-height: 1.656\;"><br></p><p dir="ltr" style="margin: 0pt 0px\; font-f
 amily: Abel\, sans-serif\; text-align: center\; color: rgb(51\, 51\, 51)\;
  font-size: 14px\; line-height: 1.38\;"><span style="font-size: 11pt\; fon
 t-family: Arial\; color: rgb(34\, 34\, 34)\; font-variant-numeric: normal\
 ; font-variant-east-asian: normal\; vertical-align: baseline\; white-space
 -collapse: preserve\;"><span style="font-weight: bolder\;">APTO TODO PUBLI
 CO</span></span></p><p dir="ltr" style="margin: 0pt 0px\; font-family: Abe
 l\, sans-serif\; text-align: center\; color: rgb(51\, 51\, 51)\; font-size
 : 14px\; line-height: 1.38\;"><span style="font-size: 11pt\; font-family: 
 Arial\; color: rgb(34\, 34\, 34)\; font-variant-numeric: normal\; font-var
 iant-east-asian: normal\; vertical-align: baseline\; white-space-collapse:
  preserve\;"><span style="font-weight: bolder\;"><br></span></span></p><p 
 dir="ltr" style="margin: 0pt 0px\; font-family: Abel\, sans-serif\; text-a
 lign: center\; color: rgb(51\, 51\, 51)\; font-size: 14px\; line-height: 1
 .38\;"><span style="font-size: 11pt\; font-family: Arial\; color: rgb(34\,
  34\, 34)\; font-variant-numeric: normal\; font-variant-east-asian: normal
 \; vertical-align: baseline\; white-space-collapse: preserve\;"><span styl
 e="font-weight: bolder\;">---</span></span></p><p dir="ltr" style="margin:
  0pt 0px\; font-family: Abel\, sans-serif\; text-align: center\; color: rg
 b(51\, 51\, 51)\; font-size: 14px\; line-height: 1.38\;"><br></p><div><spa
 n style="font-variant-numeric: normal\; font-variant-east-asian: normal\; 
 vertical-align: baseline\;"><font color="#222222" face="Arial"><span style
 ="font-size: 14.6667px\; white-space-collapse: preserve\;"><span style="fo
 nt-weight: bolder\;"><br></span></span></font></span></div>
END:VEVENT
END:VCALENDAR
