BEGIN:VCALENDAR
VERSION:2.0
PRODID:-//My Calendar//mxm.dk//
BEGIN:VEVENT
SUMMARY:ESPECIAL DE RIFF
DTSTART:20260117T000000Z
DTEND:20260117T080000Z
DTSTAMP:20260421T051750Z
DESCRIPTION:<p style="text-align: center\;"><span style="text-align: left\
 ;"><span style="font-weight: bolder\;"><u>ESPECIAL DE RIFF<br>EN ABBEY ROA
 D</u></span></span></p><p style="text-align: center\;"><span style="text-a
 lign: left\;"><span style="font-weight: bolder\;"><u><br></u></span></span
 ><span style="color: rgb(32\, 31\, 30)\; font-family: Arial\; font-size: 1
 1.5pt\;">Entradas anticipadas limitadas en efectivo:</span></p><p dir="ltr
 " style="margin: 0pt 0px\; font-family: Abel\, sans-serif\; text-align: ce
 nter\; text-size-adjust: 100%\; color: rgb(51\, 51\, 51)\; font-size: 14px
 \; line-height: 1.656\;"><span style="font-size: 11pt\; font-family: Arial
 \; color: rgb(34\, 34\, 34)\; font-variant-numeric: normal\; font-variant-
 east-asian: normal\; vertical-align: baseline\;">&nbsp\;</span></p><p dir=
 "ltr" style="margin: 0pt 0px\; font-family: Abel\, sans-serif\; text-align
 : center\; text-size-adjust: 100%\; color: rgb(51\, 51\, 51)\; font-size: 
 14px\; line-height: 1.656\;"><span style="font-size: 11.5pt\; font-family:
  Arial\; color: rgb(32\, 31\, 30)\; font-weight: 700\; font-variant-numeri
 c: normal\; font-variant-east-asian: normal\; vertical-align: baseline\;">
 La Casa de las Guitarras:</span><span style="font-size: 11.5pt\; font-fami
 ly: Arial\; color: rgb(32\, 31\, 30)\; font-variant-numeric: normal\; font
 -variant-east-asian: normal\; vertical-align: baseline\;">&nbsp\;Belgrano 
 3420 - Mar del Plata</span></p><p dir="ltr" style="margin: 0pt 0px\; font-
 family: Abel\, sans-serif\; text-align: center\; color: rgb(51\, 51\, 51)\
 ; font-size: 14px\; line-height: 1.656\;"><span style="font-size: 11.5pt\;
  font-family: Arial\; color: rgb(32\, 31\, 30)\; background-color: transpa
 rent\; font-variant-numeric: normal\; font-variant-east-asian: normal\; ve
 rtical-align: baseline\; white-space-collapse: preserve\;"><span style="fo
 nt-weight: bolder\;">FAVA Casa Central:</span></span><span style="font-siz
 e: 11.5pt\; font-family: Arial\; color: rgb(32\, 31\, 30)\; background-col
 or: transparent\; font-weight: 700\; font-variant-numeric: normal\; font-v
 ariant-east-asian: normal\; vertical-align: baseline\; white-space-collaps
 e: preserve\;"> </span><span style="font-size: 11.5pt\; font-family: Arial
 \; color: rgb(32\, 31\, 30)\; background-color: transparent\; font-variant
 -numeric: normal\; font-variant-east-asian: normal\; vertical-align: basel
 ine\; white-space-collapse: preserve\;">Av. Pedro Luro 3247 - Mar del Plat
 a</span></p><div><span style="font-size: 11.5pt\; font-family: Arial\; col
 or: rgb(32\, 31\, 30)\; background-color: transparent\; font-variant-numer
 ic: normal\; font-variant-east-asian: normal\; vertical-align: baseline\; 
 white-space-collapse: preserve\;"><br></span></div><p dir="ltr" style="mar
 gin: 0pt 0px\; font-family: Abel\, sans-serif\; text-align: center\; text-
 size-adjust: 100%\; color: rgb(51\, 51\, 51)\; font-size: 14px\; line-heig
 ht: 1.38\;"><a href="http://www.articket.com.ar/" style="color: rgb(51\, 1
 22\, 183)\;"><span style="font-size: 11.5pt\; font-family: Arial\; color: 
 rgb(17\, 85\, 204)\; font-variant-numeric: normal\; font-variant-east-asia
 n: normal\; text-decoration-line: underline\; text-decoration-skip-ink: no
 ne\; vertical-align: baseline\;">www.articket.com.ar</span></a></p><p dir=
 "ltr" style="margin: 0pt 0px\; font-family: Abel\, sans-serif\; text-align
 : center\; text-size-adjust: 100%\; color: rgb(51\, 51\, 51)\; font-size: 
 14px\; line-height: 1.656\;"><br></p><p dir="ltr" style="margin: 0pt 0px\;
  font-family: Abel\, sans-serif\; text-align: center\; text-size-adjust: 1
 00%\; color: rgb(51\, 51\, 51)\; font-size: 14px\; line-height: 1.38\;"><s
 pan style="caret-color: rgb(34\, 34\, 34)\; color: rgb(34\, 34\, 34)\; fon
 t-family: Arial\; font-size: 14.6667px\; font-weight: 700\; white-space-co
 llapse: preserve\;">APTO +14 (hasta 00hs)</span></p><p dir="ltr" style="ma
 rgin: 0pt 0px\; font-family: Abel\, sans-serif\; text-align: center\; text
 -size-adjust: 100%\; color: rgb(51\, 51\, 51)\; font-size: 14px\; line-hei
 ght: 1.38\;"><span style="caret-color: rgb(34\, 34\, 34)\; color: rgb(34\,
  34\, 34)\; font-family: Arial\; font-size: 14.6667px\; font-weight: 700\;
  white-space-collapse: preserve\;"><br></span></p><p dir="ltr" style="marg
 in: 0pt 0px\; font-family: Abel\, sans-serif\; text-align: center\; text-s
 ize-adjust: 100%\; color: rgb(51\, 51\, 51)\; font-size: 14px\; line-heigh
 t: 1.38\;"><span style="caret-color: rgb(34\, 34\, 34)\; color: rgb(34\, 3
 4\, 34)\; font-family: Arial\; font-size: 14.6667px\; font-weight: 700\; w
 hite-space-collapse: preserve\;"><br></span></p><p dir="ltr" style="margin
 : 0pt 0px\; font-family: Abel\, sans-serif\; text-align: center\; text-siz
 e-adjust: 100%\; color: rgb(51\, 51\, 51)\; font-size: 14px\; line-height:
  1.38\;"><span style="color: rgb(156\, 156\, 148)\; font-size: 12px\;">PRO
 MO BANCO PROVINCIA VERANO 2026 - CONDICIONES:&nbsp\;</span><a href="https:
 //tr.ee/nf8p9Z" target="_blank" style="background-color: rgb(255\, 255\, 2
 55)\;"><span style="font-size: 12px\;">https://tr.ee/nf8p9Z</span></a><spa
 n style="caret-color: rgb(34\, 34\, 34)\; color: rgb(34\, 34\, 34)\; font-
 family: Arial\; font-size: 14.6667px\; font-weight: 700\; white-space-coll
 apse: preserve\;"></span></p>
END:VEVENT
END:VCALENDAR
