BEGIN:VCALENDAR
VERSION:2.0
PRODID:-//My Calendar//mxm.dk//
BEGIN:VEVENT
SUMMARY:LA KERMESSE EN PLAZA DE LA MUSICA
DTSTART:20260110T230000Z
DTEND:20260111T030000Z
DTSTAMP:20260422T053328Z
DESCRIPTION:<p dir="ltr" style="margin: 0pt 0px\; text-align: center\; tex
 t-size-adjust: 100%\; line-height: 1.656\;"><font color="#201f1e" face="Ar
 ial"><span style="font-size: 15.3333px\;"><u><span style="font-weight: bol
 der\;">LA KERMESSE</span></u></span></font></p><p dir="ltr" style="margin:
  0pt 0px\; text-align: center\; text-size-adjust: 100%\; line-height: 1.65
 6\;"><font color="#201f1e" face="Arial"><span style="font-size: 15.3333px\
 ;"><u><span style="font-weight: bolder\;">EN MAR DEL PLATA</span></u></spa
 n></font></p><p dir="ltr" style="margin: 0pt 0px\; font-family: Abel\, san
 s-serif\; text-align: center\; text-size-adjust: 100%\; color: rgb(51\, 51
 \, 51)\; font-size: 14px\; line-height: 1.656\;"><font color="#201f1e" fac
 e="Arial"><span style="font-size: 15.3333px\;"><span style="font-weight: 7
 00\; text-decoration-line: underline\;"><br></span></span></font></p><p di
 r="ltr" style="margin: 0pt 0px\; font-family: Abel\, sans-serif\; text-ali
 gn: center\; text-size-adjust: 100%\; color: rgb(51\, 51\, 51)\; font-size
 : 14px\; line-height: 1.656\;"><font color="#201f1e" face="Arial"><span st
 yle="font-size: 15.3333px\;"><u style="font-weight: 700\;"></u></span></fo
 nt></p><p dir="ltr" style="margin: 0pt 0px\; font-family: Abel\, sans-seri
 f\; text-align: center\; text-size-adjust: 100%\; color: rgb(51\, 51\, 51)
 \; font-size: 14px\; line-height: 1.656\;"><span style="color: rgb(32\, 31
 \, 30)\; font-family: Arial\; font-size: 11.5pt\;">Entradas anticipadas li
 mitadas en efectivo:</span></p><p dir="ltr" style="margin: 0pt 0px\; font-
 family: Abel\, sans-serif\; text-align: center\; text-size-adjust: 100%\; 
 color: rgb(51\, 51\, 51)\; font-size: 14px\; line-height: 1.656\;"><span s
 tyle="font-size: 11pt\; font-family: Arial\; color: rgb(34\, 34\, 34)\; fo
 nt-variant-numeric: normal\; font-variant-east-asian: normal\; vertical-al
 ign: baseline\;">&nbsp\;</span></p><p dir="ltr" style="margin: 0pt 0px\; f
 ont-family: Abel\, sans-serif\; text-align: center\; text-size-adjust: 100
 %\; color: rgb(51\, 51\, 51)\; font-size: 14px\; line-height: 1.656\;"><sp
 an style="font-size: 11.5pt\; font-family: Arial\; color: rgb(32\, 31\, 30
 )\; font-weight: 700\; font-variant-numeric: normal\; font-variant-east-as
 ian: normal\; vertical-align: baseline\;">La Casa de las Guitarras:</span>
 <span style="font-size: 11.5pt\; font-family: Arial\; color: rgb(32\, 31\,
  30)\; font-variant-numeric: normal\; font-variant-east-asian: normal\; ve
 rtical-align: baseline\;">&nbsp\;Belgrano 3420 - Mar del Plata</span></p><
 p dir="ltr" style="margin: 0pt 0px\; font-family: Abel\, sans-serif\; text
 -align: center\; color: rgb(51\, 51\, 51)\; font-size: 14px\; line-height:
  1.656\;"><span style="font-size: 11.5pt\; font-family: Arial\; color: rgb
 (32\, 31\, 30)\; background-color: transparent\; font-variant-numeric: nor
 mal\; font-variant-east-asian: normal\; vertical-align: baseline\; white-s
 pace-collapse: preserve\;"><span style="font-weight: bolder\;">FAVA Casa C
 entral:</span></span><span style="font-size: 11.5pt\; font-family: Arial\;
  color: rgb(32\, 31\, 30)\; background-color: transparent\; font-weight: 7
 00\; font-variant-numeric: normal\; font-variant-east-asian: normal\; vert
 ical-align: baseline\; white-space-collapse: preserve\;"> </span><span sty
 le="font-size: 11.5pt\; font-family: Arial\; color: rgb(32\, 31\, 30)\; ba
 ckground-color: transparent\; font-variant-numeric: normal\; font-variant-
 east-asian: normal\; vertical-align: baseline\; white-space-collapse: pres
 erve\;">Av. Pedro Luro 3247 - Mar del Plata</span></p><div><br></div><div 
 style="text-align: center\;"><span style="font-variant-numeric: normal\; f
 ont-variant-east-asian: normal\; vertical-align: baseline\; font-size: 15.
 3333px\; caret-color: rgb(51\, 51\, 51)\;"><font color="#201f1e" face="Ari
 al"><div style="">De la mano de Los Decoradores -banda conformada por los 
 históricos integrantes de Patricio Rey y sus Redonditos de Ricota “Semi
 lla” Bucciarelli\, Sergio Dawi\, Tito Fargo y Hernán Aramberri-\, este 
 show promete capturar la esencia del espíritu redondo para dar un merecid
 o homenaje a su público.</div><div style="">Luego del éxito con presenta
 ciones en diferentes ciudades de Argentina y de Uruguay\, Los Decoradores 
 están listos para ofrecer una experiencia musical que no solo marca el re
 encuentro en</div><div style="">los escenarios de estos músicos emblemát
 icos\, sino que también actualiza la mística y el espíritu de una de la
 s bandas más importantes de la historia de rock nacional.</div><div style
 ="">La Kermesse es un verdadero ritual que celebra y mantiene viva la inex
 tinguible llama que ya abrazó a varias generaciones.</div><div style="">U
 na noche imperdible que unirá pasado\, presente y futuro en una verdadera
  celebración musical.</div><div style=""><br></div><div style="">LA HISTO
 RIA DE LOS DECORADORES</div><div style="">Surgieron en 2016 con la fusión
  de dos proyectos distintos con una historia en común: SemiDawi - conform
 ado por el bajista “Semilla” Buciarelli y el saxofonista Sergio Dawi- 
 y The Comando Pickless -la banda liderada por el baterista Walter Sidoti-.
 </div><div style="">A ellos se sumó también el guitarrista Tito Fargo\, 
 tejiendo así un vínculo indisoluble con el legado de Patricio Rey y sus 
 Redonditos de Ricota.</div><div style=""><br></div><div style="">En 2018\,
  bautizados inicialmente como “Kermesse Redonda”\, comenzaron a recorr
 er los escenarios nacionales\, reviviendo los himnos de la legendaria band
 a platense y evocando el espíritu de Patricio Rey.&nbsp\;</div><div style
 ="">Ese año también marcó el ingreso del baterista y productor Hernán 
 Aramberri\, quien fue parte de Patricio Rey en sus últimos discos y luego
  de Indio Solari y los Fundamentalistas del Aire Acondicionado\, y que ree
 mplazó a Sidoti tras su partida por proyectos personales.</div><div style
 ="">Con el correr de los shows\, la banda pasó a llamarse definitivamente
  La Kermesse de Los Decoradores. Hasta hoy realizaron cerca de 100 shows e
 n diferentes ciudades de Argentina y de Uruguay\,</div><div style=""> incl
 uyendo el Estadio Obras con entradas agotadas\, además de su participaci
 ón en festivales como Cosquín Rock.</div><div style="">La formación se 
 enriqueció no solo con sus miembros fundacionales sino también con la co
 laboración de otros músicos con pasado redondo como Lito Vitale\, </div>
 <div style="">El Soldado\, los saxofonistas Willy Crook y Gonzo Palacios\,
  el baterista Juan “Piojo” Ábalos y el guitarrista Gabriel “Conejo
 ” Jolivet.</div><div style="">Además\, se sumaron otros artistas de div
 ersos géneros como Mavi Díaz (Viuda e Hijas de Roque Enroll)\, Lula Bert
 oldi (Eruca Sativa)\,</div><div style="">Walter Meza (Horcas)\, Alejandro 
 Kurz (El Bordo)\, Julieta Laso y Chino Laborde (Orquesta Típica Fernánde
 z Fierro)\, entre otros\, creando un puente musical entre generaciones.</d
 iv><div style="">Actualmente la formación incluye como miembros estables 
 a Sergio Dawi (saxo)\, Tito Fargo (guitarra)\, “Semilla” Bucciarelli (
 bajo)\, Hernán Aramberri (batería)\, Jorge Cabrera (voz)\, Oscar Kamieno
 mosky (2da. guitarra) y Mariano Pirato (teclado y voz).</div></font></span
 ></div><div style="font-family: Abel\, sans-serif\; text-align: center\;">
 <span style="caret-color: rgb(51\, 51\, 51)\; font-size: 11.5pt\; font-fam
 ily: Arial\; color: rgb(32\, 31\, 30)\; font-variant-numeric: normal\; fon
 t-variant-east-asian: normal\; vertical-align: baseline\;"><span style="fo
 nt-weight: 700\;"><br></span></span></div><p dir="ltr" style="margin: 0pt 
 0px\; font-family: Abel\, sans-serif\; text-align: center\; text-size-adju
 st: 100%\; color: rgb(51\, 51\, 51)\; font-size: 14px\; line-height: 1.38\
 ;"><a href="http://www.articket.com.ar/" style="color: rgb(51\, 122\, 183)
 \;"><span style="font-size: 11.5pt\; font-family: Arial\; color: rgb(17\, 
 85\, 204)\; font-variant-numeric: normal\; font-variant-east-asian: normal
 \; text-decoration-line: underline\; text-decoration-skip-ink: none\; vert
 ical-align: baseline\;">www.articket.com.ar</span></a></p><p class="MsoNor
 mal" style="margin-right: 0px\; margin-bottom: 10pt\; margin-left: 0px\; t
 ext-align: center\; text-size-adjust: 100%\; color: rgb(34\, 34\, 34)\; fo
 nt-family: Arial\, Helvetica\, sans-serif\; font-size: small\; line-height
 : 14.95px\;"><span style="font-family: Calibri\, sans-serif\;"><br></span>
 </p><p class="MsoNormal" style="margin-right: 0px\; margin-bottom: 10pt\; 
 margin-left: 0px\; text-align: center\; text-size-adjust: 100%\; color: rg
 b(34\, 34\, 34)\; font-family: Arial\, Helvetica\, sans-serif\; font-size:
  small\; line-height: 14.95px\;"><span style="font-family: Calibri\, sans-
 serif\;"><span style="font-weight: 700\; font-family: Arial\; font-size: 1
 4.6667px\;">EVENTO APTO TODO PUBLICO (+3)</span></span></p><p class="MsoNo
 rmal" style="margin-right: 0px\; margin-bottom: 10pt\; margin-left: 0px\; 
 text-align: center\; text-size-adjust: 100%\; color: rgb(34\, 34\, 34)\; f
 ont-family: Arial\, Helvetica\, sans-serif\; font-size: small\; line-heigh
 t: 14.95px\;"><span style="font-family: Calibri\, sans-serif\;"><span styl
 e="font-weight: 700\; font-family: Arial\; font-size: 14.6667px\;">Asistir
  con el HardTicket en mano o el QR descargado en el celular.<br>No se acep
 tan cambios ni devoluciones.</span></span></p><p class="MsoNormal" style="
 margin-right: 0px\; margin-bottom: 10pt\; margin-left: 0px\; text-align: c
 enter\; text-size-adjust: 100%\; color: rgb(34\, 34\, 34)\; font-family: A
 rial\, Helvetica\, sans-serif\; font-size: small\; line-height: 14.95px\;"
 ><span style="font-family: Calibri\, sans-serif\;"><span style="font-weigh
 t: 700\; font-family: Arial\; font-size: 14.6667px\;"><br></span></span></
 p><p class="MsoNormal" style="margin-right: 0px\; margin-bottom: 10pt\; ma
 rgin-left: 0px\; text-align: center\; text-size-adjust: 100%\; color: rgb(
 34\, 34\, 34)\; font-family: Arial\, Helvetica\, sans-serif\; font-size: s
 mall\; line-height: 14.95px\;"><span style="font-family: Calibri\, sans-se
 rif\;"><span style="font-weight: 700\; font-family: Arial\; font-size: 14.
 6667px\;"><br></span></span></p><p class="MsoNormal" style="margin-right: 
 0px\; margin-bottom: 10pt\; margin-left: 0px\; text-align: center\; text-s
 ize-adjust: 100%\; color: rgb(34\, 34\, 34)\; font-family: Arial\, Helveti
 ca\, sans-serif\; font-size: small\; line-height: 14.95px\;"><span style="
 color: rgb(156\, 156\, 148)\; font-family: Abel\, sans-serif\; font-size: 
 12px\;">PROMO BANCO PROVINCIA VERANO 2026 - CONDICIONES:&nbsp\;</span><a h
 ref="https://tr.ee/nf8p9Z" target="_blank" style="background-color: rgb(25
 5\, 255\, 255)\; font-family: Abel\, sans-serif\; font-size: 14px\;"><span
  style="font-size: 12px\;">https://tr.ee/nf8p9Z</span></a><span style="fon
 t-family: Calibri\, sans-serif\;"><span style="font-weight: 700\; font-fam
 ily: Arial\; font-size: 14.6667px\;"></span></span></p>
END:VEVENT
END:VCALENDAR
