BEGIN:VCALENDAR
VERSION:2.0
PRODID:-//My Calendar//mxm.dk//
BEGIN:VEVENT
SUMMARY:LA NUEVA LUNA DEL CHINO EN WO
DTSTART:20251129T010000Z
DTEND:20251129T030000Z
DTSTAMP:20260420T131638Z
DESCRIPTION:<p dir="ltr" style="margin: 0pt 0px\; text-align: center\; lin
 e-height: 1.656\;"><font color="#201f1e" face="Arial"><span style="font-si
 ze: 15.3333px\;"><b><u>LA NUEVA LUNA DEL CHINO EN WO</u></b></span></font>
 </p><p dir="ltr" style="margin: 0pt 0px\; text-align: center\; line-height
 : 1.656\;"><span style="color: rgb(32\, 31\, 30)\; font-family: Arial\; fo
 nt-size: 1rem\;"><font face="Abel\, sans-serif"><span style="font-size: 15
 .3333px\;"><span style="text-decoration-line: underline\;"><span style="fo
 nt-weight: bolder\;">NECOCHEA</span></span><br></span></font></span></p><p
  dir="ltr" style="margin: 0pt 0px\; text-align: center\; line-height: 1.65
 6\;"><br></p><p dir="ltr" style="margin: 0pt 0px\; text-align: center\; li
 ne-height: 1.656\;"><span style="color: rgb(32\, 31\, 30)\; font-family: A
 rial\; font-size: 11.5pt\;">Entradas anticipadas limitadas en efectivo:</s
 pan></p><p dir="ltr" style="margin: 0pt 0px\; font-family: Abel\, sans-ser
 if\; text-align: center\; color: rgb(51\, 51\, 51)\; font-size: 14px\; lin
 e-height: 1.656\;"><span style="color: rgb(32\, 31\, 30)\; font-family: Ar
 ial\; font-size: 11.5pt\;"><br></span></p><p dir="ltr" style="margin: 0pt 
 0px\; font-family: Abel\, sans-serif\; text-align: center\; color: rgb(51\
 , 51\, 51)\; font-size: 14px\; line-height: 1.656\;"><span style="font-siz
 e: 11pt\; font-family: Arial\; color: rgb(34\, 34\, 34)\; font-variant-num
 eric: normal\; font-variant-east-asian: normal\; vertical-align: baseline\
 ;"><span style="font-weight: bolder\;">&nbsp\;ADN Store:</span>&nbsp\;Call
 e 61 N° 2813 -&nbsp\;<span style="font-weight: bolder\;">Necochea.</span>
 </span></p><p dir="ltr" style="margin: 0pt 0px\; font-family: Abel\, sans-
 serif\; text-align: center\; color: rgb(51\, 51\, 51)\; font-size: 14px\; 
 line-height: 1.656\;"><span style="font-size: 11.5pt\; font-family: Arial\
 ; color: rgb(32\, 31\, 30)\; font-variant-numeric: normal\; font-variant-e
 ast-asian: normal\; vertical-align: baseline\;"><br></span></p><p dir="ltr
 " style="margin: 0pt 0px\; font-family: Abel\, sans-serif\; text-align: ce
 nter\; color: rgb(51\, 51\, 51)\; font-size: 14px\; line-height: 1.38\;"><
 a href="http://www.articket.com.ar/" style="color: rgb(51\, 122\, 183)\;">
 <span style="font-size: 11.5pt\; font-family: Arial\; color: rgb(17\, 85\,
  204)\; font-variant-numeric: normal\; font-variant-east-asian: normal\; t
 ext-decoration-line: underline\; text-decoration-skip-ink: none\; vertical
 -align: baseline\; white-space-collapse: preserve\;">www.articket.com.ar</
 span></a></p><p class="MsoNormal" style="margin-right: 0px\; margin-bottom
 : 10pt\; margin-left: 0px\; text-align: center\; color: rgb(34\, 34\, 34)\
 ; font-family: Arial\, Helvetica\, sans-serif\; font-size: small\; line-he
 ight: 14.95px\;"><span style="font-family: Calibri\, sans-serif\;"><br></s
 pan></p><p dir="ltr" style="margin: 0pt 0px\; font-family: Abel\, sans-ser
 if\; text-align: center\; font-size: 14px\; line-height: 1.38\;"><span sty
 le="font-size: 11pt\; font-family: Arial\; font-variant-numeric: normal\; 
 font-variant-east-asian: normal\; vertical-align: baseline\; white-space-c
 ollapse: preserve\;"><font color="#222222"><span style="font-weight: bolde
 r\;">APTO TODO PUBLICO</span></font></span></p>
END:VEVENT
END:VCALENDAR
