BEGIN:VCALENDAR
VERSION:2.0
PRODID:-//My Calendar//mxm.dk//
BEGIN:VEVENT
SUMMARY:NO TE VA GUSTAR EN NECOCHEA
DTSTART:20260430T000000Z
DTEND:20260430T080000Z
DTSTAMP:20260424T110251Z
DESCRIPTION:<p dir="ltr" style="margin: 0pt 0px\; text-align: center\; lin
 e-height: 1.656\;"><font color="#201f1e" face="Arial"><span style="font-si
 ze: 24px\;"><b><u>NO TE VA GUSTAR</u></b></span></font></p><p dir="ltr" st
 yle="margin: 0pt 0px\; text-align: center\; line-height: 1.656\;"><font co
 lor="#201f1e" face="Arial"><span style="font-size: 15.3333px\;"><b><u>EN N
 ECOCHEA</u></b></span></font></p><p dir="ltr" style="margin: 0pt 0px\; fon
 t-family: Abel\, sans-serif\; text-align: center\; line-height: 1.656\;"><
 font color="#201f1e" face="Arial"><span style="font-size: 15.3333px\;"><u>
 <span style="font-weight: bolder\;"><br></span></u></span></font></p><p di
 r="ltr" style="margin: 0pt 0px\; font-family: Abel\, sans-serif\; text-ali
 gn: center\; color: rgb(51\, 51\, 51)\; font-size: 14px\; line-height: 1.6
 56\;"><span style="font-size: 11pt\; font-family: Arial\; color: rgb(34\, 
 34\, 34)\; background-color: transparent\; font-variant-numeric: normal\; 
 font-variant-east-asian: normal\; vertical-align: baseline\; white-space-c
 ollapse: preserve\;">&nbsp\;</span></p><p dir="ltr" style="margin: 0pt 0px
 \; font-family: Abel\, sans-serif\; text-align: center\; text-size-adjust:
  100%\; color: rgb(51\, 51\, 51)\; font-size: 14px\; line-height: 1.656\;"
 ><span style="color: rgb(32\, 31\, 30)\; font-family: Arial\; font-size: 1
 1.5pt\;">Entradas anticipadas limitadas en efectivo:</span></p><p dir="ltr
 " style="margin: 0pt 0px\; font-family: Abel\, sans-serif\; text-align: ce
 nter\; text-size-adjust: 100%\; color: rgb(51\, 51\, 51)\; font-size: 14px
 \; line-height: 1.656\;"><span style="color: rgb(32\, 31\, 30)\; font-fami
 ly: Arial\; font-size: 11.5pt\;"><br></span></p><p dir="ltr" style="margin
 : 0pt 0px\; font-family: Abel\, sans-serif\; text-align: center\; text-siz
 e-adjust: 100%\; color: rgb(51\, 51\, 51)\; font-size: 14px\; line-height:
  1.656\;"><span style="font-size: 11pt\; font-family: Arial\; color: rgb(3
 4\, 34\, 34)\; font-variant-numeric: normal\; font-variant-east-asian: nor
 mal\; vertical-align: baseline\;"><span style="font-weight: bolder\;">&nbs
 p\;</span><span style="font-weight: bolder\;">ADN Store:</span><span style
 ="font-weight: bolder\;">&nbsp\;</span>Calle 61 N° 2813 -<span style="fon
 t-weight: bolder\;">&nbsp\;</span><span style="font-weight: bolder\;">Neco
 chea.</span></span></p><p dir="ltr" style="margin: 0pt 0px\; font-family: 
 Abel\, sans-serif\; text-align: center\; color: rgb(51\, 51\, 51)\; font-s
 ize: 14px\; line-height: 1.656\;"><span style="font-size: 11pt\; font-fami
 ly: Arial\; color: rgb(34\, 34\, 34)\; background-color: transparent\; fon
 t-variant-numeric: normal\; font-variant-east-asian: normal\; vertical-ali
 gn: baseline\; white-space-collapse: preserve\;"></span></p><p dir="ltr" s
 tyle="margin: 0pt 0px\; font-family: Abel\, sans-serif\; text-align: cente
 r\; text-size-adjust: 100%\; color: rgb(51\, 51\, 51)\; font-size: 14px\; 
 line-height: 1.656\;"><br></p><p dir="ltr" style="margin: 0pt 0px\; font-f
 amily: Abel\, sans-serif\; text-align: center\; text-size-adjust: 100%\; c
 olor: rgb(51\, 51\, 51)\; font-size: 14px\; line-height: 1.656\;"><span st
 yle="font-size: 11.5pt\; font-family: Arial\; color: rgb(32\, 31\, 30)\; f
 ont-variant-numeric: normal\; font-variant-east-asian: normal\; vertical-a
 lign: baseline\;"><br></span></p><p dir="ltr" style="margin: 0pt 0px\; fon
 t-family: Abel\, sans-serif\; text-align: center\; color: rgb(51\, 51\, 51
 )\; font-size: 14px\; line-height: 1.38\;"><a href="http://www.articket.co
 m.ar/" style="color: rgb(51\, 122\, 183)\;"><span style="font-size: 11.5pt
 \; font-family: Arial\; color: rgb(17\, 85\, 204)\; font-variant-numeric: 
 normal\; font-variant-east-asian: normal\; text-decoration-line: underline
 \; text-decoration-skip-ink: none\; vertical-align: baseline\; white-space
 -collapse: preserve\;">www.articket.com.ar</span></a></p><p class="MsoNorm
 al" style="margin-right: 0px\; margin-bottom: 10pt\; margin-left: 0px\; te
 xt-align: center\; color: rgb(34\, 34\, 34)\; font-family: Arial\, Helveti
 ca\, sans-serif\; font-size: small\; line-height: 14.95px\;"><span style="
 font-family: Calibri\, sans-serif\;"><br></span></p><p dir="ltr" style="ma
 rgin: 0pt 0px\; text-align: center\; line-height: 1.38\;"><span style="fon
 t-variant-numeric: normal\; font-variant-east-asian: normal\; vertical-ali
 gn: baseline\;"><font color="#222222" face="Arial"><span style="font-size:
  11pt\; white-space-collapse: preserve\;"><span style="font-weight: bolder
 \;">APTO TODO PUBLICO\n\n</span></span></font></span></p><p dir="ltr" styl
 e="margin: 0pt 0px\; text-align: center\; line-height: 1.38\;"><span style
 ="font-variant-numeric: normal\; font-variant-east-asian: normal\; vertica
 l-align: baseline\;"><font color="#222222" face="Arial"><span style="font-
 size: 11pt\; white-space-collapse: preserve\;"><span style="font-weight: b
 older\;">A PARTIR DE 5 AÑOS ABONAN ENTRADA\n\n</span></span></font></span
 ></p><p dir="ltr" style="margin: 0pt 0px\; text-align: center\; line-heigh
 t: 1.38\;"><font face="Abel\, sans-serif" color="#9c9c94"><span style="fon
 t-size: 12px\;">PROMO BANCO PROVINCIA CONDICIONES:&nbsp\;<a href="https://
 tr.ee/89uSGj" target="_blank">https://tr.ee/89uSGj</a></span></font></p><p
  dir="ltr" style="margin: 0pt 0px\; text-align: center\; line-height: 1.38
 \;"><span style="font-variant-numeric: normal\; font-variant-east-asian: n
 ormal\; vertical-align: baseline\;"></span></p><p dir="ltr" style="margin:
  0pt 0px\; text-align: center\; line-height: 1.38\;"><br style="font-famil
 y: Abel\, sans-serif\;"></p><p dir="ltr" style="margin: 0pt 0px\; text-ali
 gn: center\; line-height: 1.38\;"><span style="font-variant-numeric: norma
 l\; font-variant-east-asian: normal\; vertical-align: baseline\;"><font co
 lor="#222222" face="Arial"><span style="font-size: 11pt\; white-space-coll
 apse: preserve\;"><span style="font-weight: bolder\;"><br></span></span></
 font></span></p><p dir="ltr" style="margin: 0pt 0px\; text-align: center\;
  line-height: 1.38\;"><br></p>
END:VEVENT
END:VCALENDAR
