BEGIN:VCALENDAR
VERSION:2.0
PRODID:-//My Calendar//mxm.dk//
BEGIN:VEVENT
SUMMARY:TRACCION A SANGRE I - MAR DEL PLATA
DTSTART:20260130T000000Z
DTEND:20260130T050000Z
DTSTAMP:20260420T090121Z
DESCRIPTION:<p dir="ltr" style="margin: 0pt 0px\; text-align: center\; lin
 e-height: 1.656\;"><font color="#201f1e" face="Arial"><span style="font-si
 ze: 18px\; white-space-collapse: preserve\;"><u style=""><b>Tracción A Sa
 ngre I</b></u></span></font></p><p dir="ltr" style="margin: 0pt 0px\; text
 -align: center\; line-height: 1.656\;"><font color="#201f1e" face="Arial">
 <span style="font-size: 15.3333px\; white-space-collapse: preserve\;"><spa
 n style="font-size: 18px\;"><u style=""><b>EN CLUB TRI</b></u></span></spa
 n></font></p><p dir="ltr" style="margin: 0pt 0px\; text-align: center\; li
 ne-height: 1.656\;"><br></p><p dir="auto" style="margin-right: 0px\; margi
 n-bottom: 20px\; margin-left: 0px\; line-height: 1.5em\; font-family: inte
 r\, sans-serif\; font-size: 14px\; text-align: center\; color: rgb(51\, 51
 \, 51)\;"><span style="font-size: 18px\; font-family: Arial\;">Primera edi
 ción en Mar del Plata!</span></p><p dir="auto" style="margin-right: 0px\;
  margin-bottom: 20px\; margin-left: 0px\; line-height: 1.5em\; font-family
 : inter\, sans-serif\; font-size: 14px\; text-align: center\; color: rgb(5
 1\, 51\, 51)\;"><span style="font-size: 18px\; font-family: Arial\;">El d
 úo integrado por Joan Manuel Pardo y Santiago Luis creó un lenguaje prop
 io que trascendió etiquetas\, estableciendo su personalidad dentro del ro
 ck. Esa constante reinvención sonora que se ha convertido en una señal d
 e identidad\, es acompañada por el colectivo que lo acompaña en cada sho
 w: El acoplado (artistas\, tatuadores\, recicladoras textiles\, y más) so
 n parte de la celebración\, ¡un lugar donde expresarse y festejar.</span
 ></p><p style="margin-right: 0px\; margin-bottom: 20px\; margin-left: 0px\
 ; line-height: 1.5em\; font-family: inter\, sans-serif\; font-size: 14px\;
  text-align: center\; color: rgb(51\, 51\, 51)\;"><em><span style="font-si
 ze: 18px\; font-family: Arial\;">¡Los esperamos!</span></em></p><p style=
 "margin-right: 0px\; margin-bottom: 20px\; margin-left: 0px\; line-height:
  1.5em\; font-family: inter\, sans-serif\; font-size: 14px\; text-align: c
 enter\; color: rgb(51\, 51\, 51)\;"><span style="font-weight: 700\; font-s
 ize: 18px\; font-family: Arial\;">CAMIONERO</span><span style="font-size: 
 18px\; font-family: Arial\;">&nbsp\;es un dúo de rock en castellano\, ase
 ntado en Buenos Aires. Buscando salirse del etiquetado genérico\, Joan Ma
 nuel Pardo (guitarra y voz) y Santiago Luis (batería y coros) despliegan 
 con su música un cosmos de texturas sonoras\, enriqueciendo más allá de
  lo previsible las posibilidades de orquestación\, solo dos músicos arri
 ba del escenario.</span></p><p dir="ltr" style="margin: 0pt 0px\; text-ali
 gn: center\; line-height: 1.656\;"><span style="font-family: Arial\;">﻿<
 /span><br></p><p dir="ltr" style="margin: 0pt 0px\; font-family: Abel\, sa
 ns-serif\; text-align: center\; color: rgb(51\, 51\, 51)\; font-size: 14px
 \; line-height: 1.656\;"><span style="font-size: 11.5pt\; font-family: Ari
 al\; color: rgb(32\, 31\, 30)\; background-color: transparent\; font-varia
 nt-numeric: normal\; font-variant-east-asian: normal\; vertical-align: bas
 eline\; white-space-collapse: preserve\;">Entradas anticipadas limitadas e
 n efectivo:</span></p><p dir="ltr" style="margin: 0pt 0px\; font-family: A
 bel\, sans-serif\; text-align: center\; color: rgb(51\, 51\, 51)\; font-si
 ze: 14px\; line-height: 1.656\;"><span style="font-size: 11pt\; font-famil
 y: Arial\; color: rgb(34\, 34\, 34)\; background-color: transparent\; font
 -variant-numeric: normal\; font-variant-east-asian: normal\; vertical-alig
 n: baseline\; white-space-collapse: preserve\;">&nbsp\;</span></p><p dir="
 ltr" style="margin: 0pt 0px\; font-family: Abel\, sans-serif\; text-align:
  center\; color: rgb(51\, 51\, 51)\; font-size: 14px\; line-height: 1.656\
 ;"><span style="font-size: 11.5pt\; font-family: Arial\; color: rgb(32\, 3
 1\, 30)\; background-color: transparent\; font-weight: 700\; font-variant-
 numeric: normal\; font-variant-east-asian: normal\; vertical-align: baseli
 ne\; white-space-collapse: preserve\;">La Casa de las Guitarras:</span><sp
 an style="font-size: 11.5pt\; font-family: Arial\; color: rgb(32\, 31\, 30
 )\; background-color: transparent\; font-variant-numeric: normal\; font-va
 riant-east-asian: normal\; vertical-align: baseline\; white-space-collapse
 : preserve\;"> Belgrano 3420 - Mar del Plata</span></p><p dir="ltr" style=
 "margin: 0pt 0px\; font-family: Abel\, sans-serif\; text-align: center\; c
 olor: rgb(51\, 51\, 51)\; font-size: 14px\; line-height: 1.656\;"><span st
 yle="font-size: 11.5pt\; font-family: Arial\; color: rgb(32\, 31\, 30)\; b
 ackground-color: transparent\; font-variant-numeric: normal\; font-variant
 -east-asian: normal\; vertical-align: baseline\; white-space-collapse: pre
 serve\;"><span style="font-weight: bolder\;">FAVA Casa Central:</span></sp
 an><span style="font-size: 11.5pt\; font-family: Arial\; color: rgb(32\, 3
 1\, 30)\; background-color: transparent\; font-weight: 700\; font-variant-
 numeric: normal\; font-variant-east-asian: normal\; vertical-align: baseli
 ne\; white-space-collapse: preserve\;"> </span><span style="font-size: 11.
 5pt\; font-family: Arial\; color: rgb(32\, 31\, 30)\; background-color: tr
 ansparent\; font-variant-numeric: normal\; font-variant-east-asian: normal
 \; vertical-align: baseline\; white-space-collapse: preserve\;">Av. Pedro 
 Luro 3247 - Mar del Plata</span></p><p dir="ltr" style="margin: 0pt 0px\; 
 font-family: Abel\, sans-serif\; text-align: center\; color: rgb(51\, 51\,
  51)\; font-size: 14px\; line-height: 1.656\;"><span style="background-col
 or: transparent\; color: rgb(34\, 34\, 34)\; font-family: Arial\; font-siz
 e: 11pt\; white-space-collapse: preserve\;">&nbsp\;</span></p><p dir="ltr"
  style="margin: 0pt 0px\; font-family: Abel\, sans-serif\; text-align: cen
 ter\; color: rgb(51\, 51\, 51)\; font-size: 14px\; line-height: 1.38\;"><a
  href="http://www.articket.com.ar/" style="color: rgb(51\, 122\, 183)\;"><
 span style="font-size: 11.5pt\; font-family: Arial\; color: rgb(17\, 85\, 
 204)\; font-variant-numeric: normal\; font-variant-east-asian: normal\; te
 xt-decoration-line: underline\; text-decoration-skip-ink: none\; vertical-
 align: baseline\; white-space-collapse: preserve\;">www.articket.com.ar</s
 pan></a></p><p dir="ltr" style="margin: 0pt 0px\; font-family: Abel\, sans
 -serif\; text-align: center\; color: rgb(51\, 51\, 51)\; font-size: 14px\;
  line-height: 1.656\;"><br></p><p dir="ltr" style="margin: 0pt 0px\; font-
 family: Abel\, sans-serif\; text-align: center\; color: rgb(51\, 51\, 51)\
 ; font-size: 14px\; line-height: 1.38\;"><span style="font-size: 11pt\; fo
 nt-family: Arial\; color: rgb(34\, 34\, 34)\; font-variant-numeric: normal
 \; font-variant-east-asian: normal\; vertical-align: baseline\; white-spac
 e-collapse: preserve\;"><span style="font-weight: bolder\;">APTO MAYORES 1
 8 AÑOS</span></span></p><p dir="ltr" style="margin: 0pt 0px\; font-family
 : Abel\, sans-serif\; text-align: center\; color: rgb(51\, 51\, 51)\; font
 -size: 14px\; line-height: 1.38\;"><span style="font-size: 11pt\; font-fam
 ily: Arial\; color: rgb(34\, 34\, 34)\; font-variant-numeric: normal\; fon
 t-variant-east-asian: normal\; vertical-align: baseline\; white-space-coll
 apse: preserve\;"><span style="font-weight: bolder\;"><br></span></span></
 p><p dir="ltr" style="margin: 0pt 0px\; font-family: Abel\, sans-serif\; t
 ext-align: center\; color: rgb(51\, 51\, 51)\; font-size: 14px\; line-heig
 ht: 1.38\;"><span style="font-size: 11pt\; font-family: Arial\; color: rgb
 (34\, 34\, 34)\; font-variant-numeric: normal\; font-variant-east-asian: n
 ormal\; vertical-align: baseline\; white-space-collapse: preserve\;"><span
  style="font-weight: bolder\;"><br></span></span></p><p dir="ltr" style="m
 argin: 0pt 0px\; font-family: Abel\, sans-serif\; text-align: center\; col
 or: rgb(51\, 51\, 51)\; font-size: 14px\; line-height: 1.38\;"><span style
 ="font-size: 11pt\; font-family: Arial\; color: rgb(34\, 34\, 34)\; font-v
 ariant-numeric: normal\; font-variant-east-asian: normal\; vertical-align:
  baseline\; white-space-collapse: preserve\;"><span style="font-weight: bo
 lder\;"><br></span></span></p><p dir="ltr" style="margin: 0pt 0px\; font-f
 amily: Abel\, sans-serif\; text-align: center\; color: rgb(51\, 51\, 51)\;
  font-size: 14px\; line-height: 1.38\;"><span style="font-size: 11pt\; fon
 t-family: Arial\; color: rgb(34\, 34\, 34)\; font-variant-numeric: normal\
 ; font-variant-east-asian: normal\; vertical-align: baseline\; white-space
 -collapse: preserve\;"><span style="color: rgb(156\, 156\, 148)\; font-fam
 ily: Abel\, sans-serif\; white-space-collapse: collapse\; font-size: 12px\
 ;">PROMO BANCO PROVINCIA VERANO 2026 - CONDICIONES:&nbsp\;</span><a href="
 https://tr.ee/nf8p9Z" target="_blank" style="background-color: rgb(255\, 2
 55\, 255)\; font-family: Abel\, sans-serif\; font-size: 14px\; white-space
 -collapse: collapse\;"><span style="font-size: 12px\;">https://tr.ee/nf8p9
 Z</span></a><span style="font-weight: bolder\;"></span></span></p><p dir="
 auto" style="margin-right: 0px\; margin-bottom: 20px\; margin-left: 0px\; 
 line-height: 1.5em\; font-family: inter\, sans-serif\; font-size: 14px\; t
 ext-align: center\; color: rgb(51\, 51\, 51)\;"><br></p>
END:VEVENT
END:VCALENDAR
