BEGIN:VCALENDAR
VERSION:2.0
PRODID:-//My Calendar//mxm.dk//
BEGIN:VEVENT
SUMMARY:LAGO DE LOS CISNES ABRIL 2026
DTSTART:20260401T123000Z
DTEND:20260430T223000Z
DTSTAMP:20260424T125312Z
DESCRIPTION:<p dir="ltr" style="margin: 0pt 0px\; font-family: Abel\, sans
 -serif\; text-align: center\; line-height: 1.656\;"><span style="color: rg
 b(34\, 34\, 34)\; font-family: Arial\; font-size: 14.6667px\; white-space-
 collapse: preserve\;"><u><span style="font-weight: bolder\;">LAGO DE LOS C
 ISNES</span></u></span><font color="#201f1e" face="Arial"><span style="fon
 t-size: 15.3333px\; white-space-collapse: preserve\;"><span style="font-we
 ight: bolder\;"><u>\n\n</u></span></span></font></p><p dir="ltr" style="ma
 rgin: 0pt 0px\; font-family: Abel\, sans-serif\; text-align: center\; colo
 r: rgb(51\, 51\, 51)\; font-size: 14px\; line-height: 1.656\;"><span style
 ="background-color: transparent\; color: rgb(32\, 31\, 30)\; font-family: 
 Arial\; font-size: 11.5pt\; white-space-collapse: preserve\;">Entradas ant
 icipadas limitadas en efectivo:</span></p><p dir="ltr" style="margin: 0pt 
 0px\; font-family: Abel\, sans-serif\; text-align: center\; color: rgb(51\
 , 51\, 51)\; font-size: 14px\; line-height: 1.656\;"><span style="font-siz
 e: 11pt\; font-family: Arial\; color: rgb(34\, 34\, 34)\; background-color
 : transparent\; font-variant-numeric: normal\; font-variant-east-asian: no
 rmal\; vertical-align: baseline\; white-space-collapse: preserve\;">&nbsp\
 ;</span></p><p dir="ltr" style="margin: 0pt 0px\; font-family: Abel\, sans
 -serif\; text-align: center\; color: rgb(51\, 51\, 51)\; font-size: 14px\;
  line-height: 1.656\;"><span style="font-size: 11.5pt\; font-family: Arial
 \; color: rgb(32\, 31\, 30)\; background-color: transparent\; font-variant
 -numeric: normal\; font-variant-east-asian: normal\; vertical-align: basel
 ine\; white-space-collapse: preserve\;"><span style="font-weight: bolder\;
 ">La Casa de las Guitarras:</span></span><span style="font-size: 11.5pt\; 
 font-family: Arial\; color: rgb(32\, 31\, 30)\; background-color: transpar
 ent\; font-variant-numeric: normal\; font-variant-east-asian: normal\; ver
 tical-align: baseline\; white-space-collapse: preserve\;"> Belgrano 3420 -
  Mar del Plata</span></p><p dir="ltr" style="margin: 0pt 0px\; font-family
 : Abel\, sans-serif\; text-align: center\; color: rgb(51\, 51\, 51)\; font
 -size: 14px\; line-height: 1.656\;"><span style="font-size: 11.5pt\; font-
 family: Arial\; color: rgb(32\, 31\, 30)\; background-color: transparent\;
  font-variant-numeric: normal\; font-variant-east-asian: normal\; vertical
 -align: baseline\; white-space-collapse: preserve\;"><span style="font-wei
 ght: bolder\;">FAVA Casa Central:</span></span><span style="font-size: 11.
 5pt\; font-family: Arial\; color: rgb(32\, 31\, 30)\; background-color: tr
 ansparent\; font-weight: 700\; font-variant-numeric: normal\; font-variant
 -east-asian: normal\; vertical-align: baseline\; white-space-collapse: pre
 serve\;"> </span><span style="font-size: 11.5pt\; font-family: Arial\; col
 or: rgb(32\, 31\, 30)\; background-color: transparent\; font-variant-numer
 ic: normal\; font-variant-east-asian: normal\; vertical-align: baseline\; 
 white-space-collapse: preserve\;">Av. Pedro Luro 3247 - Mar del Plata</spa
 n></p><p dir="ltr" style="margin: 0pt 0px\; font-family: Abel\, sans-serif
 \; text-align: center\; color: rgb(51\, 51\, 51)\; font-size: 14px\; line-
 height: 1.656\;"><span style="font-size: 11.5pt\; font-family: Arial\; col
 or: rgb(32\, 31\, 30)\; background-color: transparent\; font-variant-numer
 ic: normal\; font-variant-east-asian: normal\; vertical-align: baseline\; 
 white-space-collapse: preserve\;"><span style="font-weight: bolder\;">ADN 
 Store:</span></span><span style="font-size: 11.5pt\; font-family: Arial\; 
 color: rgb(32\, 31\, 30)\; background-color: transparent\; font-variant-nu
 meric: normal\; font-variant-east-asian: normal\; vertical-align: baseline
 \; white-space-collapse: preserve\;"><span style="font-weight: bolder\;"> 
 </span>Calle 61 N° 2813 - Necochea\n</span></p><p dir="ltr" style="margin
 : 0pt 0px\; font-family: Abel\, sans-serif\; text-align: center\; color: r
 gb(51\, 51\, 51)\; font-size: 14px\; line-height: 1.656\;"><span style="fo
 nt-size: 11.5pt\; font-family: Arial\; color: rgb(32\, 31\, 30)\; backgrou
 nd-color: transparent\; font-variant-numeric: normal\; font-variant-east-a
 sian: normal\; vertical-align: baseline\; white-space-collapse: preserve\;
 "><span style="font-weight: bolder\;">Tecnocentro:</span> Rivadavia 3065 -
  Olavarría</span></p><p dir="ltr" style="margin: 0pt 0px\; font-family: A
 bel\, sans-serif\; text-align: center\; color: rgb(51\, 51\, 51)\; font-si
 ze: 14px\; line-height: 1.656\;"><span style="font-size: 11.5pt\; font-fam
 ily: Arial\; color: rgb(32\, 31\, 30)\; background-color: transparent\; fo
 nt-variant-numeric: normal\; font-variant-east-asian: normal\; vertical-al
 ign: baseline\; white-space-collapse: preserve\;"><span style="background-
 color: transparent\; color: rgb(34\, 34\, 34)\; font-size: 11pt\;">&nbsp\;
 </span>\n</span></p><p dir="ltr" style="margin: 0pt 0px\; font-family: Abe
 l\, sans-serif\; text-align: center\; color: rgb(51\, 51\, 51)\; font-size
 : 14px\; line-height: 1.38\;"><a href="http://www.articket.com.ar/" style=
 "color: rgb(51\, 122\, 183)\;"><span style="font-size: 11.5pt\; font-famil
 y: Arial\; color: rgb(17\, 85\, 204)\; font-variant-numeric: normal\; font
 -variant-east-asian: normal\; text-decoration-line: underline\; text-decor
 ation-skip-ink: none\; vertical-align: baseline\; white-space-collapse: pr
 eserve\;">www.articket.com.ar</span></a></p><p class="MsoNormal" style="ma
 rgin-right: 0px\; margin-bottom: 10pt\; margin-left: 0px\; text-align: cen
 ter\; color: rgb(34\, 34\, 34)\; font-family: Arial\, Helvetica\, sans-ser
 if\; font-size: small\; line-height: 14.95px\;"><span style="font-family: 
 Calibri\, sans-serif\;"><br></span></p><p class="MsoNormal" style="margin-
 right: 0px\; margin-bottom: 10pt\; margin-left: 0px\; text-align: center\;
  color: rgb(34\, 34\, 34)\; font-family: Arial\, Helvetica\, sans-serif\; 
 font-size: small\; line-height: 14.95px\;"><span style="font-family: Calib
 ri\, sans-serif\;"><span style="font-family: Arial\; font-size: 14.6667px\
 ; white-space-collapse: preserve\;"><span style="font-weight: bolder\;">AP
 TO TODO PUBLICO\n\n-------\n\n</span></span></span></p><div dir="auto" sty
 le="font-family: Abel\, sans-serif\; text-align: center\;"><span style="fo
 nt-weight: bolder\;"><u>INFORMACIÓN IMPORTANTE<br></u><br>Las entradas so
 n validas para cualquier sábado\, domingo o feriados</span><br><br></div>
 <div dir="auto" style="font-family: Abel\, sans-serif\; text-align: center
 \; line-height: 1\;">Nuestro horario es de 9:30 a 19:30 horas<br><br><br><
 u><span style="font-weight: bolder\;">Actividades</span><br></u></div><div
  dir="auto" style="font-family: Abel\, sans-serif\; text-align: center\; l
 ine-height: 2\;"><span style="font-weight: bolder\;"><u><br></u></span><sp
 an style="color: rgb(34\, 34\, 34)\; font-family: Arial\, Helvetica\, sans
 -serif\; font-size: small\; text-align: start\;">•&nbsp\;</span><span st
 yle="color: rgb(34\, 34\, 34)\; font-family: Arial\, Helvetica\, sans-seri
 f\; font-size: small\; text-align: start\;">Paseo en Bote: Tiempo de recor
 rido - 25 minutos.</span><br style="color: rgb(34\, 34\, 34)\; font-family
 : Arial\, Helvetica\, sans-serif\; font-size: small\; text-align: start\;"
 ><span style="color: rgb(34\, 34\, 34)\; font-family: Arial\, Helvetica\, 
 sans-serif\; font-size: small\; text-align: start\;">• Kayak: Tiempo - 3
 0 minutos.</span><br style="color: rgb(34\, 34\, 34)\; font-family: Arial\
 , Helvetica\, sans-serif\; font-size: small\; text-align: start\;"></div><
 div dir="auto" style="font-family: Abel\, sans-serif\; text-align: center\
 ; line-height: 1\;"><br style="color: rgb(34\, 34\, 34)\; font-family: Ari
 al\, Helvetica\, sans-serif\; font-size: small\; text-align: start\;"><spa
 n style="color: rgb(34\, 34\, 34)\; font-family: Arial\, Helvetica\, sans-
 serif\; font-size: small\; text-align: start\;">• Tirolesa: 2 lanzamient
 os por participante.</span><br style="color: rgb(34\, 34\, 34)\; font-fami
 ly: Arial\, Helvetica\, sans-serif\; font-size: small\; text-align: start\
 ;"><span style="font-family: Arial\, Helvetica\, sans-serif\; font-size: s
 mall\; text-align: start\;"><font color="#ff0000"><span style="font-weight
 : bolder\;">Residente: Presentar DNI con domicilio de Necochea.</span></fo
 nt><br><br></span></div><div dir="auto" style="font-family: Abel\, sans-se
 rif\; text-align: center\; line-height: 2\;"><span style="color: rgb(34\, 
 34\, 34)\; font-family: Arial\, Helvetica\, sans-serif\; font-size: small\
 ; text-align: start\;">• Palestra:&nbsp\;</span><span style="color: rgb(
 34\, 34\, 34)\; font-family: Arial\, Helvetica\, sans-serif\; font-size: s
 mall\; text-align: start\;">2 A 3 trepadas a campana.</span><br style="col
 or: rgb(34\, 34\, 34)\; font-family: Arial\, Helvetica\, sans-serif\; font
 -size: small\; text-align: start\;"><span style="color: rgb(34\, 34\, 34)\
 ; font-family: Arial\, Helvetica\, sans-serif\; font-size: small\; text-al
 ign: start\;">• Toro mecánico: 3 caídas por participante.</span><br st
 yle="color: rgb(34\, 34\, 34)\; font-family: Arial\, Helvetica\, sans-seri
 f\; font-size: small\; text-align: start\;"><span style="color: rgb(34\, 3
 4\, 34)\; font-family: Arial\, Helvetica\, sans-serif\; font-size: small\;
  text-align: start\;">• Tobogán gigante / Perla negra: 15 minutos</span
 ><br style="color: rgb(34\, 34\, 34)\; font-family: Arial\, Helvetica\, sa
 ns-serif\; font-size: small\; text-align: start\;"><span style="color: rgb
 (34\, 34\, 34)\; font-family: Arial\, Helvetica\, sans-serif\; font-size: 
 small\; text-align: start\;">• Castillo inflable: 15 minutos</span><br s
 tyle="color: rgb(34\, 34\, 34)\; font-family: Arial\, Helvetica\, sans-ser
 if\; font-size: small\; text-align: start\;"><span style="color: rgb(34\, 
 34\, 34)\; font-family: Arial\, Helvetica\, sans-serif\; font-size: small\
 ; text-align: start\;">• Vértigo jumping (caída libre):&nbsp\;</span><
 span style="color: rgb(34\, 34\, 34)\; font-family: Arial\, Helvetica\, sa
 ns-serif\; font-size: small\; text-align: start\;">2 caídas por participa
 nte.<br><br></span><p dir="ltr" style="margin: 0pt 0px\; line-height: 1.38
 \;"><font face="Abel\, sans-serif" color="#9c9c94"><span style="font-size:
  12px\;">PROMO BANCO PROVINCIA CONDICIONES:&nbsp\;<a href="https://tr.ee/8
 9uSGj" target="_blank">https://tr.ee/89uSGj</a></span></font></p><p dir="l
 tr" style="margin: 0pt 0px\; line-height: 1.38\;"><br></p></div>
END:VEVENT
END:VCALENDAR
