BEGIN:VCALENDAR
VERSION:2.0
PRODID:-//My Calendar//mxm.dk//
BEGIN:VEVENT
SUMMARY:MARTINO Y LA POCIMA EN SAHARA
DTSTART:20260104T020000Z
DTEND:20260104T080000Z
DTSTAMP:20260419T091303Z
DESCRIPTION:<p dir="ltr" style="margin: 0pt 0px\; text-align: center\; lin
 e-height: 1.656\;"><span style="text-align: left\; font-size: 15.3333px\; 
 white-space-collapse: preserve\;"><font color="#201f1e" face="Arial"><b><u
 >MARTINO Y LA POCIMA</u></b></font></span></p><p dir="ltr" style="margin: 
 0pt 0px\; text-align: center\; line-height: 1.656\;"><font color="#201f1e"
  face="Arial"><span style="font-size: 15.3333px\; white-space-collapse: pr
 eserve\;"><span style="font-weight: bolder\;"><u>EN SAHARA CLUB DE PLAYA</
 u></span></span></font></p><p dir="ltr" style="margin: 0pt 0px\; font-fami
 ly: Abel\, sans-serif\; text-align: center\; color: rgb(51\, 51\, 51)\; fo
 nt-size: 14px\; line-height: 1.656\;"><font color="#201f1e" face="Arial"><
 span style="font-size: 15.3333px\; white-space-collapse: preserve\;"><span
  style="font-weight: 700\;"><u><span style="color: rgb(34\, 34\, 34)\; fon
 t-family: Arial\, Helvetica\, sans-serif\; font-size: small\; font-weight:
  400\; text-align: start\; white-space-collapse: collapse\;"><br></span></
 u></span></span></font></p><p dir="ltr" style="margin: 0pt 0px\; font-fami
 ly: Abel\, sans-serif\; text-align: center\; color: rgb(51\, 51\, 51)\; fo
 nt-size: 14px\; line-height: 1.656\;"><span style="font-size: 11.5pt\; fon
 t-family: Arial\; color: rgb(32\, 31\, 30)\; background-color: transparent
 \; font-variant-numeric: normal\; font-variant-east-asian: normal\; vertic
 al-align: baseline\; white-space-collapse: preserve\;">Entradas anticipada
 s limitadas en efectivo:</span></p><p dir="ltr" style="margin: 0pt 0px\; f
 ont-family: Abel\, sans-serif\; text-align: center\; color: rgb(51\, 51\, 
 51)\; font-size: 14px\; line-height: 1.656\;"><span style="font-size: 11pt
 \; font-family: Arial\; color: rgb(34\, 34\, 34)\; background-color: trans
 parent\; font-variant-numeric: normal\; font-variant-east-asian: normal\; 
 vertical-align: baseline\; white-space-collapse: preserve\;">&nbsp\;</span
 ></p><p dir="ltr" style="margin: 0pt 0px\; font-family: Abel\, sans-serif\
 ; text-align: center\; color: rgb(51\, 51\, 51)\; font-size: 14px\; line-h
 eight: 1.656\;"><span style="color: rgb(34\, 34\, 34)\; font-family: Arial
 \; font-size: 14.6667px\; font-weight: bolder\;">&nbsp\;ADN Store:</span><
 span style="color: rgb(34\, 34\, 34)\; font-family: Arial\; font-size: 14.
 6667px\;">&nbsp\;Calle 61 N° 2813 -&nbsp\;</span><span style="color: rgb(
 34\, 34\, 34)\; font-family: Arial\; font-size: 14.6667px\; font-weight: b
 older\;">Necochea.</span></p><p dir="ltr" style="margin: 0pt 0px\; font-fa
 mily: Abel\, sans-serif\; text-align: center\; color: rgb(51\, 51\, 51)\; 
 font-size: 14px\; line-height: 1.656\;"><span style="background-color: tra
 nsparent\; color: rgb(34\, 34\, 34)\; font-family: Arial\; font-size: 11pt
 \; white-space-collapse: preserve\;">&nbsp\;</span></p><p dir="ltr" style=
 "margin: 0pt 0px\; font-family: Abel\, sans-serif\; text-align: center\; c
 olor: rgb(51\, 51\, 51)\; font-size: 14px\; line-height: 1.38\;"><span sty
 le="color: rgb(17\, 85\, 204)\; font-size: 11.5pt\; font-family: Arial\; f
 ont-variant-numeric: normal\; font-variant-east-asian: normal\; text-decor
 ation-line: underline\; text-decoration-skip-ink: none\; vertical-align: b
 aseline\; white-space-collapse: preserve\;">www.articket.com.ar</span></p>
 <p dir="ltr" style="margin: 0pt 0px\; font-family: Abel\, sans-serif\; tex
 t-align: center\; color: rgb(51\, 51\, 51)\; font-size: 14px\; line-height
 : 1.656\;"><br></p><p dir="ltr" style="margin: 0pt 0px\; font-family: Abel
 \, sans-serif\; text-align: center\; color: rgb(51\, 51\, 51)\; font-size:
  14px\; line-height: 1.38\;"><span style="color: rgb(34\, 34\, 34)\; font-
 family: Arial\; font-size: 14.6667px\; font-weight: 700\; white-space-coll
 apse: preserve\;">EVENTO APTO PARA MAYORES DE 18 AÑOS</span></p><p dir="l
 tr" style="margin: 0pt 0px\; font-family: Abel\, sans-serif\; text-align: 
 center\; color: rgb(51\, 51\, 51)\; font-size: 14px\; line-height: 1.38\;"
 ><span style="color: rgb(34\, 34\, 34)\; font-family: Arial\; font-size: 1
 4.6667px\; font-weight: 700\; white-space-collapse: preserve\;"><br></span
 ></p><p dir="ltr" style="margin: 0pt 0px\; font-family: Abel\, sans-serif\
 ; text-align: center\; font-size: 14px\; line-height: 1.38\;"><span style=
 "font-family: Arial\; font-size: 14.6667px\; font-weight: 700\; white-spac
 e-collapse: preserve\; background-color: rgb(255\, 255\, 0)\;"><font color
 ="#000000">El horario del evento es PUNTUAL.</font></span></p><p dir="ltr"
  style="margin: 0pt 0px\; font-family: Abel\, sans-serif\; text-align: cen
 ter\; font-size: 14px\; line-height: 1.38\;"><span style="font-family: Ari
 al\; font-size: 14.6667px\; font-weight: 700\; white-space-collapse: prese
 rve\; background-color: rgb(255\, 255\, 0)\;"><font color="#000000"><br></
 font></span></p><p dir="ltr" style="margin: 0pt 0px\; font-family: Abel\, 
 sans-serif\; text-align: center\; font-size: 14px\; line-height: 1.38\;"><
 span style="font-family: Arial\; font-size: 14.6667px\; font-weight: 700\;
  white-space-collapse: preserve\; background-color: rgb(255\, 255\, 0)\;">
 <font color="#000000"><br></font></span></p><p dir="ltr" style="margin: 0p
 t 0px\; font-family: Abel\, sans-serif\; text-align: center\; font-size: 1
 4px\; line-height: 1.38\;"><span style="color: rgb(156\, 156\, 148)\; font
 -size: 12px\;">PROMO BANCO PROVINCIA VERANO 2026 - CONDICIONES:&nbsp\;</sp
 an><a href="https://tr.ee/nf8p9Z" target="_blank" style="background-color:
  rgb(255\, 255\, 255)\;"><span style="font-size: 12px\;">https://tr.ee/nf8
 p9Z</span></a><span style="font-family: Arial\; font-size: 14.6667px\; fon
 t-weight: 700\; white-space-collapse: preserve\; background-color: rgb(255
 \, 255\, 0)\;"><font color="#000000"></font></span></p>
END:VEVENT
END:VCALENDAR
