BEGIN:VCALENDAR
VERSION:2.0
PRODID:-//My Calendar//mxm.dk//
BEGIN:VEVENT
SUMMARY:AXEL 25 TOUR EN OLAVARRIA
DTSTART:20260426T230000Z
DTEND:20260427T025500Z
DTSTAMP:20260424T110211Z
DESCRIPTION:<p dir="ltr" style="margin: 0pt 0px\; text-align: center\; -we
 bkit-tap-highlight-color: rgba(0\, 0\, 0\, 0)\; text-size-adjust: 100%\; l
 ine-height: 1.656\;"><span style="text-align: left\; caret-color: rgb(51\,
  51\, 51)\;"><font color="#201f1e" face="Arial" style=""><span style="font
 -weight: bolder\;"><u style=""><span style="font-size: 18px\;">AXEL 25 TOU
 R</span><br></u></span></font></span><font color="#201f1e" face="Arial"><u
 ><font face="Abel\, sans-serif"><span style="font-size: 15.3333px\; font-w
 eight: bolder\; caret-color: rgb(51\, 51\, 51)\;">EN OLAVARRIA</span></fon
 t></u></font></p><p dir="ltr" style="margin: 0pt 0px\; font-family: Abel\,
  sans-serif\; text-align: center\; color: rgb(51\, 51\, 51)\; font-size: 1
 4px\; caret-color: rgb(51\, 51\, 51)\; -webkit-tap-highlight-color: rgba(0
 \, 0\, 0\, 0)\; text-size-adjust: 100%\; line-height: 1.656\;"><span style
 ="font-size: 11.5pt\; font-family: Arial\; color: rgb(32\, 31\, 30)\; font
 -variant-numeric: normal\; font-variant-east-asian: normal\; vertical-alig
 n: baseline\;"><br></span></p><p dir="ltr" style="margin: 0pt 0px\; font-f
 amily: Abel\, sans-serif\; text-align: center\; color: rgb(51\, 51\, 51)\;
  font-size: 14px\; caret-color: rgb(51\, 51\, 51)\; -webkit-tap-highlight-
 color: rgba(0\, 0\, 0\, 0)\; text-size-adjust: 100%\; line-height: 1.656\;
 "><span style="font-size: 11.5pt\; font-family: Arial\; color: rgb(32\, 31
 \, 30)\; font-variant-numeric: normal\; font-variant-east-asian: normal\; 
 vertical-align: baseline\;">Entradas anticipadas:<br><br></span></p><p dir
 ="ltr" style="margin: 0pt 0px\; font-family: Abel\, sans-serif\; text-alig
 n: center\; color: rgb(51\, 51\, 51)\; font-size: 14px\; caret-color: rgb(
 51\, 51\, 51)\; -webkit-tap-highlight-color: rgba(0\, 0\, 0\, 0)\; text-si
 ze-adjust: 100%\; line-height: 1.656\;"><u style="color: rgb(34\, 34\, 34)
 \; font-family: Arial\; font-size: 14.6667px\;">POR SISTEMA:<br></u><span 
 style="font-weight: 700\; color: rgb(34\, 34\, 34)\; font-family: Arial\; 
 font-size: 11pt\;">(Todos los medios de pago)</span></p><p dir="ltr" style
 ="margin: 0pt 0px\; font-family: Abel\, sans-serif\; text-align: center\; 
 color: rgb(51\, 51\, 51)\; font-size: 14px\; caret-color: rgb(51\, 51\, 51
 )\; -webkit-tap-highlight-color: rgba(0\, 0\, 0\, 0)\; text-size-adjust: 1
 00%\; line-height: 1.656\;"><span style="font-weight: 700\; color: rgb(34\
 , 34\, 34)\; font-family: Arial\; font-size: 11pt\;"><br></span></p><p dir
 ="ltr" style="margin: 0pt 0px\; font-family: Abel\, sans-serif\; text-alig
 n: center\; color: rgb(51\, 51\, 51)\; font-size: 14px\; caret-color: rgb(
 51\, 51\, 51)\; -webkit-tap-highlight-color: rgba(0\, 0\, 0\, 0)\; text-si
 ze-adjust: 100%\; line-height: 1.656\;"><font color="#222222" face="Arial"
 ><span style="font-size: 14.6667px\;"><u>Efectivo en:</u></span></font></p
 ><p dir="ltr" style="margin: 0pt 0px\; font-family: Abel\, sans-serif\; te
 xt-align: center\; color: rgb(51\, 51\, 51)\; font-size: 14px\; caret-colo
 r: rgb(51\, 51\, 51)\; -webkit-tap-highlight-color: rgba(0\, 0\, 0\, 0)\; 
 text-size-adjust: 100%\; line-height: 1.656\;"><span style="font-size: 11.
 5pt\; font-family: Arial\; color: rgb(32\, 31\, 30)\; font-weight: 700\; f
 ont-variant-numeric: normal\; font-variant-east-asian: normal\; vertical-a
 lign: baseline\;">TecnoCentro:</span><span style="font-size: 11.5pt\; font
 -family: Arial\; color: rgb(32\, 31\, 30)\; font-variant-numeric: normal\;
  font-variant-east-asian: normal\; vertical-align: baseline\;">&nbsp\;Riva
 davia 3065 -&nbsp\;<span style="font-weight: 700\;">Olavarria</span></span
 ></p><div style="text-align: center\; -webkit-tap-highlight-color: rgba(0\
 , 0\, 0\, 0)\; text-size-adjust: 100%\; font-family: Arial\, Helvetica\, s
 ans-serif\; font-size: small\; color: rgb(33\, 33\, 33)\;"><i><br></i></di
 v><p dir="ltr" style="margin: 0pt 0px\; font-family: Abel\, sans-serif\; t
 ext-align: center\; color: rgb(51\, 51\, 51)\; font-size: 14px\; caret-col
 or: rgb(51\, 51\, 51)\; -webkit-tap-highlight-color: rgba(0\, 0\, 0\, 0)\;
  text-size-adjust: 100%\; line-height: 1.656\;"><span style="font-size: 11
 pt\; font-family: Arial\; color: rgb(34\, 34\, 34)\; font-variant-numeric:
  normal\; font-variant-east-asian: normal\; vertical-align: baseline\;"><s
 pan style="font-weight: 700\;"><u>Entradas de Discapacidad</u></span></spa
 n></p><p dir="ltr" style="margin: 0pt 0px\; font-family: Abel\, sans-serif
 \; text-align: center\; color: rgb(51\, 51\, 51)\; font-size: 14px\; caret
 -color: rgb(51\, 51\, 51)\; -webkit-tap-highlight-color: rgba(0\, 0\, 0\, 
 0)\; text-size-adjust: 100%\; line-height: 1.656\;"><span style="font-size
 : 11pt\; font-family: Arial\; color: rgb(34\, 34\, 34)\; font-variant-nume
 ric: normal\; font-variant-east-asian: normal\; vertical-align: baseline\;
 "></span></p><p dir="ltr" style="margin: 0pt 0px\; font-family: Abel\, san
 s-serif\; text-align: center\; color: rgb(51\, 51\, 51)\; font-size: 14px\
 ; line-height: 1.656\;"><span style="font-size: 11pt\; font-family: Arial\
 ; color: rgb(34\, 34\, 34)\; font-variant-numeric: normal\; font-variant-e
 ast-asian: normal\; vertical-align: baseline\;">Para solicitar entradas de
  discapacidad por favor&nbsp\;dirigirse a la&nbsp\;<span style="font-weigh
 t: bolder\;">Boletería del Teatro</span>&nbsp\;de&nbsp\;<span style="font
 -weight: bolder\;">Lunes a viernes de 8:30 a 16hs.</span></span></p><p sty
 le="margin: 0pt 0px\; text-align: center\; color: rgb(34\, 34\, 34)\; font
 -family: Arial\, Helvetica\, sans-serif\; font-size: small\; line-height: 
 1.656\;"><font face="Arial" color="#ffffff"><span style="font-size: 14.666
 7px\; background-color: rgb(103\, 78\, 167)\;"><span style="font-weight: b
 older\;">Las entradas se podrán&nbsp\;solicitar a partir del 1er día há
 bil del mes corriente del evento.</span></span></font></p><p dir="ltr" sty
 le="margin: 0pt 0px\; font-family: Abel\, sans-serif\; text-align: center\
 ; color: rgb(51\, 51\, 51)\; font-size: 14px\; caret-color: rgb(51\, 51\, 
 51)\; -webkit-tap-highlight-color: rgba(0\, 0\, 0\, 0)\; text-size-adjust:
  100%\; line-height: 1.656\;"><span style="font-size: 11pt\; font-family: 
 Arial\; color: rgb(34\, 34\, 34)\; font-variant-numeric: normal\; font-var
 iant-east-asian: normal\; vertical-align: baseline\;"><br></span></p><p di
 r="ltr" style="margin: 0pt 0px\; font-family: Abel\, sans-serif\; text-ali
 gn: center\; color: rgb(51\, 51\, 51)\; font-size: 14px\; caret-color: rgb
 (51\, 51\, 51)\; -webkit-tap-highlight-color: rgba(0\, 0\, 0\, 0)\; text-s
 ize-adjust: 100%\; line-height: 1.38\;"><a href="http://www.articket.com.a
 r/" style="color: rgb(51\, 122\, 183)\;"><span style="font-size: 11.5pt\; 
 font-family: Arial\; color: rgb(17\, 85\, 204)\; font-variant-numeric: nor
 mal\; font-variant-east-asian: normal\; text-decoration-line: underline\; 
 text-decoration-skip-ink: none\; vertical-align: baseline\;">www.articket.
 com.ar</span></a></p><p style="font-family: Abel\, sans-serif\; text-align
 : center\;"><br style="color: rgb(51\, 51\, 51)\; font-size: 14px\; caret-
 color: rgb(51\, 51\, 51)\; -webkit-tap-highlight-color: rgba(0\, 0\, 0\, 0
 )\; text-size-adjust: 100%\;"></p><p dir="ltr" style="margin: 0pt 0px\; fo
 nt-family: Abel\, sans-serif\; text-align: center\; color: rgb(51\, 51\, 5
 1)\; font-size: 14px\; caret-color: rgb(51\, 51\, 51)\; -webkit-tap-highli
 ght-color: rgba(0\, 0\, 0\, 0)\; text-size-adjust: 100%\; line-height: 1.3
 8\;"><span style="font-size: 11pt\; font-family: Arial\; color: rgb(34\, 3
 4\, 34)\; font-weight: 700\; font-variant-numeric: normal\; font-variant-e
 ast-asian: normal\; vertical-align: baseline\;">APTO TODO PUBLICO</span></
 p><p dir="ltr" style="margin: 0pt 0px\; font-family: Abel\, sans-serif\; t
 ext-align: center\; color: rgb(51\, 51\, 51)\; font-size: 14px\; caret-col
 or: rgb(51\, 51\, 51)\; -webkit-tap-highlight-color: rgba(0\, 0\, 0\, 0)\;
  text-size-adjust: 100%\; line-height: 1.38\;"><span style="font-size: 11p
 t\; font-family: Arial\; color: rgb(34\, 34\, 34)\; font-weight: 700\; fon
 t-variant-numeric: normal\; font-variant-east-asian: normal\; vertical-ali
 gn: baseline\;"><br></span></p><p dir="ltr" style="margin: 0pt 0px\; font-
 family: Abel\, sans-serif\; text-align: center\; color: rgb(51\, 51\, 51)\
 ; font-size: 14px\; caret-color: rgb(51\, 51\, 51)\; -webkit-tap-highlight
 -color: rgba(0\, 0\, 0\, 0)\; text-size-adjust: 100%\; line-height: 1.38\;
 "><span style="font-size: 11pt\; font-family: Arial\; color: rgb(34\, 34\,
  34)\; font-weight: 700\; font-variant-numeric: normal\; font-variant-east
 -asian: normal\; vertical-align: baseline\;">---</span></p><p dir="ltr" st
 yle="margin: 0pt 0px\; font-family: Abel\, sans-serif\; text-align: center
 \; color: rgb(51\, 51\, 51)\; font-size: 14px\; caret-color: rgb(51\, 51\,
  51)\; -webkit-tap-highlight-color: rgba(0\, 0\, 0\, 0)\; text-size-adjust
 : 100%\; line-height: 1.38\;"><span style="font-size: 11pt\; font-family: 
 Arial\; color: rgb(34\, 34\, 34)\; font-weight: 700\; font-variant-numeric
 : normal\; font-variant-east-asian: normal\; vertical-align: baseline\;"><
 br></span></p><p dir="ltr" style="margin: 0pt 0px\; text-align: center\; -
 webkit-tap-highlight-color: rgba(0\, 0\, 0\, 0)\; text-size-adjust: 100%\;
  line-height: 1.38\;"><font color="#222222" face="Arial"><span style="font
 -size: 14.6667px\; caret-color: rgb(51\, 51\, 51)\;"><b>Este concierto for
 ma parte de su “25 Tour”\, con el que celebra 25 años de trayectoria 
 musical y presenta</b></span></font></p><p dir="ltr" style="margin: 0pt 0p
 x\; text-align: center\; -webkit-tap-highlight-color: rgba(0\, 0\, 0\, 0)\
 ; text-size-adjust: 100%\; line-height: 1.38\;"><font color="#222222" face
 ="Arial"><span style="font-size: 14.6667px\; caret-color: rgb(51\, 51\, 51
 )\;"><b>de manera oficial su reciente álbum “Vuelve”.-</b></span></fo
 nt></p><p dir="ltr" style="margin: 0pt 0px\; text-align: center\; -webkit-
 tap-highlight-color: rgba(0\, 0\, 0\, 0)\; text-size-adjust: 100%\; line-h
 eight: 1.38\;"><font color="#222222" face="Arial"><span style="font-size: 
 14.6667px\; caret-color: rgb(51\, 51\, 51)\;"><b>Axel sorprende con un con
 cierto totalmente nuevo\, donde el impacto sonoro y visual sumergen al pú
 blico</b></span></font></p><p dir="ltr" style="margin: 0pt 0px\; text-alig
 n: center\; -webkit-tap-highlight-color: rgba(0\, 0\, 0\, 0)\; text-size-a
 djust: 100%\; line-height: 1.38\;"><font color="#222222" face="Arial"><spa
 n style="font-size: 14.6667px\; caret-color: rgb(51\, 51\, 51)\;"><b>en un
  viaje único. Con producción musical de Maxi Espíndola (MYA)\, el reper
 torio es una selección de las</b></span></font></p><p dir="ltr" style="ma
 rgin: 0pt 0px\; text-align: center\; -webkit-tap-highlight-color: rgba(0\,
  0\, 0\, 0)\; text-size-adjust: 100%\; line-height: 1.38\;"><font color="#
 222222" face="Arial"><span style="font-size: 14.6667px\; caret-color: rgb(
 51\, 51\, 51)\;"><b>mejores canciones de sus 9 discos\, pero está plagado
  de clásicos esta vez en versiones totalmente</b></span></font></p><p dir
 ="ltr" style="margin: 0pt 0px\; text-align: center\; -webkit-tap-highlight
 -color: rgba(0\, 0\, 0\, 0)\; text-size-adjust: 100%\; line-height: 1.38\;
 "><font color="#222222" face="Arial"><span style="font-size: 14.6667px\; c
 aret-color: rgb(51\, 51\, 51)\;"><b>renovadas. La puesta en escena\, a car
 go del equipo de Asalto (María Becerra)\, supo plasmar la esencia del</b>
 </span></font></p><p dir="ltr" style="margin: 0pt 0px\; text-align: center
 \; -webkit-tap-highlight-color: rgba(0\, 0\, 0\, 0)\; text-size-adjust: 10
 0%\; line-height: 1.38\;"><font color="#222222" face="Arial"><span style="
 font-size: 14.6667px\; caret-color: rgb(51\, 51\, 51)\;"><b>artista sobre 
 el escenario\, con una escenografía que resalta la naturaleza y revive la
 s estaciones del año en</b></span></font></p><p dir="ltr" style="margin: 
 0pt 0px\; text-align: center\; -webkit-tap-highlight-color: rgba(0\, 0\, 0
 \, 0)\; text-size-adjust: 100%\; line-height: 1.38\;"><font color="#222222
 " face="Arial"><span style="font-size: 14.6667px\; caret-color: rgb(51\, 5
 1\, 51)\;"><b>concordancia con el recorrido musical del concierto. Este eq
 uipo creativo estuvo a cargo también de la</b></span></font></p><p dir="l
 tr" style="margin: 0pt 0px\; text-align: center\; -webkit-tap-highlight-co
 lor: rgba(0\, 0\, 0\, 0)\; text-size-adjust: 100%\; line-height: 1.38\;"><
 font color="#222222" face="Arial"><span style="font-size: 14.6667px\; care
 t-color: rgb(51\, 51\, 51)\;"><b>dirección de los videos de “El motivo
 ” y “Vuelve”\, singles del reciente disco.</b></span></font></p><p d
 ir="ltr" style="margin: 0pt 0px\; text-align: center\; -webkit-tap-highlig
 ht-color: rgba(0\, 0\, 0\, 0)\; text-size-adjust: 100%\; line-height: 1.38
 \;"><font color="#222222" face="Arial"><span style="font-size: 14.6667px\;
  caret-color: rgb(51\, 51\, 51)\;"><b>“Amo”\, “Miradas”\, “Todo 
 mi mundo”\, “Te voy a amar”\, “Tu amor por Siempre”\, “Celebra
  la vida” y hasta</b></span></font></p><p dir="ltr" style="margin: 0pt 0
 px\; text-align: center\; -webkit-tap-highlight-color: rgba(0\, 0\, 0\, 0)
 \; text-size-adjust: 100%\; line-height: 1.38\;"><font color="#222222" fac
 e="Arial"><span style="font-size: 14.6667px\; caret-color: rgb(51\, 51\, 5
 1)\;"><b>las canciones más recientes de su nuevo material estarán presen
 tes en un concierto que es un verdadero</b></span></font></p><p dir="ltr" 
 style="margin: 0pt 0px\; text-align: center\; -webkit-tap-highlight-color:
  rgba(0\, 0\, 0\, 0)\; text-size-adjust: 100%\; line-height: 1.38\;"><font
  color="#222222" face="Arial"><span style="font-size: 14.6667px\; caret-co
 lor: rgb(51\, 51\, 51)\;"><b>viaje emocional y la oportunidad para reencon
 trarse con el público de cada lugar y festejar juntos el camino</b></span
 ></font></p><p dir="ltr" style="margin: 0pt 0px\; text-align: center\; -we
 bkit-tap-highlight-color: rgba(0\, 0\, 0\, 0)\; text-size-adjust: 100%\; l
 ine-height: 1.38\;"><font color="#222222" face="Arial"><span style="font-s
 ize: 14.6667px\; caret-color: rgb(51\, 51\, 51)\;"><b>transitado.</b></spa
 n></font></p><p dir="ltr" style="margin: 0pt 0px\; text-align: center\; -w
 ebkit-tap-highlight-color: rgba(0\, 0\, 0\, 0)\; text-size-adjust: 100%\; 
 line-height: 1.38\;"><font color="#222222" face="Arial"><span style="font-
 size: 14.6667px\; caret-color: rgb(51\, 51\, 51)\;"><b>Axel finaliza este 
 2025 con 62 conciertos por Argentina y en el exterior\, siendo el único a
 rtista argentino en</b></span></font></p><p dir="ltr" style="margin: 0pt 0
 px\; text-align: center\; -webkit-tap-highlight-color: rgba(0\, 0\, 0\, 0)
 \; text-size-adjust: 100%\; line-height: 1.38\;"><font color="#222222" fac
 e="Arial"><span style="font-size: 14.6667px\; caret-color: rgb(51\, 51\, 5
 1)\;"><b>realizar 14 conciertos consecutivos en España.</b></span></font>
 </p><p dir="ltr" style="margin: 0pt 0px\; text-align: center\; -webkit-tap
 -highlight-color: rgba(0\, 0\, 0\, 0)\; text-size-adjust: 100%\; line-heig
 ht: 1.38\;"><font color="#222222" face="Arial"><span style="font-size: 14.
 6667px\; caret-color: rgb(51\, 51\, 51)\;"><b>En 2026\, recorrerá Argenti
 na\, Chile\, Uruguay\, Bolivia\, Mexico\, EEUU y nuevamente Europa.</b></s
 pan></font></p><p dir="ltr" style="margin: 0pt 0px\; text-align: center\; 
 -webkit-tap-highlight-color: rgba(0\, 0\, 0\, 0)\; text-size-adjust: 100%\
 ; line-height: 1.38\;"><font color="#222222" face="Arial"><span style="fon
 t-size: 14.6667px\; caret-color: rgb(51\, 51\, 51)\;"><b><br></b></span></
 font></p><p dir="ltr" style="margin: 0pt 0px\; text-align: center\; -webki
 t-tap-highlight-color: rgba(0\, 0\, 0\, 0)\; text-size-adjust: 100%\; line
 -height: 1.38\;"><font color="#222222" face="Arial"><span style="font-size
 : 14.6667px\; caret-color: rgb(51\, 51\, 51)\;"><b>ACERCA DE “VUELVE”\
 , SU ULTIMO ÁLBUM</b></span></font></p><p dir="ltr" style="margin: 0pt 0p
 x\; text-align: center\; -webkit-tap-highlight-color: rgba(0\, 0\, 0\, 0)\
 ; text-size-adjust: 100%\; line-height: 1.38\;"><font color="#222222" face
 ="Arial"><span style="font-size: 14.6667px\; caret-color: rgb(51\, 51\, 51
 )\;"><b><br></b></span></font></p><p dir="ltr" style="margin: 0pt 0px\; te
 xt-align: center\; -webkit-tap-highlight-color: rgba(0\, 0\, 0\, 0)\; text
 -size-adjust: 100%\; line-height: 1.38\;"><font color="#222222" face="Aria
 l"><span style="font-size: 14.6667px\; caret-color: rgb(51\, 51\, 51)\;"><
 b>El reconocido cantautor argentino Axel lanzó su nuevo álbum\, “Vuelv
 e”\, en el mes de Octubre después de 7</b></span></font></p><p dir="ltr
 " style="margin: 0pt 0px\; text-align: center\; -webkit-tap-highlight-colo
 r: rgba(0\, 0\, 0\, 0)\; text-size-adjust: 100%\; line-height: 1.38\;"><fo
 nt color="#222222" face="Arial"><span style="font-size: 14.6667px\; caret-
 color: rgb(51\, 51\, 51)\;"><b>años de su último material. Un disco de 1
 2 canciones potentes\, emocionantes\, humanas\, a corazón abierto\,</b></
 span></font></p><p dir="ltr" style="margin: 0pt 0px\; text-align: center\;
  -webkit-tap-highlight-color: rgba(0\, 0\, 0\, 0)\; text-size-adjust: 100%
 \; line-height: 1.38\;"><font color="#222222" face="Arial"><span style="fo
 nt-size: 14.6667px\; caret-color: rgb(51\, 51\, 51)\;"><b>que demuestran c
 ómo el artista sigue sorprendiendo con su talento.</b></span></font></p><
 p dir="ltr" style="margin: 0pt 0px\; text-align: center\; -webkit-tap-high
 light-color: rgba(0\, 0\, 0\, 0)\; text-size-adjust: 100%\; line-height: 1
 .38\;"><font color="#222222" face="Arial"><span style="font-size: 14.6667p
 x\; caret-color: rgb(51\, 51\, 51)\;"><b>El álbum fue grabado entre Los 
 Ángeles y Colombia bajo la producción de Cheche Alara (L.A.) y Mapache</
 b></span></font></p><p dir="ltr" style="margin: 0pt 0px\; text-align: cent
 er\; -webkit-tap-highlight-color: rgba(0\, 0\, 0\, 0)\; text-size-adjust: 
 100%\; line-height: 1.38\;"><font color="#222222" face="Arial"><span style
 ="font-size: 14.6667px\; caret-color: rgb(51\, 51\, 51)\;"><b>(COL). En co
 njunto con sus únicas letras y su inigualable voz\, nos transporta a una 
 experiencia repleta de</b></span></font></p><p dir="ltr" style="margin: 0p
 t 0px\; text-align: center\; -webkit-tap-highlight-color: rgba(0\, 0\, 0\,
  0)\; text-size-adjust: 100%\; line-height: 1.38\;"><font color="#222222" 
 face="Arial"><span style="font-size: 14.6667px\; caret-color: rgb(51\, 51\
 , 51)\;"><b>emociones y nos muestra una faceta nueva.</b></span></font></p
 ><p dir="ltr" style="margin: 0pt 0px\; text-align: center\; -webkit-tap-hi
 ghlight-color: rgba(0\, 0\, 0\, 0)\; text-size-adjust: 100%\; line-height:
  1.38\;"><font color="#222222" face="Arial"><span style="font-size: 14.666
 7px\; caret-color: rgb(51\, 51\, 51)\;"><b>Su primer single\, “El Motivo
 ” fue coescrito junto al renombrado escritor cubano Alexis Díaz Pimient
 a\, que</b></span></font></p><p dir="ltr" style="margin: 0pt 0px\; text-al
 ign: center\; -webkit-tap-highlight-color: rgba(0\, 0\, 0\, 0)\; text-size
 -adjust: 100%\; line-height: 1.38\;"><font color="#222222" face="Arial"><s
 pan style="font-size: 14.6667px\; caret-color: rgb(51\, 51\, 51)\;"><b>ha 
 trabajado con gigantes de la música como Jorge Drexler\, Juanes y Natalia
  Lafourcade\, escrito en</b></span></font></p><p dir="ltr" style="margin: 
 0pt 0px\; text-align: center\; -webkit-tap-highlight-color: rgba(0\, 0\, 0
 \, 0)\; text-size-adjust: 100%\; line-height: 1.38\;"><font color="#222222
 " face="Arial"><span style="font-size: 14.6667px\; caret-color: rgb(51\, 5
 1\, 51)\;"><b>décimas por consejo de su amigo Drexler. Le siguió “Vuel
 ve”\, tema que le da nombre al disco y es una</b></span></font></p><p di
 r="ltr" style="margin: 0pt 0px\; text-align: center\; -webkit-tap-highligh
 t-color: rgba(0\, 0\, 0\, 0)\; text-size-adjust: 100%\; line-height: 1.38\
 ;"><font color="#222222" face="Arial"><span style="font-size: 14.6667px\; 
 caret-color: rgb(51\, 51\, 51)\;"><b>metáfora de esta nueva etapa de Axel
 . Hace unos días se estrenó el tercer corte\, “Abismo”\, una balada 
 de</b></span></font></p><p dir="ltr" style="margin: 0pt 0px\; text-align: 
 center\; -webkit-tap-highlight-color: rgba(0\, 0\, 0\, 0)\; text-size-adju
 st: 100%\; line-height: 1.38\;"><font color="#222222" face="Arial"><span s
 tyle="font-size: 14.6667px\; caret-color: rgb(51\, 51\, 51)\;"><b>amor que
  narra la historia de una pareja que se enamora a primera vista mientras e
 speran en un semáforo</b></span></font></p><p dir="ltr" style="margin: 0p
 t 0px\; text-align: center\; -webkit-tap-highlight-color: rgba(0\, 0\, 0\,
  0)\; text-size-adjust: 100%\; line-height: 1.38\;"><font color="#222222" 
 face="Arial"><b><span style="font-variant-numeric: normal\; font-variant-e
 ast-asian: normal\; vertical-align: baseline\; font-size: 14.6667px\; care
 t-color: rgb(51\, 51\, 51)\;"></span></b></font></p><p dir="ltr" style="ma
 rgin: 0pt 0px\; text-align: center\; -webkit-tap-highlight-color: rgba(0\,
  0\, 0\, 0)\; text-size-adjust: 100%\; line-height: 1.38\;"><font color="#
 222222" face="Arial"><span style="font-size: 14.6667px\; caret-color: rgb(
 51\, 51\, 51)\;"><b>en rojo. Al igual que los singles anteriores\, el vide
 o fue producido por Asalto y dirigidos por Gonxalo Alipaz.</b></span></fon
 t></p><p dir="ltr" style="margin: 0pt 0px\; text-align: center\; -webkit-t
 ap-highlight-color: rgba(0\, 0\, 0\, 0)\; text-size-adjust: 100%\; line-he
 ight: 1.38\;"><font color="#222222" face="Arial"><span style="font-size: 1
 4.6667px\; caret-color: rgb(51\, 51\, 51)\;"><b><br></b></span></font></p>
 <p dir="ltr" style="margin: 0pt 0px\; text-align: center\; line-height: 1.
 38\;"><font face="Abel\, sans-serif" color="#9c9c94"><span style="font-siz
 e: 12px\;">PROMO BANCO PROVINCIA CONDICIONES:&nbsp\;<a href="https://tr.ee
 /89uSGj" target="_blank">https://tr.ee/89uSGj</a></span></font></p><p dir=
 "ltr" style="margin: 0pt 0px\; text-align: center\; line-height: 1.38\;"><
 br style="font-family: Abel\, sans-serif\;"></p><p dir="ltr" style="margin
 : 0pt 0px\; text-align: center\; -webkit-tap-highlight-color: rgba(0\, 0\,
  0\, 0)\; text-size-adjust: 100%\; line-height: 1.38\;"><br></p>
END:VEVENT
END:VCALENDAR
