BEGIN:VCALENDAR
VERSION:2.0
PRODID:-//My Calendar//mxm.dk//
BEGIN:VEVENT
SUMMARY:ORQUESTA CUMBIA GRANDE Y DJ WARKI EN CLUB TRI
DTSTART:20260122T000000Z
DTEND:20260122T080000Z
DTSTAMP:20260420T065852Z
DESCRIPTION:<p dir="ltr" style="margin: 0pt 0px\; text-align: center\; lin
 e-height: 1.656\;"><font color="#201f1e" face="Arial"><span style="font-si
 ze: 15.3333px\; white-space-collapse: preserve\;"><b><u>ORQUESTA CUMBIA GR
 ANDE Y DJ WARKI</u></b></span></font></p><p dir="ltr" style="margin: 0pt 0
 px\; text-align: center\; line-height: 1.656\;"><font color="#201f1e" face
 ="Arial"><span style="font-size: 15.3333px\; white-space-collapse: preserv
 e\;"><span style="font-weight: bolder\;"><u>EN CLUB TRI</u></span></span><
 /font></p><p dir="ltr" style="margin: 0pt 0px\; text-align: center\; line-
 height: 1.656\;"><br></p><p dir="ltr" style="margin: 0pt 0px\; text-align:
  center\; line-height: 1.656\;"><font color="#201f1e" face="Arial"><span s
 tyle="font-size: 15.3333px\; white-space-collapse: preserve\;"><span style
 ="font-weight: bolder\;"><u>\n</u></span></span></font></p><p dir="ltr" st
 yle="margin: 0pt 0px\; font-family: Abel\, sans-serif\; text-align: center
 \; color: rgb(51\, 51\, 51)\; font-size: 14px\; line-height: 1.656\;"><spa
 n style="font-size: 11.5pt\; font-family: Arial\; color: rgb(32\, 31\, 30)
 \; background-color: transparent\; font-variant-numeric: normal\; font-var
 iant-east-asian: normal\; vertical-align: baseline\; white-space-collapse:
  preserve\;">Entradas anticipadas limitadas en efectivo:</span></p><p dir=
 "ltr" style="margin: 0pt 0px\; font-family: Abel\, sans-serif\; text-align
 : center\; color: rgb(51\, 51\, 51)\; font-size: 14px\; line-height: 1.656
 \;"><span style="font-size: 11pt\; font-family: Arial\; color: rgb(34\, 34
 \, 34)\; background-color: transparent\; font-variant-numeric: normal\; fo
 nt-variant-east-asian: normal\; vertical-align: baseline\; white-space-col
 lapse: preserve\;">&nbsp\;</span></p><p dir="ltr" style="margin: 0pt 0px\;
  font-family: Abel\, sans-serif\; text-align: center\; color: rgb(51\, 51\
 , 51)\; font-size: 14px\; line-height: 1.656\;"><span style="font-size: 11
 .5pt\; font-family: Arial\; color: rgb(32\, 31\, 30)\; background-color: t
 ransparent\; font-weight: 700\; font-variant-numeric: normal\; font-varian
 t-east-asian: normal\; vertical-align: baseline\; white-space-collapse: pr
 eserve\;">La Casa de las Guitarras:</span><span style="font-size: 11.5pt\;
  font-family: Arial\; color: rgb(32\, 31\, 30)\; background-color: transpa
 rent\; font-variant-numeric: normal\; font-variant-east-asian: normal\; ve
 rtical-align: baseline\; white-space-collapse: preserve\;"> Belgrano 3420 
 - Mar del Plata</span></p><p dir="ltr" style="margin: 0pt 0px\; font-famil
 y: Abel\, sans-serif\; text-align: center\; color: rgb(51\, 51\, 51)\; fon
 t-size: 14px\; line-height: 1.656\;"><span style="font-size: 11.5pt\; font
 -family: Arial\; color: rgb(32\, 31\, 30)\; background-color: transparent\
 ; font-variant-numeric: normal\; font-variant-east-asian: normal\; vertica
 l-align: baseline\; white-space-collapse: preserve\;"><span style="font-we
 ight: bolder\;">FAVA Casa Central:</span></span><span style="font-size: 11
 .5pt\; font-family: Arial\; color: rgb(32\, 31\, 30)\; background-color: t
 ransparent\; font-weight: 700\; font-variant-numeric: normal\; font-varian
 t-east-asian: normal\; vertical-align: baseline\; white-space-collapse: pr
 eserve\;"> </span><span style="font-size: 11.5pt\; font-family: Arial\; co
 lor: rgb(32\, 31\, 30)\; background-color: transparent\; font-variant-nume
 ric: normal\; font-variant-east-asian: normal\; vertical-align: baseline\;
  white-space-collapse: preserve\;">Av. Pedro Luro 3247 - Mar del Plata</sp
 an></p><p dir="ltr" style="margin: 0pt 0px\; font-family: Abel\, sans-seri
 f\; text-align: center\; color: rgb(51\, 51\, 51)\; font-size: 14px\; line
 -height: 1.656\;"><span style="background-color: transparent\; color: rgb(
 34\, 34\, 34)\; font-family: Arial\; font-size: 11pt\; white-space-collaps
 e: preserve\;">&nbsp\;</span></p><p dir="ltr" style="margin: 0pt 0px\; fon
 t-family: Abel\, sans-serif\; text-align: center\; color: rgb(51\, 51\, 51
 )\; font-size: 14px\; line-height: 1.38\;"><a href="http://www.articket.co
 m.ar/" style="color: rgb(51\, 122\, 183)\;"><span style="font-size: 11.5pt
 \; font-family: Arial\; color: rgb(17\, 85\, 204)\; font-variant-numeric: 
 normal\; font-variant-east-asian: normal\; text-decoration-line: underline
 \; text-decoration-skip-ink: none\; vertical-align: baseline\; white-space
 -collapse: preserve\;">www.articket.com.ar</span></a></p><p dir="ltr" styl
 e="margin: 0pt 0px\; font-family: Abel\, sans-serif\; text-align: center\;
  color: rgb(51\, 51\, 51)\; font-size: 14px\; line-height: 1.656\;"><br></
 p><p dir="ltr" style="margin: 0pt 0px\; font-family: Abel\, sans-serif\; t
 ext-align: center\; color: rgb(51\, 51\, 51)\; font-size: 14px\; line-heig
 ht: 1.38\;"><span style="font-size: 11pt\; font-family: Arial\; color: rgb
 (34\, 34\, 34)\; font-variant-numeric: normal\; font-variant-east-asian: n
 ormal\; vertical-align: baseline\; white-space-collapse: preserve\;"><span
  style="font-weight: bolder\;">APTO MAYORES 18 AÑOS</span></span></p><p d
 ir="ltr" style="margin: 0pt 0px\; font-family: Abel\, sans-serif\; text-al
 ign: center\; color: rgb(51\, 51\, 51)\; font-size: 14px\; line-height: 1.
 38\;"><span style="font-size: 11pt\; font-family: Arial\; color: rgb(34\, 
 34\, 34)\; font-variant-numeric: normal\; font-variant-east-asian: normal\
 ; vertical-align: baseline\; white-space-collapse: preserve\;"><span style
 ="font-weight: bolder\;"><br></span></span></p><p dir="ltr" style="margin:
  0pt 0px\; font-family: Abel\, sans-serif\; text-align: center\; color: rg
 b(51\, 51\, 51)\; font-size: 14px\; line-height: 1.38\;"><span style="font
 -size: 11pt\; font-family: Arial\; color: rgb(34\, 34\, 34)\; font-variant
 -numeric: normal\; font-variant-east-asian: normal\; vertical-align: basel
 ine\; white-space-collapse: preserve\;"><span style="font-weight: bolder\;
 "><br></span></span></p><p dir="ltr" style="margin: 0pt 0px\; font-family:
  Abel\, sans-serif\; text-align: center\; color: rgb(51\, 51\, 51)\; font-
 size: 14px\; line-height: 1.38\;"><span style="font-size: 11pt\; font-fami
 ly: Arial\; color: rgb(34\, 34\, 34)\; font-variant-numeric: normal\; font
 -variant-east-asian: normal\; vertical-align: baseline\; white-space-colla
 pse: preserve\;"><span style="color: rgb(156\, 156\, 148)\; font-family: A
 bel\, sans-serif\; white-space-collapse: collapse\; font-size: 12px\;">PRO
 MO BANCO PROVINCIA VERANO 2026 - CONDICIONES:&nbsp\;</span><a href="https:
 //tr.ee/nf8p9Z" target="_blank" style="background-color: rgb(255\, 255\, 2
 55)\; font-family: Abel\, sans-serif\; font-size: 14px\; white-space-colla
 pse: collapse\;"><span style="font-size: 12px\;">https://tr.ee/nf8p9Z</spa
 n></a><span style="font-weight: bolder\;"></span></span></p>
END:VEVENT
END:VCALENDAR
