BEGIN:VCALENDAR
VERSION:2.0
PRODID:-//My Calendar//mxm.dk//
BEGIN:VEVENT
SUMMARY:AXEL EN TRENQUE LAUQUEN
DTSTART:20260425T000000Z
DTEND:20260425T040000Z
DTSTAMP:20260423T190557Z
DESCRIPTION:<div style="text-align: center\;"><span style="color: rgb(31\,
  31\, 31)\; font-family: &quot\;Google Sans&quot\;\, Roboto\, RobotoDraft\
 , Helvetica\, Arial\, sans-serif\; font-size: 1.375rem\; font-variant-liga
 tures: no-contextual\;"><span style="font-weight: bolder\;"><u>AXEL 25 TOU
 R<br>EN TRENQUE LAUQUEN<br></u></span></span></div><div style="text-align:
  center\; color: rgb(34\, 34\, 34)\; font-family: Arial\, Helvetica\, sans
 -serif\; font-size: small\;"><br></div><div style="text-align: center\; co
 lor: rgb(34\, 34\, 34)\; font-family: Arial\, Helvetica\, sans-serif\; fon
 t-size: small\;"><br></div><p dir="ltr" style="margin: 0pt 0px\; font-fami
 ly: Abel\, sans-serif\; text-align: center\; color: rgb(51\, 51\, 51)\; fo
 nt-size: 14px\; line-height: 1.38\;"><a href="http://www.articket.com.ar/"
  style="color: rgb(51\, 122\, 183)\;"><span style="font-size: 11.5pt\; fon
 t-family: Arial\; color: rgb(17\, 85\, 204)\; font-variant-numeric: normal
 \; font-variant-east-asian: normal\; text-decoration-line: underline\; tex
 t-decoration-skip-ink: none\; vertical-align: baseline\;">www.articket.com
 .ar</span></a></p><p class="MsoNormal" style="margin-right: 0px\; margin-b
 ottom: 10pt\; margin-left: 0px\; text-align: center\; color: rgb(34\, 34\,
  34)\; font-family: Arial\, Helvetica\, sans-serif\; font-size: small\; li
 ne-height: 14.95px\;"><span style="font-family: Calibri\, sans-serif\;"><b
 r></span></p><p class="MsoNormal" style="margin-right: 0px\; margin-bottom
 : 10pt\; margin-left: 0px\; text-align: center\; line-height: 14.95px\;"><
 font color="#222222" face="Arial"><span style="font-size: 14.6667px\;"><sp
 an style="font-weight: bolder\;">EVENTO ATP</span></span></font><br><br><f
 ont color="#222222" face="Arial"><span style="font-size: 14.6667px\;"><spa
 n style="font-weight: bolder\;">Asistir con el HardTicket en mano o el QR 
 descargado en el celular.</span></span></font><br><font color="#222222" fa
 ce="Arial"><span style="font-size: 14.6667px\;"><span style="font-weight: 
 bolder\;">No se aceptan cambios ni devoluciones.</span></span></font></p><
 div jscontroller="sggJRd" jsaction="mouseenter:Oh6g9b\; mouseleave:Oh6g9b\
 ;click:KjsqPd\; keydown:mAamLc\;" class="pG" data-tooltip-contained="true"
  data-tooltip-align="b\,l" data-tooltip-delay="1500" aria-label="Important
 e según el criterio de Google." role="switch" aria-checked="true" jsname=
 "FaKNoe" data-is-important="true" tabindex="0" style="height: 20px\; width
 : 20px\; font-size: 0px\; padding: 0px\; position: relative\; cursor: poin
 ter\; margin: 0px 8px 0px 0px\; display: inline-block\;"></div><p dir="ltr
 " style="margin: 0pt 0px\; text-align: center\; line-height: 1.38\;"><font
  face="Abel\, sans-serif" color="#9c9c94"><span style="font-size: 12px\;">
 PROMO BANCO PROVINCIA CONDICIONES:&nbsp\;<a href="https://tr.ee/89uSGj" ta
 rget="_blank">https://tr.ee/89uSGj</a></span></font></p><p dir="ltr" style
 ="margin: 0pt 0px\; text-align: center\; line-height: 1.38\;"><br style="f
 ont-family: Abel\, sans-serif\;"></p>
END:VEVENT
END:VCALENDAR
