BEGIN:VCALENDAR
VERSION:2.0
PRODID:-//My Calendar//mxm.dk//
BEGIN:VEVENT
SUMMARY:52 FIESTA NACIONAL DEL TERNERO - DIA 1 - ANGELA LEIVA Y EUGENIA QU
 EVEDO
DTSTART:20260313T220000Z
DTEND:20260314T080000Z
DTSTAMP:20260424T114822Z
DESCRIPTION:<p dir="ltr" style="margin: 0pt 0px\; text-align: center\; lin
 e-height: 1.656\;"><font color="#201f1e" face="Arial"><span style="font-si
 ze: 15.3333px\; white-space-collapse: preserve\;"><u><span style="font-wei
 ght: bolder\;">52° FIESTA NACIONAL DEL TERNERO</span></u></span></font></
 p><p dir="ltr" style="margin: 0pt 0px\; text-align: center\; line-height: 
 1.656\;"><font color="#201f1e" face="Arial"><span style="font-size: 15.333
 3px\; white-space-collapse: preserve\;"><u><span style="font-weight: bolde
 r\;">\nDIA 1</span></u></span></font></p><p dir="ltr" style="margin: 0pt 0
 px\; text-align: center\; line-height: 1.656\;"><font color="#201f1e" face
 ="Arial"><span style="font-size: 15.3333px\; white-space-collapse: preserv
 e\; font-weight: bolder\;">SHOW:</span> <span style="font-size: 15.3333px\
 ; white-space-collapse: preserve\;"><b>Angela Leiva 23 hs\nEugenia Quevedo
  y La Banda de Carlitos  00.15 hs</b></span><span style="font-size: 15.333
 3px\; white-space-collapse: preserve\; text-decoration-line: underline\; f
 ont-weight: bolder\;"><br></span></font><br></p><div style="font-family: A
 bel\, sans-serif\; text-align: center\; color: rgb(51\, 51\, 51)\; font-si
 ze: 14px\;"><div style="font-size: 14.6667px\; white-space-collapse: prese
 rve\;"><font color="#222222" face="Arial"><span style="font-weight: 700\;"
 ><u>\n</u></span></font></div></div><div style="text-align: center\; font-
 family: Arial\, Helvetica\, sans-serif\; font-size: small\; color: rgb(33\
 , 33\, 33)\;"><p dir="ltr" style="margin: 0pt 0px\; color: rgb(51\, 51\, 5
 1)\; font-family: Abel\, sans-serif\; font-size: 14px\; line-height: 1.656
 \;"><span style="font-size: 11.5pt\; font-family: Arial\; color: rgb(32\, 
 31\, 30)\; font-variant-numeric: normal\; font-variant-east-asian: normal\
 ; vertical-align: baseline\; white-space-collapse: preserve\;">Entradas an
 ticipadas limitadas en efectivo:</span></p><p dir="ltr" style="margin: 0pt
  0px\; color: rgb(51\, 51\, 51)\; font-family: Abel\, sans-serif\; font-si
 ze: 14px\; line-height: 1.656\;"><span style="font-size: 11pt\; font-famil
 y: Arial\; color: rgb(34\, 34\, 34)\; font-variant-numeric: normal\; font-
 variant-east-asian: normal\; vertical-align: baseline\; white-space-collap
 se: preserve\;">&nbsp\;</span></p><p dir="ltr" style="margin: 0pt 0px\; co
 lor: rgb(51\, 51\, 51)\; font-family: Abel\, sans-serif\; font-size: 14px\
 ; line-height: 1.656\;"><span style="font-size: 11.5pt\; font-family: Aria
 l\; color: rgb(32\, 31\, 30)\; font-weight: 700\; font-variant-numeric: no
 rmal\; font-variant-east-asian: normal\; vertical-align: baseline\; white-
 space-collapse: preserve\;">La Casa de las Guitarras:</span><span style="f
 ont-size: 11.5pt\; font-family: Arial\; color: rgb(32\, 31\, 30)\; font-va
 riant-numeric: normal\; font-variant-east-asian: normal\; vertical-align: 
 baseline\; white-space-collapse: preserve\;"> Belgrano 3420 - Mar del Plat
 a</span></p><p dir="ltr" style="margin: 0pt 0px\; font-family: Abel\, sans
 -serif\; color: rgb(51\, 51\, 51)\; font-size: 14px\; line-height: 1.656\;
 "><span style="font-size: 11.5pt\; font-family: Arial\; color: rgb(32\, 31
 \, 30)\; background-color: transparent\; font-variant-numeric: normal\; fo
 nt-variant-east-asian: normal\; vertical-align: baseline\; white-space-col
 lapse: preserve\;"><span style="font-weight: bolder\;">FAVA Casa Central:<
 /span></span><span style="font-size: 11.5pt\; font-family: Arial\; color: 
 rgb(32\, 31\, 30)\; background-color: transparent\; font-weight: 700\; fon
 t-variant-numeric: normal\; font-variant-east-asian: normal\; vertical-ali
 gn: baseline\; white-space-collapse: preserve\;"> </span><span style="font
 -size: 11.5pt\; font-family: Arial\; color: rgb(32\, 31\, 30)\; background
 -color: transparent\; font-variant-numeric: normal\; font-variant-east-asi
 an: normal\; vertical-align: baseline\; white-space-collapse: preserve\;">
 Av. Pedro Luro 3247 - Mar del Plata</span></p><p dir="ltr" style="margin: 
 0pt 0px\; font-family: Abel\, sans-serif\; text-size-adjust: 100%\; color:
  rgb(51\, 51\, 51)\; font-size: 14px\; line-height: 1.656\;"><span style="
 font-size: 11.5pt\; font-family: Arial\; color: rgb(32\, 31\, 30)\; font-v
 ariant-numeric: normal\; font-variant-east-asian: normal\; vertical-align:
  baseline\;"><span style="font-weight: bolder\;">ADN Store:</span></span><
 span style="font-size: 11.5pt\; font-family: Arial\; color: rgb(32\, 31\, 
 30)\; font-variant-numeric: normal\; font-variant-east-asian: normal\; ver
 tical-align: baseline\;">&nbsp\;Calle 61 N° 2813 - Necochea&nbsp\;</span>
 </p></div><div style="text-align: center\; font-family: Arial\, Helvetica\
 , sans-serif\; font-size: small\; color: rgb(33\, 33\, 33)\;"><i><br></i><
 /div><p dir="ltr" style="margin: 0pt 0px\; font-family: Abel\, sans-serif\
 ; text-align: center\; color: rgb(51\, 51\, 51)\; font-size: 14px\; line-h
 eight: 1.656\;"><span style="font-size: 11.5pt\; font-family: Arial\; colo
 r: rgb(32\, 31\, 30)\; font-variant-numeric: normal\; font-variant-east-as
 ian: normal\; vertical-align: baseline\; white-space-collapse: preserve\;"
 ></span></p><div style="text-align: center\; font-family: Arial\, Helvetic
 a\, sans-serif\; font-size: small\; color: rgb(33\, 33\, 33)\;"><a href="h
 ttp://www.articket.com.ar/" style="color: rgb(51\, 122\, 183)\; font-famil
 y: Abel\, sans-serif\; font-size: 14px\;"><span style="font-size: 11.5pt\;
  font-family: Arial\; color: rgb(17\, 85\, 204)\; font-variant-numeric: no
 rmal\; font-variant-east-asian: normal\; text-decoration-line: underline\;
  text-decoration-skip-ink: none\; vertical-align: baseline\; white-space-c
 ollapse: preserve\;">www.articket.com.ar</span></a><br><br><br><span style
 ="color: rgb(34\, 34\, 34)\; font-family: Arial\; font-size: 14.6667px\; f
 ont-weight: 700\; white-space-collapse: preserve\;">SHOW APTO TODO PUBLICO
 </span></div><div style="text-align: center\; font-family: Arial\, Helveti
 ca\, sans-serif\; font-size: small\; color: rgb(33\, 33\, 33)\;"><span sty
 le="text-align: start\; text-size-adjust: auto\; caret-color: rgb(212\, 21
 2\, 213)\; font-family: -apple-system\, &quot\;Helvetica Neue&quot\;\; fon
 t-size: 15px\; word-spacing: 1px\; -webkit-tap-highlight-color: rgba(255\,
  255\, 255\, 0.25)\; border-color: rgb(49\, 49\, 49)\; color: rgb(49\, 49\
 , 49)\;"><span style="font-weight: bolder\;">Abonan entrada a partir de lo
 s 13 años cumplidos.&nbsp\; Deben presentar DNI y acompañado de un mayor
 </span></span></div><div style="text-align: center\; font-family: Arial\, 
 Helvetica\, sans-serif\; font-size: small\; color: rgb(33\, 33\, 33)\;"><s
 pan style="text-align: start\; text-size-adjust: auto\; caret-color: rgb(2
 12\, 212\, 213)\; font-family: -apple-system\, &quot\;Helvetica Neue&quot\
 ;\; font-size: 15px\; word-spacing: 1px\; -webkit-tap-highlight-color: rgb
 a(255\, 255\, 255\, 0.25)\; border-color: rgb(49\, 49\, 49)\; color: rgb(4
 9\, 49\, 49)\;"><span style="font-weight: bolder\;"><br></span></span></di
 v><div style="text-align: center\; font-family: Arial\, Helvetica\, sans-s
 erif\; font-size: small\; color: rgb(33\, 33\, 33)\;"><span style="text-al
 ign: start\; text-size-adjust: auto\; caret-color: rgb(212\, 212\, 213)\; 
 font-family: -apple-system\, &quot\;Helvetica Neue&quot\;\; font-size: 15p
 x\; word-spacing: 1px\; -webkit-tap-highlight-color: rgba(255\, 255\, 255\
 , 0.25)\; border-color: rgb(49\, 49\, 49)\; color: rgb(49\, 49\, 49)\;"><s
 pan style="text-size-adjust: auto\; -webkit-tap-highlight-color: rgba(255\
 , 255\, 255\, 0.25)\; border-color: rgb(49\, 49\, 49)\;"><u style="color: 
 rgb(34\, 34\, 34)\; text-align: center\; word-spacing: 0px\; font-family: 
 Arial\; font-size: 14.6667px\; caret-color: rgb(51\, 51\, 51)\;"><span sty
 le="font-weight: bolder\;">Entradas de Discapacidad<br></span></u><span st
 yle="color: rgb(34\, 34\, 34)\; text-align: center\; word-spacing: 0px\; f
 ont-family: Arial\; font-size: 14.6667px\;">Para solicitar entradas de dis
 capacidad por favor acercarse a la sede del evento:&nbsp\;</span></span><s
 pan style="color: rgb(33\, 37\, 41)\; font-family: -apple-system\, BlinkMa
 cSystemFont\, &quot\;Segoe UI&quot\;\, Roboto\, &quot\;Helvetica Neue&quot
 \;\, Arial\, &quot\;Noto Sans&quot\;\, sans-serif\, &quot\;Apple Color Emo
 ji&quot\;\, &quot\;Segoe UI Emoji&quot\;\, &quot\;Segoe UI Symbol&quot\;\,
  &quot\;Noto Color Emoji&quot\;\; word-spacing: 0px\; font-size: 14.6667px
 \;"><font color="#222222" face="Arial">Yrigoyen 842 \, Ayacucho\, Buenos A
 ires</font></span><span style="font-weight: bolder\;"></span></span></div>
 <div style="text-align: center\; font-family: Arial\, Helvetica\, sans-ser
 if\; font-size: small\; color: rgb(33\, 33\, 33)\;"><span style="text-alig
 n: start\; text-size-adjust: auto\; caret-color: rgb(212\, 212\, 213)\; fo
 nt-family: -apple-system\, &quot\;Helvetica Neue&quot\;\; font-size: 15px\
 ; word-spacing: 1px\; -webkit-tap-highlight-color: rgba(255\, 255\, 255\, 
 0.25)\; border-color: rgb(49\, 49\, 49)\; color: rgb(49\, 49\, 49)\;"><spa
 n style="font-weight: bolder\;"><br></span></span></div><div style="text-a
 lign: center\; font-family: Arial\, Helvetica\, sans-serif\; font-size: sm
 all\; color: rgb(33\, 33\, 33)\;"><br></div><div style="text-align: center
 \; font-family: Arial\, Helvetica\, sans-serif\; font-size: small\; color:
  rgb(33\, 33\, 33)\;"><p dir="ltr" style="margin: 0pt 0px\; line-height: 1
 .38\;"><font face="Abel\, sans-serif" color="#9c9c94"><span style="font-si
 ze: 12px\;">PROMO BANCO PROVINCIA CONDICIONES:&nbsp\;<a href="https://tr.e
 e/89uSGj" target="_blank">https://tr.ee/89uSGj</a></span></font></p><p dir
 ="ltr" style="margin: 0pt 0px\; line-height: 1.38\;"><br style="color: rgb
 (33\, 37\, 41)\; font-family: -apple-system\, BlinkMacSystemFont\, &quot\;
 Segoe UI&quot\;\, Roboto\, &quot\;Helvetica Neue&quot\;\, Arial\, &quot\;N
 oto Sans&quot\;\, sans-serif\, &quot\;Apple Color Emoji&quot\;\, &quot\;Se
 goe UI Emoji&quot\;\, &quot\;Segoe UI Symbol&quot\;\, &quot\;Noto Color Em
 oji&quot\;\; font-size: 16px\;"></p></div><div style="text-align: center\;
  font-family: Arial\, Helvetica\, sans-serif\; font-size: small\; color: r
 gb(33\, 33\, 33)\;"><br></div>
END:VEVENT
END:VCALENDAR
