BEGIN:VCALENDAR
VERSION:2.0
PRODID:-//My Calendar//mxm.dk//
BEGIN:VEVENT
SUMMARY:52 FIESTA NACIONAL DEL TERNERO - DIA 2 - LUCK RA – DAMO Y PINKY 
 DE UN POCO DE RUIDO
DTSTART:20260314T220000Z
DTEND:20260315T080000Z
DTSTAMP:20260424T115105Z
DESCRIPTION:<p dir="ltr" style="margin: 0pt 0px\; text-align: center\; lin
 e-height: 1.656\;"><font color="#201f1e" face="Arial"><span style="font-si
 ze: 15.3333px\; white-space-collapse: preserve\;"><u><span style="font-wei
 ght: bolder\;">52° FIESTA NACIONAL DEL TERNERO</span></u></span></font></
 p><p dir="ltr" style="margin: 0pt 0px\; text-align: center\; line-height: 
 1.656\;"><font color="#201f1e" face="Arial"><span style="font-size: 15.333
 3px\; white-space-collapse: preserve\;"><u><span style="font-weight: bolde
 r\;">\nDIA 2</span></u></span></font></p><p dir="ltr" style="margin: 0pt 0
 px\; text-align: center\; line-height: 1.656\;"><font color="#201f1e" face
 ="Arial"><span style="font-size: 15.3333px\; white-space-collapse: preserv
 e\; font-weight: bolder\;">SHOW:</span>&nbsp\;<span style="font-size: 15.3
 333px\; white-space-collapse: preserve\;"><b>Luck Ra 00 hs&nbsp\;</b></spa
 n></font></p><p dir="ltr" style="margin: 0pt 0px\; text-align: center\; li
 ne-height: 1.656\;"><font color="#201f1e" face="Arial"><span style="font-s
 ize: 15.3333px\; white-space-collapse: preserve\;"><b>Damo 01.30 hs</b></s
 pan></font></p><p dir="ltr" style="margin: 0pt 0px\; text-align: center\; 
 line-height: 1.656\;"><font color="#201f1e" face="Arial"><span style="font
 -size: 15.3333px\; white-space-collapse: preserve\;"><b>Pinky 02 hs</b></s
 pan></font></p><p dir="ltr" style="margin: 0pt 0px\; text-align: center\; 
 line-height: 1.656\;"><font color="#201f1e" face="Arial"><span style="font
 -size: 15.3333px\; white-space-collapse: preserve\; text-decoration-line: 
 underline\; font-weight: bolder\;"></span></font><br></p><div style="font-
 family: Abel\, sans-serif\; text-align: center\; color: rgb(51\, 51\, 51)\
 ; font-size: 14px\;"><div style="font-size: 14.6667px\; white-space-collap
 se: preserve\;"><font color="#222222" face="Arial"><span style="font-weigh
 t: 700\;"><u>\n</u></span></font></div></div><div style="text-align: cente
 r\; font-family: Arial\, Helvetica\, sans-serif\; font-size: small\; color
 : rgb(33\, 33\, 33)\;"><p dir="ltr" style="margin: 0pt 0px\; color: rgb(51
 \, 51\, 51)\; font-family: Abel\, sans-serif\; font-size: 14px\; line-heig
 ht: 1.656\;"><span style="font-size: 11.5pt\; font-family: Arial\; color: 
 rgb(32\, 31\, 30)\; font-variant-numeric: normal\; font-variant-east-asian
 : normal\; vertical-align: baseline\; white-space-collapse: preserve\;">En
 tradas anticipadas limitadas en efectivo:</span></p><p dir="ltr" style="ma
 rgin: 0pt 0px\; color: rgb(51\, 51\, 51)\; font-family: Abel\, sans-serif\
 ; font-size: 14px\; line-height: 1.656\;"><span style="font-size: 11pt\; f
 ont-family: Arial\; color: rgb(34\, 34\, 34)\; font-variant-numeric: norma
 l\; font-variant-east-asian: normal\; vertical-align: baseline\; white-spa
 ce-collapse: preserve\;">&nbsp\;</span></p><p dir="ltr" style="margin: 0pt
  0px\; color: rgb(51\, 51\, 51)\; font-family: Abel\, sans-serif\; font-si
 ze: 14px\; line-height: 1.656\;"><span style="font-size: 11.5pt\; font-fam
 ily: Arial\; color: rgb(32\, 31\, 30)\; font-weight: 700\; font-variant-nu
 meric: normal\; font-variant-east-asian: normal\; vertical-align: baseline
 \; white-space-collapse: preserve\;">La Casa de las Guitarras:</span><span
  style="font-size: 11.5pt\; font-family: Arial\; color: rgb(32\, 31\, 30)\
 ; font-variant-numeric: normal\; font-variant-east-asian: normal\; vertica
 l-align: baseline\; white-space-collapse: preserve\;"> Belgrano 3420 - Mar
  del Plata</span></p><p dir="ltr" style="margin: 0pt 0px\; font-family: Ab
 el\, sans-serif\; color: rgb(51\, 51\, 51)\; font-size: 14px\; line-height
 : 1.656\;"><span style="font-size: 11.5pt\; font-family: Arial\; color: rg
 b(32\, 31\, 30)\; background-color: transparent\; font-variant-numeric: no
 rmal\; font-variant-east-asian: normal\; vertical-align: baseline\; white-
 space-collapse: preserve\;"><span style="font-weight: bolder\;">FAVA Casa 
 Central:</span></span><span style="font-size: 11.5pt\; font-family: Arial\
 ; color: rgb(32\, 31\, 30)\; background-color: transparent\; font-weight: 
 700\; font-variant-numeric: normal\; font-variant-east-asian: normal\; ver
 tical-align: baseline\; white-space-collapse: preserve\;"> </span><span st
 yle="font-size: 11.5pt\; font-family: Arial\; color: rgb(32\, 31\, 30)\; b
 ackground-color: transparent\; font-variant-numeric: normal\; font-variant
 -east-asian: normal\; vertical-align: baseline\; white-space-collapse: pre
 serve\;">Av. Pedro Luro 3247 - Mar del Plata</span></p><p dir="ltr" style=
 "margin: 0pt 0px\; font-family: Abel\, sans-serif\; text-size-adjust: 100%
 \; color: rgb(51\, 51\, 51)\; font-size: 14px\; line-height: 1.656\;"><spa
 n style="font-size: 11.5pt\; font-family: Arial\; color: rgb(32\, 31\, 30)
 \; font-variant-numeric: normal\; font-variant-east-asian: normal\; vertic
 al-align: baseline\;"><span style="font-weight: bolder\;">ADN Store:</span
 ></span><span style="font-size: 11.5pt\; font-family: Arial\; color: rgb(3
 2\, 31\, 30)\; font-variant-numeric: normal\; font-variant-east-asian: nor
 mal\; vertical-align: baseline\;">&nbsp\;Calle 61 N° 2813 - Necochea&nbsp
 \;</span></p></div><div style="text-align: center\; font-family: Arial\, H
 elvetica\, sans-serif\; font-size: small\; color: rgb(33\, 33\, 33)\;"><i>
 <br></i></div><p dir="ltr" style="margin: 0pt 0px\; font-family: Abel\, sa
 ns-serif\; text-align: center\; color: rgb(51\, 51\, 51)\; font-size: 14px
 \; line-height: 1.656\;"><span style="font-size: 11.5pt\; font-family: Ari
 al\; color: rgb(32\, 31\, 30)\; font-variant-numeric: normal\; font-varian
 t-east-asian: normal\; vertical-align: baseline\; white-space-collapse: pr
 eserve\;"></span></p><div style="text-align: center\; font-family: Arial\,
  Helvetica\, sans-serif\; font-size: small\; color: rgb(33\, 33\, 33)\;"><
 a href="http://www.articket.com.ar/" style="color: rgb(51\, 122\, 183)\; f
 ont-family: Abel\, sans-serif\; font-size: 14px\;"><span style="font-size:
  11.5pt\; font-family: Arial\; color: rgb(17\, 85\, 204)\; font-variant-nu
 meric: normal\; font-variant-east-asian: normal\; text-decoration-line: un
 derline\; text-decoration-skip-ink: none\; vertical-align: baseline\; whit
 e-space-collapse: preserve\;">www.articket.com.ar</span></a><br><br><br><s
 pan style="color: rgb(34\, 34\, 34)\; font-family: Arial\; font-size: 14.6
 667px\; font-weight: 700\; white-space-collapse: preserve\;">SHOW APTO TOD
 O PUBLICO</span></div><div style="text-align: center\; font-family: Arial\
 , Helvetica\, sans-serif\; font-size: small\; color: rgb(33\, 33\, 33)\;">
 <span style="text-align: start\; text-size-adjust: auto\; caret-color: rgb
 (212\, 212\, 213)\; font-family: -apple-system\, &quot\;Helvetica Neue&quo
 t\;\; font-size: 15px\; word-spacing: 1px\; -webkit-tap-highlight-color: r
 gba(255\, 255\, 255\, 0.25)\; border-color: rgb(49\, 49\, 49)\; color: rgb
 (49\, 49\, 49)\;"><span style="font-weight: bolder\;">Abonan entrada a par
 tir de los 13 años cumplidos.&nbsp\; Deben presentar DNI y acompañado de
  un mayor</span></span></div><div style="text-align: center\; font-family:
  Arial\, Helvetica\, sans-serif\; font-size: small\; color: rgb(33\, 33\, 
 33)\;"><span style="text-align: start\; text-size-adjust: auto\; caret-col
 or: rgb(212\, 212\, 213)\; font-family: -apple-system\, &quot\;Helvetica N
 eue&quot\;\; font-size: 15px\; word-spacing: 1px\; -webkit-tap-highlight-c
 olor: rgba(255\, 255\, 255\, 0.25)\; border-color: rgb(49\, 49\, 49)\; col
 or: rgb(49\, 49\, 49)\;"><span style="font-weight: bolder\;"><br></span></
 span></div><div style="text-align: center\; font-family: Arial\, Helvetica
 \, sans-serif\; font-size: small\; color: rgb(33\, 33\, 33)\;"><span style
 ="text-align: start\; text-size-adjust: auto\; caret-color: rgb(212\, 212\
 , 213)\; font-family: -apple-system\, &quot\;Helvetica Neue&quot\;\; font-
 size: 15px\; word-spacing: 1px\; -webkit-tap-highlight-color: rgba(255\, 2
 55\, 255\, 0.25)\; border-color: rgb(49\, 49\, 49)\; color: rgb(49\, 49\, 
 49)\;"><span style="text-size-adjust: auto\; -webkit-tap-highlight-color: 
 rgba(255\, 255\, 255\, 0.25)\; border-color: rgb(49\, 49\, 49)\;"><u style
 ="color: rgb(34\, 34\, 34)\; text-align: center\; word-spacing: 0px\; font
 -family: Arial\; font-size: 14.6667px\; caret-color: rgb(51\, 51\, 51)\;">
 <span style="font-weight: bolder\;">Entradas de Discapacidad<br></span></u
 ><span style="color: rgb(34\, 34\, 34)\; text-align: center\; word-spacing
 : 0px\; font-family: Arial\; font-size: 14.6667px\;">Para solicitar entrad
 as de discapacidad por favor acercarse a la sede del evento:&nbsp\;</span>
 </span><span style="color: rgb(33\, 37\, 41)\; font-family: -apple-system\
 , BlinkMacSystemFont\, &quot\;Segoe UI&quot\;\, Roboto\, &quot\;Helvetica 
 Neue&quot\;\, Arial\, &quot\;Noto Sans&quot\;\, sans-serif\, &quot\;Apple 
 Color Emoji&quot\;\, &quot\;Segoe UI Emoji&quot\;\, &quot\;Segoe UI Symbol
 &quot\;\, &quot\;Noto Color Emoji&quot\;\; word-spacing: 0px\; font-size: 
 14.6667px\;"><font color="#222222" face="Arial">Yrigoyen 842 \, Ayacucho\,
  Buenos Aires</font></span><span style="font-weight: bolder\;"></span></sp
 an></div><div style="text-align: center\; font-family: Arial\, Helvetica\,
  sans-serif\; font-size: small\; color: rgb(33\, 33\, 33)\;"><span style="
 text-align: start\; text-size-adjust: auto\; caret-color: rgb(212\, 212\, 
 213)\; font-family: -apple-system\, &quot\;Helvetica Neue&quot\;\; font-si
 ze: 15px\; word-spacing: 1px\; -webkit-tap-highlight-color: rgba(255\, 255
 \, 255\, 0.25)\; border-color: rgb(49\, 49\, 49)\; color: rgb(49\, 49\, 49
 )\;"><span style="font-weight: bolder\;"><br></span></span></div><div styl
 e="text-align: center\; font-family: Arial\, Helvetica\, sans-serif\; font
 -size: small\; color: rgb(33\, 33\, 33)\;"><span style="text-align: start\
 ; text-size-adjust: auto\; caret-color: rgb(212\, 212\, 213)\; font-family
 : -apple-system\, &quot\;Helvetica Neue&quot\;\; font-size: 15px\; word-sp
 acing: 1px\; -webkit-tap-highlight-color: rgba(255\, 255\, 255\, 0.25)\; b
 order-color: rgb(49\, 49\, 49)\; color: rgb(49\, 49\, 49)\;"><span style="
 font-weight: bolder\;"><br></span></span></div><div style="text-align: cen
 ter\; font-family: Arial\, Helvetica\, sans-serif\; font-size: small\; col
 or: rgb(33\, 33\, 33)\;"><span style="text-align: start\; text-size-adjust
 : auto\; caret-color: rgb(212\, 212\, 213)\; font-family: -apple-system\, 
 &quot\;Helvetica Neue&quot\;\; font-size: 15px\; word-spacing: 1px\; -webk
 it-tap-highlight-color: rgba(255\, 255\, 255\, 0.25)\; border-color: rgb(4
 9\, 49\, 49)\; color: rgb(49\, 49\, 49)\;"><span style="font-weight: bolde
 r\;"><br></span></span></div><div style="text-align: center\; font-family:
  Arial\, Helvetica\, sans-serif\; font-size: small\; color: rgb(33\, 33\, 
 33)\;"><span style="text-align: start\; text-size-adjust: auto\; caret-col
 or: rgb(212\, 212\, 213)\; font-family: -apple-system\, &quot\;Helvetica N
 eue&quot\;\; font-size: 15px\; word-spacing: 1px\; -webkit-tap-highlight-c
 olor: rgba(255\, 255\, 255\, 0.25)\; border-color: rgb(49\, 49\, 49)\; col
 or: rgb(49\, 49\, 49)\;"><p dir="ltr" style="margin: 0pt 0px\; text-align:
  center\; line-height: 1.38\;"><font face="Abel\, sans-serif" color="#9c9c
 94"><span style="font-size: 12px\;">PROMO BANCO PROVINCIA CONDICIONES:&nbs
 p\;<a href="https://tr.ee/89uSGj" target="_blank">https://tr.ee/89uSGj</a>
 </span></font></p><p dir="ltr" style="margin: 0pt 0px\; text-align: center
 \; line-height: 1.38\;"><br style="color: rgb(33\, 37\, 41)\; font-family:
  -apple-system\, BlinkMacSystemFont\, &quot\;Segoe UI&quot\;\, Roboto\, &q
 uot\;Helvetica Neue&quot\;\, Arial\, &quot\;Noto Sans&quot\;\, sans-serif\
 , &quot\;Apple Color Emoji&quot\;\, &quot\;Segoe UI Emoji&quot\;\, &quot\;
 Segoe UI Symbol&quot\;\, &quot\;Noto Color Emoji&quot\;\; font-size: 16px\
 ; word-spacing: 0px\;"></p></span></div><div style="text-align: center\; f
 ont-family: Arial\, Helvetica\, sans-serif\; font-size: small\; color: rgb
 (33\, 33\, 33)\;"><br></div>
END:VEVENT
END:VCALENDAR
