BEGIN:VCALENDAR
VERSION:2.0
PRODID:-//My Calendar//mxm.dk//
BEGIN:VEVENT
SUMMARY:SED DE FIESTA - NICO MATTIOLI DJ PIPO ARIEL EL TRAIDOR Y LOS PIBES
DTSTART:20260124T010000Z
DTEND:20260124T070000Z
DTSTAMP:20260422T093052Z
DESCRIPTION:<p dir="ltr" style="margin: 0pt 0px\; text-align: center\; tex
 t-size-adjust: 100%\; line-height: 1.656\;"><span style="text-align: left\
 ; font-size: 15.3333px\;"><font color="#201f1e" face="Arial"><span style="
 font-weight: bolder\;"><u>SED DE FIESTA<br></u></span></font></span><u sty
 le="font-size: 15.3333px\; color: rgb(32\, 31\, 30)\; font-family: Arial\;
 "><span style="font-weight: bolder\;">EN MAR DEL PLATA</span></u></p><p di
 r="ltr" style="margin: 0pt 0px\; font-family: Abel\, sans-serif\; text-ali
 gn: center\; text-size-adjust: 100%\; color: rgb(51\, 51\, 51)\; font-size
 : 14px\; line-height: 1.656\;"><font color="#201f1e" face="Arial"><span st
 yle="font-size: 15.3333px\;"><span style="font-weight: 700\; text-decorati
 on-line: underline\;"><br></span></span></font></p><p dir="ltr" style="mar
 gin: 0pt 0px\; font-family: Abel\, sans-serif\; text-align: center\; text-
 size-adjust: 100%\; color: rgb(51\, 51\, 51)\; font-size: 14px\; line-heig
 ht: 1.656\;"><font color="#201f1e" face="Arial"><span style="font-size: 15
 .3333px\;"><u style="font-weight: 700\;"></u></span></font></p><p dir="ltr
 " style="margin: 0pt 0px\; font-family: Abel\, sans-serif\; text-align: ce
 nter\; text-size-adjust: 100%\; color: rgb(51\, 51\, 51)\; font-size: 14px
 \; line-height: 1.656\;"><span style="color: rgb(32\, 31\, 30)\; font-fami
 ly: Arial\; font-size: 11.5pt\;">Entradas anticipadas limitadas en efectiv
 o:</span></p><p dir="ltr" style="margin: 0pt 0px\; font-family: Abel\, san
 s-serif\; text-align: center\; text-size-adjust: 100%\; color: rgb(51\, 51
 \, 51)\; font-size: 14px\; line-height: 1.656\;"><span style="font-size: 1
 1pt\; font-family: Arial\; color: rgb(34\, 34\, 34)\; font-variant-numeric
 : normal\; font-variant-east-asian: normal\; vertical-align: baseline\;">&
 nbsp\;</span></p><p dir="ltr" style="margin: 0pt 0px\; font-family: Abel\,
  sans-serif\; text-align: center\; text-size-adjust: 100%\; color: rgb(51\
 , 51\, 51)\; font-size: 14px\; line-height: 1.656\;"><span style="font-siz
 e: 11.5pt\; font-family: Arial\; color: rgb(32\, 31\, 30)\; font-weight: 7
 00\; font-variant-numeric: normal\; font-variant-east-asian: normal\; vert
 ical-align: baseline\;">La Casa de las Guitarras:</span><span style="font-
 size: 11.5pt\; font-family: Arial\; color: rgb(32\, 31\, 30)\; font-varian
 t-numeric: normal\; font-variant-east-asian: normal\; vertical-align: base
 line\;">&nbsp\;Belgrano 3420 - Mar del Plata</span></p><p dir="ltr" style=
 "margin: 0pt 0px\; font-family: Abel\, sans-serif\; text-align: center\; c
 olor: rgb(51\, 51\, 51)\; font-size: 14px\; line-height: 1.656\;"><span st
 yle="font-size: 11.5pt\; font-family: Arial\; color: rgb(32\, 31\, 30)\; b
 ackground-color: transparent\; font-variant-numeric: normal\; font-variant
 -east-asian: normal\; vertical-align: baseline\; white-space-collapse: pre
 serve\;"><span style="font-weight: bolder\;">FAVA Casa Central:</span></sp
 an><span style="font-size: 11.5pt\; font-family: Arial\; color: rgb(32\, 3
 1\, 30)\; background-color: transparent\; font-weight: 700\; font-variant-
 numeric: normal\; font-variant-east-asian: normal\; vertical-align: baseli
 ne\; white-space-collapse: preserve\;"> </span><span style="font-size: 11.
 5pt\; font-family: Arial\; color: rgb(32\, 31\, 30)\; background-color: tr
 ansparent\; font-variant-numeric: normal\; font-variant-east-asian: normal
 \; vertical-align: baseline\; white-space-collapse: preserve\;">Av. Pedro 
 Luro 3247 - Mar del Plata</span></p><div><span style="font-size: 11.5pt\; 
 font-family: Arial\; color: rgb(32\, 31\, 30)\; background-color: transpar
 ent\; font-variant-numeric: normal\; font-variant-east-asian: normal\; ver
 tical-align: baseline\; white-space-collapse: preserve\;"><br></span></div
 ><p dir="ltr" style="margin: 0pt 0px\; font-family: Abel\, sans-serif\; te
 xt-align: center\; text-size-adjust: 100%\; color: rgb(51\, 51\, 51)\; fon
 t-size: 14px\; line-height: 1.38\;"><a href="http://www.articket.com.ar/" 
 style="color: rgb(51\, 122\, 183)\;"><span style="font-size: 11.5pt\; font
 -family: Arial\; color: rgb(17\, 85\, 204)\; font-variant-numeric: normal\
 ; font-variant-east-asian: normal\; text-decoration-line: underline\; text
 -decoration-skip-ink: none\; vertical-align: baseline\;">www.articket.com.
 ar</span></a></p><p class="MsoNormal" style="margin-right: 0px\; margin-bo
 ttom: 10pt\; margin-left: 0px\; text-align: center\; text-size-adjust: 100
 %\; color: rgb(34\, 34\, 34)\; font-family: Arial\, Helvetica\, sans-serif
 \; font-size: small\; line-height: 14.95px\;"><span style="font-family: Ca
 libri\, sans-serif\;"><br></span></p><p class="MsoNormal" style="margin-ri
 ght: 0px\; margin-bottom: 10pt\; margin-left: 0px\; text-align: center\; t
 ext-size-adjust: 100%\; color: rgb(34\, 34\, 34)\; font-family: Arial\, He
 lvetica\, sans-serif\; font-size: small\; line-height: 14.95px\;"><span st
 yle="font-family: Calibri\, sans-serif\;"><span style="font-weight: 700\; 
 font-family: Arial\; font-size: 14.6667px\;">EVENTO APTO +18</span></span>
 </p><p class="MsoNormal" style="margin-right: 0px\; margin-bottom: 10pt\; 
 margin-left: 0px\; text-align: center\; text-size-adjust: 100%\; color: rg
 b(34\, 34\, 34)\; font-family: Arial\, Helvetica\, sans-serif\; font-size:
  small\; line-height: 14.95px\;"><span style="font-family: Calibri\, sans-
 serif\;"><span style="font-weight: 700\; font-family: Arial\; font-size: 1
 4.6667px\;">Asistir con el HardTicket en mano o el QR descargado en el cel
 ular.<br>No se aceptan cambios ni devoluciones.</span></span></p><p class=
 "MsoNormal" style="margin-right: 0px\; margin-bottom: 10pt\; margin-left: 
 0px\; text-align: center\; text-size-adjust: 100%\; color: rgb(34\, 34\, 3
 4)\; font-family: Arial\, Helvetica\, sans-serif\; font-size: small\; line
 -height: 14.95px\;"><span style="font-family: Calibri\, sans-serif\;"><spa
 n style="font-weight: 700\; font-family: Arial\; font-size: 14.6667px\;"><
 br></span></span></p><p class="MsoNormal" style="margin-right: 0px\; margi
 n-bottom: 10pt\; margin-left: 0px\; text-align: center\; text-size-adjust:
  100%\; color: rgb(34\, 34\, 34)\; font-family: Arial\, Helvetica\, sans-s
 erif\; font-size: small\; line-height: 14.95px\;"><span style="font-family
 : Calibri\, sans-serif\;"><span style="font-weight: 700\; font-family: Ari
 al\; font-size: 14.6667px\;">---</span></span></p><p class="MsoNormal" sty
 le="margin-right: 0px\; margin-bottom: 10pt\; margin-left: 0px\; text-alig
 n: center\; text-size-adjust: 100%\; line-height: 14.95px\;"><br></p><p cl
 ass="MsoNormal" style="margin-right: 0px\; margin-bottom: 10pt\; margin-le
 ft: 0px\; text-align: center\; text-size-adjust: 100%\; line-height: 14.95
 px\;"><br></p><p class="MsoNormal" style="margin-right: 0px\; margin-botto
 m: 10pt\; margin-left: 0px\; text-align: center\; text-size-adjust: 100%\;
  line-height: 14.95px\;"><font color="#222222" face="Arial\, Helvetica\, s
 ans-serif" size="2"><span style="font-size: 14px\;"><br></span></font></p>
 <p class="MsoNormal" style="margin-right: 0px\; margin-bottom: 10pt\; marg
 in-left: 0px\; text-align: center\; text-size-adjust: 100%\; line-height: 
 14.95px\;"><span style="color: rgb(156\, 156\, 148)\; font-family: Abel\, 
 sans-serif\; font-size: 12px\;">PROMO BANCO PROVINCIA VERANO 2026 - CONDIC
 IONES:&nbsp\;</span><a href="https://tr.ee/nf8p9Z" target="_blank" style="
 color: rgb(0\, 86\, 179)\; text-decoration-line: underline\; background-co
 lor: rgb(255\, 255\, 255)\; font-family: Abel\, sans-serif\; font-size: 14
 px\;"><span style="font-size: 12px\;">https://tr.ee/nf8p9Z</span></a></p>
END:VEVENT
END:VCALENDAR
