BEGIN:VCALENDAR
VERSION:2.0
PRODID:-//My Calendar//mxm.dk//
BEGIN:VEVENT
SUMMARY:AXEL 25 TOUR EN TRES ARROYOS
DTSTART:20260502T000000Z
DTEND:20260502T025500Z
DTSTAMP:20260424T125453Z
DESCRIPTION:<p dir="ltr" style="margin: 0pt 0px\; text-align: center\; tex
 t-size-adjust: 100%\; line-height: 1.656\;"><font color="#201f1e" face="Ar
 ial"><span style="font-size: 15.3333px\; caret-color: rgb(32\, 31\, 30)\;"
 ><u><span style="font-weight: bolder\;">AXEL 25 TOUR</span></u></span></fo
 nt></p><p dir="ltr" style="margin: 0pt 0px\; text-align: center\; text-siz
 e-adjust: 100%\; line-height: 1.656\;"><font color="#201f1e" face="Arial">
 <span style="font-size: 15.3333px\; caret-color: rgb(32\, 31\, 30)\;"><u><
 span style="font-weight: bolder\;">EN TRES ARROYOS</span></u></span></font
 ></p><p dir="ltr" style="margin: 0pt 0px\; font-family: Abel\, sans-serif\
 ; text-align: center\; text-size-adjust: 100%\; line-height: 1.656\;"><br>
 </p><p dir="ltr" style="margin: 0pt 0px\; text-align: center\; text-size-a
 djust: 100%\; line-height: 1.656\;"><font face="Abel\, sans-serif"><br></f
 ont></p><div style="font-family: Abel\, sans-serif\; text-align: center\; 
 text-size-adjust: 100%\; color: rgb(51\, 51\, 51)\; font-size: 14px\;"><di
 v style="font-size: 14.6667px\;"><font color="#222222" face="Arial"><span 
 style="font-weight: 700\;"><u></u></span></font></div></div><div style="te
 xt-align: center\; text-size-adjust: 100%\; font-family: Arial\, Helvetica
 \, sans-serif\; font-size: small\; color: rgb(33\, 33\, 33)\;"><p dir="ltr
 " style="margin: 0pt 0px\; color: rgb(51\, 51\, 51)\; font-family: Abel\, 
 sans-serif\; font-size: 14px\; line-height: 1.656\;"><span style="font-siz
 e: 11.5pt\; font-family: Arial\; color: rgb(32\, 31\, 30)\; font-variant-n
 umeric: normal\; font-variant-east-asian: normal\; vertical-align: baselin
 e\;">Entradas en efectivo en Boleteria del Teatro</span></p></div><div sty
 le="text-align: center\; text-size-adjust: 100%\; font-family: Arial\, Hel
 vetica\, sans-serif\; font-size: small\; color: rgb(33\, 33\, 33)\;"><i><b
 r><div style="text-size-adjust: 100%\;"><br></div></i></div><p dir="ltr" s
 tyle="margin: 0pt 0px\; font-family: Abel\, sans-serif\; text-align: cente
 r\; text-size-adjust: 100%\; color: rgb(51\, 51\, 51)\; font-size: 14px\; 
 line-height: 1.656\;"><span style="font-size: 11.5pt\; font-family: Arial\
 ; color: rgb(32\, 31\, 30)\; font-variant-numeric: normal\; font-variant-e
 ast-asian: normal\; vertical-align: baseline\;"></span></p><div style="tex
 t-align: center\; text-size-adjust: 100%\; font-family: Arial\, Helvetica\
 , sans-serif\; font-size: small\; color: rgb(33\, 33\, 33)\;"><a href="htt
 p://www.articket.com.ar/" style="color: rgb(51\, 122\, 183)\; font-family:
  Abel\, sans-serif\; font-size: 14px\;"><span style="font-size: 11.5pt\; f
 ont-family: Arial\; color: rgb(17\, 85\, 204)\; font-variant-numeric: norm
 al\; font-variant-east-asian: normal\; text-decoration-line: underline\; t
 ext-decoration-skip-ink: none\; vertical-align: baseline\;">www.articket.c
 om.ar</span></a><br><br><br><span style="color: rgb(34\, 34\, 34)\; font-f
 amily: Arial\; font-size: 14.6667px\; font-weight: 700\;">SHOW APTO TODO P
 UBLICO<br><br></span></div><div style="text-align: center\; text-size-adju
 st: 100%\; font-family: Arial\, Helvetica\, sans-serif\; font-size: small\
 ; color: rgb(33\, 33\, 33)\;"><p dir="ltr" style="margin: 0pt 0px\; line-h
 eight: 1.38\;"><font face="Abel\, sans-serif" color="#9c9c94"><span style=
 "font-size: 12px\;">PROMO BANCO PROVINCIA CONDICIONES:&nbsp\;<a href="http
 s://tr.ee/89uSGj" target="_blank">https://tr.ee/89uSGj</a></span></font></
 p><p dir="ltr" style="margin: 0pt 0px\; line-height: 1.38\;"><br style="co
 lor: rgb(33\, 37\, 41)\; font-family: Abel\, sans-serif\; font-size: 16px\
 ;"></p></div><div style="text-align: center\; text-size-adjust: 100%\; fon
 t-family: Arial\, Helvetica\, sans-serif\; font-size: small\; color: rgb(3
 3\, 33\, 33)\;"><br></div>
END:VEVENT
END:VCALENDAR
