BEGIN:VCALENDAR
VERSION:2.0
PRODID:-//My Calendar//mxm.dk//
BEGIN:VEVENT
SUMMARY:FESTIVAL DOMA Y FOLCLORE OLAVARRIA 2026 VIERNES
DTSTART:20260213T150000Z
DTEND:20260214T080000Z
DTSTAMP:20260419T115511Z
DESCRIPTION:<p dir="ltr" style="margin: 0pt 0px\; text-align: center\; tex
 t-size-adjust: 100%\; line-height: 1.656\;"><font color="#201f1e" face="Ar
 ial"><span style="font-size: 18px\;"><b><u>DIA 1\, VIERNES 13</u></b></spa
 n></font></p><p dir="ltr" style="margin: 0pt 0px\; font-family: Abel\, san
 s-serif\; text-align: center\; text-size-adjust: 100%\; color: rgb(51\, 51
 \, 51)\; font-size: 14px\; line-height: 1.656\;"><font color="#201f1e" fac
 e="Arial"><span style="font-size: 15.3333px\;"><span style="font-weight: 7
 00\; text-decoration-line: underline\; font-size: 18px\;">FIESTA NACIONAL 
 DE DOMA Y FOLCLORE 2026</span></span></font></p><p dir="ltr" style="margin
 : 0pt 0px\; font-family: Abel\, sans-serif\; text-align: center\; text-siz
 e-adjust: 100%\; color: rgb(51\, 51\, 51)\; font-size: 14px\; line-height:
  1.656\;"><font color="#201f1e" face="Arial"><span style="font-size: 15.33
 33px\;"><span style="font-weight: 700\; text-decoration-line: underline\;"
 ><span style="font-size: 18px\;">OLAVARRIA</span><br></span></span></font>
 </p><p dir="ltr" style="margin: 0pt 0px\; text-align: center\; text-size-a
 djust: 100%\; line-height: 1.656\;"><font face="Arial"><br></font></p><p d
 ir="ltr" style="margin: 0pt 0px\; text-align: center\; text-size-adjust: 1
 00%\; line-height: 1.656\;"><font face="Arial" style="background-color: rg
 b(255\, 255\, 0)\;"><b>LAS ENTRADAS DEBEN CANJEARSE EN LA BOLETERIA UBICAD
 A EN AV. DEL MAESTRO (CALLE 10)</b></font></p><p dir="ltr" style="margin: 
 0pt 0px\; text-align: center\; text-size-adjust: 100%\; line-height: 1.656
 \;"><font face="Arial" style="background-color: rgb(255\, 255\, 0)\;"><b>E
 sta modalidad de venta online corresponde únicamente a entradas generales
  sin platea. Entrada no válida para sorteo.</b></font></p><p dir="ltr" st
 yle="margin: 0pt 0px\; text-align: center\; text-size-adjust: 100%\; line-
 height: 1.656\;"><font face="Arial"><br></font></p><p dir="ltr" style="mar
 gin: 0pt 0px\; text-align: center\; text-size-adjust: 100%\; line-height: 
 1.656\;"><font color="#000000" face="Arial">El Festival Nacional de Doma y
  Folclore de Olavarría invita a todo el país a vivir el inicio de su 22.
 ª edición. A través de la venta online\, los interesados pueden adquiri
 r su entrada general para el primer día del evento\, facilitando el acces
 o al predio de la Sociedad Rural para disfrutar de una programación integ
 ral.</font></p><p dir="ltr" style="margin: 0pt 0px\; text-align: center\; 
 text-size-adjust: 100%\; line-height: 1.656\;"><font color="#000000" face=
 "Arial"><br></font></p><p dir="ltr" style="margin: 0pt 0px\; text-align: c
 enter\; text-size-adjust: 100%\; line-height: 1.656\;"><font color="#00000
 0" face="Arial">Grilla artística del viernes 13</font></p><p dir="ltr" st
 yle="margin: 0pt 0px\; text-align: center\; text-size-adjust: 100%\; line-
 height: 1.656\;"><font color="#000000" face="Arial">El escenario mayor rec
 ibirá a figuras consagradas y talentos regionales en una noche que promet
 e ser inolvidable:</font></p><p dir="ltr" style="margin: 0pt 0px\; text-al
 ign: center\; text-size-adjust: 100%\; line-height: 1.656\;"><font color="
 #000000" face="Arial">Ahyre</font></p><p dir="ltr" style="margin: 0pt 0px\
 ; text-align: center\; text-size-adjust: 100%\; line-height: 1.656\;"><fon
 t color="#000000" face="Arial">Caldenes</font></p><p dir="ltr" style="marg
 in: 0pt 0px\; text-align: center\; text-size-adjust: 100%\; line-height: 1
 .656\;"><font color="#000000" face="Arial">Leonardo Miranda</font></p><p d
 ir="ltr" style="margin: 0pt 0px\; text-align: center\; text-size-adjust: 1
 00%\; line-height: 1.656\;"><font color="#000000" face="Arial">Los Juarez<
 /font></p><p dir="ltr" style="margin: 0pt 0px\; text-align: center\; text-
 size-adjust: 100%\; line-height: 1.656\;"><font color="#000000" face="Aria
 l">Alejandro Carrara</font></p><p dir="ltr" style="margin: 0pt 0px\; text-
 align: center\; text-size-adjust: 100%\; line-height: 1.656\;"><font color
 ="#000000" face="Arial">Jesica Minteguia</font></p><p dir="ltr" style="mar
 gin: 0pt 0px\; text-align: center\; text-size-adjust: 100%\; line-height: 
 1.656\;"><font color="#000000" face="Arial">Entre Amigos</font></p><p dir=
 "ltr" style="margin: 0pt 0px\; text-align: center\; text-size-adjust: 100%
 \; line-height: 1.656\;"><font color="#000000" face="Arial">Alexis Figuero
 a</font></p><p dir="ltr" style="margin: 0pt 0px\; text-align: center\; tex
 t-size-adjust: 100%\; line-height: 1.656\;"><font color="#000000" face="Ar
 ial"><br></font></p><p dir="ltr" style="margin: 0pt 0px\; text-align: cent
 er\; text-size-adjust: 100%\; line-height: 1.656\;"><font color="#000000" 
 face="Arial">Atractivos y actividades del predio</font></p><p dir="ltr" st
 yle="margin: 0pt 0px\; text-align: center\; text-size-adjust: 100%\; line-
 height: 1.656\;"><font color="#000000" face="Arial">Con tu entrada general
 \, no solo accedés a los espectáculos musicales\, sino a toda la experie
 ncia del festival:</font></p><p dir="ltr" style="margin: 0pt 0px\; text-al
 ign: center\; text-size-adjust: 100%\; line-height: 1.656\;"><font color="
 #000000" face="Arial">Jineteadas y Peñas: Un despliegue de destreza criol
 la y el semillero de nuevos artistas.</font></p><p dir="ltr" style="margin
 : 0pt 0px\; text-align: center\; text-size-adjust: 100%\; line-height: 1.6
 56\;"><font color="#000000" face="Arial">Gastronomía y Paseos: Una variad
 a oferta de sabores tradicionales y puestos de artesanos para recorrer en 
 familia.</font></p><div style="font-family: Abel\, sans-serif\; text-align
 : center\;"><span style="caret-color: rgb(51\, 51\, 51)\; font-size: 11.5p
 t\; font-family: Arial\; color: rgb(32\, 31\, 30)\; font-variant-numeric: 
 normal\; font-variant-east-asian: normal\; vertical-align: baseline\;"><sp
 an style="font-weight: 700\;"><br></span></span></div><p dir="ltr" style="
 margin: 0pt 0px\; font-family: Abel\, sans-serif\; text-align: center\; te
 xt-size-adjust: 100%\; color: rgb(51\, 51\, 51)\; font-size: 14px\; line-h
 eight: 1.38\;"><a href="http://www.articket.com.ar/" style="color: rgb(51\
 , 122\, 183)\;"><span style="font-size: 11.5pt\; font-family: Arial\; colo
 r: rgb(17\, 85\, 204)\; font-variant-numeric: normal\; font-variant-east-a
 sian: normal\; text-decoration-line: underline\; text-decoration-skip-ink:
  none\; vertical-align: baseline\;">www.articket.com.ar</span></a></p><p c
 lass="MsoNormal" style="margin-right: 0px\; margin-bottom: 10pt\; margin-l
 eft: 0px\; text-align: center\; text-size-adjust: 100%\; color: rgb(34\, 3
 4\, 34)\; font-family: Arial\, Helvetica\, sans-serif\; font-size: small\;
  line-height: 14.95px\;"><span style="font-family: Calibri\, sans-serif\;"
 ><br></span></p><p class="MsoNormal" style="margin-right: 0px\; margin-bot
 tom: 10pt\; margin-left: 0px\; text-align: center\; text-size-adjust: 100%
 \; color: rgb(34\, 34\, 34)\; font-family: Arial\, Helvetica\, sans-serif\
 ; font-size: small\; line-height: 14.95px\;"><span style="font-family: Cal
 ibri\, sans-serif\;"><span style="font-weight: 700\; font-family: Arial\; 
 font-size: 14.6667px\;">EVENTO APTO TODO PUBLICO</span></span></p><p class
 ="MsoNormal" style="margin-right: 0px\; margin-bottom: 10pt\; margin-left:
  0px\; text-align: center\; text-size-adjust: 100%\; color: rgb(34\, 34\, 
 34)\; font-family: Arial\, Helvetica\, sans-serif\; font-size: small\; lin
 e-height: 14.95px\;"><span style="font-family: Calibri\, sans-serif\;"><sp
 an style="font-weight: 700\; font-family: Arial\; font-size: 14.6667px\;">
 <br></span></span></p><p class="MsoNormal" style="margin-right: 0px\; marg
 in-bottom: 10pt\; margin-left: 0px\; text-align: center\; text-size-adjust
 : 100%\; color: rgb(34\, 34\, 34)\; font-family: Arial\, Helvetica\, sans-
 serif\; font-size: small\; line-height: 14.95px\;"><span style="font-famil
 y: Calibri\, sans-serif\;"><span style="font-weight: 700\; font-family: Ar
 ial\; font-size: 14.6667px\;"><br></span></span></p><p class="MsoNormal" s
 tyle="margin-right: 0px\; margin-bottom: 10pt\; margin-left: 0px\; text-al
 ign: center\; text-size-adjust: 100%\; color: rgb(34\, 34\, 34)\; font-fam
 ily: Arial\, Helvetica\, sans-serif\; font-size: small\; line-height: 14.9
 5px\;"><span style="color: rgb(156\, 156\, 148)\; font-family: Abel\, sans
 -serif\; font-size: 12px\;">PROMO BANCO PROVINCIA VERANO 2026 - CONDICIONE
 S:&nbsp\;</span><a href="https://tr.ee/nf8p9Z" target="_blank" style="back
 ground-color: rgb(255\, 255\, 255)\; font-family: Abel\, sans-serif\; font
 -size: 14px\;"><span style="font-size: 12px\;">https://tr.ee/nf8p9Z</span>
 </a></p>
END:VEVENT
END:VCALENDAR
