BEGIN:VCALENDAR
VERSION:2.0
PRODID:-//My Calendar//mxm.dk//
BEGIN:VEVENT
SUMMARY:CRUZANDO EL CHARCO EN BAHIA BLANCA
DTSTART:20260321T000000Z
DTEND:20260321T025500Z
DTSTAMP:20260421T090742Z
DESCRIPTION:<p dir="ltr" style="margin: 0pt 0px\; font-family: Abel\, sans
 -serif\; text-align: center\; line-height: 1.656\;"><font color="#201f1e" 
 face="Arial"><span style="font-size: 15.3333px\;"><span style="font-weight
 : bolder\;"><u><span style="font-weight: bolder\;">CRUZANDO EL CHARCO<br>E
 N BAHIA BLANCA</span></u></span></span></font></p><p dir="ltr" style="marg
 in: 0pt 0px\; font-family: Abel\, sans-serif\; text-align: center\; color:
  rgb(51\, 51\, 51)\; font-size: 14px\; line-height: 1.656\;"><span style="
 font-size: 11pt\; font-family: Arial\; color: rgb(34\, 34\, 34)\; backgrou
 nd-color: transparent\; font-variant-numeric: normal\; font-variant-east-a
 sian: normal\; vertical-align: baseline\; white-space-collapse: preserve\;
 "></span></p><p dir="ltr" style="margin: 0pt 0px\; font-family: Abel\, san
 s-serif\; text-align: center\; text-size-adjust: 100%\; color: rgb(51\, 51
 \, 51)\; font-size: 14px\; line-height: 1.656\;"><br></p><p dir="ltr" styl
 e="margin: 0pt 0px\; font-family: Abel\, sans-serif\; text-align: center\;
  text-size-adjust: 100%\; color: rgb(51\, 51\, 51)\; font-size: 14px\; lin
 e-height: 1.656\;"><span style="font-size: 11.5pt\; font-family: Arial\; c
 olor: rgb(32\, 31\, 30)\; font-variant-numeric: normal\; font-variant-east
 -asian: normal\; vertical-align: baseline\;"><br></span></p><p dir="ltr" s
 tyle="margin: 0pt 0px\; font-family: Abel\, sans-serif\; text-align: cente
 r\; color: rgb(51\, 51\, 51)\; font-size: 14px\; line-height: 1.38\;"><a h
 ref="http://www.articket.com.ar/" style="color: rgb(51\, 122\, 183)\;"><sp
 an style="font-size: 11.5pt\; font-family: Arial\; color: rgb(17\, 85\, 20
 4)\; font-variant-numeric: normal\; font-variant-east-asian: normal\; text
 -decoration-line: underline\; text-decoration-skip-ink: none\; vertical-al
 ign: baseline\; white-space-collapse: preserve\;">www.articket.com.ar</spa
 n></a></p><p class="MsoNormal" style="margin-right: 0px\; margin-bottom: 1
 0pt\; margin-left: 0px\; text-align: center\; color: rgb(34\, 34\, 34)\; f
 ont-family: Arial\, Helvetica\, sans-serif\; font-size: small\; line-heigh
 t: 14.95px\;"><span style="font-family: Calibri\, sans-serif\;"><br></span
 ></p><p dir="ltr" style="margin: 0pt 0px\; font-family: Abel\, sans-serif\
 ; text-align: center\; color: rgb(51\, 51\, 51)\; font-size: 14px\; line-h
 eight: 1.38\;"><span style="font-family: Arial\; font-size: 14.6667px\; fo
 nt-weight: 700\; color: rgb(34\, 34\, 34)\;">EVENTO APTO TODO PUBLICO</spa
 n></p><p class="MsoNormal" style="margin-right: 0px\; margin-bottom: 10pt\
 ; margin-left: 0px\; text-align: center\; text-size-adjust: 100%\; color: 
 rgb(34\, 34\, 34)\; font-family: Arial\, Helvetica\, sans-serif\; font-siz
 e: small\; line-height: 14.95px\;"><span style="font-family: Calibri\, san
 s-serif\;"><span style="font-weight: 700\; font-family: Arial\; font-size:
  14.6667px\;">Asistir con el HardTicket en mano o el QR descargado en el c
 elular.<br>No se aceptan cambios ni devoluciones.</span></span></p><p clas
 s="MsoNormal" style="margin-right: 0px\; margin-bottom: 10pt\; margin-left
 : 0px\; text-align: center\; text-size-adjust: 100%\; color: rgb(34\, 34\,
  34)\; font-family: Arial\, Helvetica\, sans-serif\; font-size: small\; li
 ne-height: 14.95px\;"><span style="font-family: Calibri\, sans-serif\;"><s
 pan style="font-weight: 700\; font-family: Arial\; font-size: 14.6667px\;"
 ><br></span></span></p><p class="MsoNormal" style="margin-right: 0px\; mar
 gin-bottom: 10pt\; margin-left: 0px\; text-align: center\; text-size-adjus
 t: 100%\; color: rgb(34\, 34\, 34)\; font-family: Arial\, Helvetica\, sans
 -serif\; font-size: small\; line-height: 14.95px\;"><span style="font-fami
 ly: Calibri\, sans-serif\;"><span style="font-weight: 700\; font-family: A
 rial\; font-size: 14.6667px\;"><br></span></span></p><p dir="ltr" style="m
 argin: 0pt 0px\; text-align: center\; line-height: 1.38\;"><font face="Abe
 l\, sans-serif" color="#9c9c94"><span style="font-size: 12px\;">PROMO BANC
 O PROVINCIA CONDICIONES:&nbsp\;<a href="https://tr.ee/89uSGj" target="_bla
 nk">https://tr.ee/89uSGj</a></span></font></p><p dir="ltr" style="margin: 
 0pt 0px\; text-align: center\; line-height: 1.38\;"><br></p>
END:VEVENT
END:VCALENDAR
