BEGIN:VCALENDAR
VERSION:2.0
PRODID:-//My Calendar//mxm.dk//
BEGIN:VEVENT
SUMMARY:RONDAMON EN VILLA VICTORIA
DTSTART:20240119T233000Z
DTEND:20240120T080000Z
DTSTAMP:20260421T112703Z
DESCRIPTION:<div class="container-fluid" id="event-detail" style="width: 1
 492.22px\; font-family: Abel\, sans-serif\; text-align: center\;"><div cla
 ss="row p-2 mt-3"><div class="col-lg-8 text-left" style="width: 984.167px\
 ; flex: 0 0 66.6667%\; max-width: 66.6667%\;"><div class="row"><div class=
 "col-12 text-center mt-3" style="width: 984.167px\;"><div class="mt-3"><p 
 dir="ltr" style="margin: 0pt 0px\; color: rgb(51\, 51\, 51)\; font-size: 1
 4px\; line-height: 1.656\;"><font color="#201f1e" face="Arial"><span style
 ="font-size: 15.3333px\;"><span style="font-weight: 700\; text-decoration-
 line: underline\;">RONDAMON<br></span></span></font></p><p dir="ltr" style
 ="margin: 0pt 0px\; color: rgb(51\, 51\, 51)\; font-size: 14px\; line-heig
 ht: 1.656\;"><span style="color: rgb(34\, 34\, 34)\; font-family: Arial\, 
 Helvetica\, sans-serif\; font-size: small\; text-align: start\;"></span><f
 ont color="#201f1e" face="Arial"><span style="font-size: 15.3333px\;"><spa
 n style="font-weight: 700\; text-decoration-line: underline\;"><br></span>
 </span></font></p><p dir="ltr" style="margin: 0pt 0px\; color: rgb(51\, 51
 \, 51)\; font-size: 14px\; line-height: 1.656\;"><font color="#201f1e" fac
 e="Arial"><span style="font-size: 15.3333px\;"><u style="font-weight: 700\
 ;"></u></span></font></p><p dir="ltr" style="margin: 0pt 0px\; color: rgb(
 51\, 51\, 51)\; font-size: 14px\; line-height: 1.656\;"><span style="backg
 round-color: transparent\; color: rgb(32\, 31\, 30)\; font-family: Arial\;
  font-size: 11.5pt\;">Entradas anticipadas limitadas en efectivo:</span></
 p><p dir="ltr" style="margin: 0pt 0px\; color: rgb(51\, 51\, 51)\; font-si
 ze: 14px\; line-height: 1.656\;"><span style="font-size: 11pt\; font-famil
 y: Arial\; color: rgb(34\, 34\, 34)\; background-color: transparent\; font
 -variant-numeric: normal\; font-variant-east-asian: normal\; vertical-alig
 n: baseline\;">&nbsp\;</span></p><p dir="ltr" style="margin: 0pt 0px\; col
 or: rgb(51\, 51\, 51)\; font-size: 14px\; line-height: 1.656\;"><span styl
 e="font-size: 11.5pt\; font-family: Arial\; color: rgb(32\, 31\, 30)\; bac
 kground-color: transparent\; font-weight: 700\; font-variant-numeric: norm
 al\; font-variant-east-asian: normal\; vertical-align: baseline\;">La Casa
  de las Guitarras:</span><span style="font-size: 11.5pt\; font-family: Ari
 al\; color: rgb(32\, 31\, 30)\; background-color: transparent\; font-varia
 nt-numeric: normal\; font-variant-east-asian: normal\; vertical-align: bas
 eline\;">&nbsp\;Belgrano 3420 - Mar del Plata</span></p><p dir="ltr" style
 ="margin: 0pt 0px\; color: rgb(51\, 51\, 51)\; font-size: 14px\; line-heig
 ht: 1.656\;"><span style="font-size: 11.5pt\; font-family: Arial\; color: 
 rgb(32\, 31\, 30)\; background-color: transparent\; font-weight: 700\; fon
 t-variant-numeric: normal\; font-variant-east-asian: normal\; vertical-ali
 gn: baseline\;">CONEX:&nbsp\;</span><span style="font-size: 11.5pt\; font-
 family: Arial\; color: rgb(32\, 31\, 30)\; background-color: transparent\;
  font-variant-numeric: normal\; font-variant-east-asian: normal\; vertical
 -align: baseline\;">San Martín 3263 - Mar del Plata</span></p><p dir="ltr
 " style="margin: 0pt 0px\; color: rgb(51\, 51\, 51)\; font-size: 14px\; li
 ne-height: 1.656\;"><span style="font-size: 11.5pt\; font-family: Arial\; 
 color: rgb(32\, 31\, 30)\; background-color: transparent\; font-variant-nu
 meric: normal\; font-variant-east-asian: normal\; vertical-align: baseline
 \;"><span style="background-color: transparent\; color: rgb(34\, 34\, 34)\
 ; font-size: 11pt\;">&nbsp\;</span></span></p><p dir="ltr" style="margin: 
 0pt 0px\; color: rgb(51\, 51\, 51)\; font-size: 14px\; line-height: 1.38\;
 "><a href="http://www.articket.com.ar/" style="color: rgb(51\, 122\, 183)\
 ;"><span style="font-size: 11.5pt\; font-family: Arial\; color: rgb(17\, 8
 5\, 204)\; font-variant-numeric: normal\; font-variant-east-asian: normal\
 ; text-decoration-line: underline\; text-decoration-skip-ink: none\; verti
 cal-align: baseline\;">www.articket.com.ar</span></a></p><p class="MsoNorm
 al" style="margin-right: 0px\; margin-bottom: 10pt\; margin-left: 0px\; co
 lor: rgb(34\, 34\, 34)\; font-family: Arial\, Helvetica\, sans-serif\; fon
 t-size: small\; line-height: 14.95px\;"><span style="font-family: Calibri\
 , sans-serif\;"><br></span></p><p class="MsoNormal" style="margin-right: 0
 px\; margin-bottom: 10pt\; margin-left: 0px\; line-height: 14.95px\;"><fon
 t color="#201f1e" face="Arial"><span style="font-size: 15.3333px\;"><b sty
 le="font-weight: bold !important\;">EVENTO APTO TODO PUBLICO</b></span></f
 ont></p><div><font color="#201f1e" face="Arial"><span style="font-size: 15
 .3333px\;"><b style="font-weight: bold !important\;"><br></b></span></font
 ></div></div></div></div></div></div></div>
END:VEVENT
END:VCALENDAR
