BEGIN:VCALENDAR
VERSION:2.0
PRODID:-//My Calendar//mxm.dk//
BEGIN:VEVENT
SUMMARY:NEW SENSATION - ABBEY ROAD
DTSTART:20260525T000000Z
DTEND:20260525T060000Z
DTSTAMP:20260424T125311Z
DESCRIPTION:<p style="text-align: center\;"><font face="Arial"><span style
 ="font-size: 24px\;"><u style=""><b>NEW SENSATION - ABBEY ROAD</b></u></sp
 an></font></p><p style="text-align: center\;"><span style="color: rgb(32\,
  31\, 30)\; font-family: Arial\; font-size: 14pt\;"><br></span></p><p styl
 e="text-align: center\;"><span style="color: rgb(32\, 31\, 30)\; font-fami
 ly: Arial\; font-size: 14pt\;">Entradas anticipadas limitadas en efectivo:
 </span></p><p dir="ltr" style="margin: 0pt 0px\; font-family: Abel\, sans-
 serif\; text-align: center\; text-size-adjust: 100%\; color: rgb(51\, 51\,
  51)\; font-size: 14px\; line-height: 1.656\;"><span style="font-size: 14p
 t\; font-family: Arial\; color: rgb(34\, 34\, 34)\; font-variant-numeric: 
 normal\; font-variant-east-asian: normal\; vertical-align: baseline\;">&nb
 sp\;</span></p><p dir="ltr" style="margin: 0pt 0px\; font-family: Abel\, s
 ans-serif\; text-align: center\; text-size-adjust: 100%\; color: rgb(51\, 
 51\, 51)\; font-size: 14px\; line-height: 1.656\;"><span style="font-size:
  11.5pt\; font-family: Arial\; color: rgb(32\, 31\, 30)\; font-variant-num
 eric: normal\; font-variant-east-asian: normal\; vertical-align: baseline\
 ;"><span style="font-weight: bolder\; font-size: 11pt\;">La Casa de las Gu
 itarras</span><span style="font-weight: bolder\; font-size: 11pt\;">:</spa
 n></span><span style="font-size: 11pt\; font-family: Arial\; color: rgb(32
 \, 31\, 30)\; font-variant-numeric: normal\; font-variant-east-asian: norm
 al\; vertical-align: baseline\;">&nbsp\;Belgrano 3420 - Mar del Plata</spa
 n></p><p dir="ltr" style="margin: 0pt 0px\; font-family: Abel\, sans-serif
 \; text-align: center\; color: rgb(51\, 51\, 51)\; font-size: 14px\; line-
 height: 1.656\;"><span style="font-size: 11.5pt\; font-family: Arial\; col
 or: rgb(32\, 31\, 30)\; background-color: transparent\; font-variant-numer
 ic: normal\; font-variant-east-asian: normal\; vertical-align: baseline\; 
 white-space-collapse: preserve\;"><span style="font-weight: bolder\; font-
 size: 11pt\;">FAVA Casa Central:</span></span><span style="font-size: 11pt
 \; font-family: Arial\; color: rgb(32\, 31\, 30)\; background-color: trans
 parent\; font-weight: 700\; font-variant-numeric: normal\; font-variant-ea
 st-asian: normal\; vertical-align: baseline\; white-space-collapse: preser
 ve\;"> </span><span style="font-size: 11pt\; font-family: Arial\; color: r
 gb(32\, 31\, 30)\; background-color: transparent\; font-variant-numeric: n
 ormal\; font-variant-east-asian: normal\; vertical-align: baseline\; white
 -space-collapse: preserve\;">Av. Pedro Luro 3247 - Mar del Plata</span></p
 ><p dir="ltr" style="margin: 0pt 0px\; font-family: Abel\, sans-serif\; te
 xt-align: center\; text-size-adjust: 100%\; color: rgb(51\, 51\, 51)\; fon
 t-size: 14px\; line-height: 1.656\;"><br></p><p style="text-align: center\
 ;"><span style="font-family: Arial\; font-size: 1rem\;"><br></span></p><p 
 dir="ltr" style="margin: 0pt 0px\; font-family: Abel\, sans-serif\; text-a
 lign: center\; text-size-adjust: 100%\; color: rgb(51\, 51\, 51)\; font-si
 ze: 14px\; line-height: 1.38\;"><a href="http://www.articket.com.ar/" styl
 e="color: rgb(51\, 122\, 183)\;"><span style="font-size: 11.5pt\; font-fam
 ily: Arial\; color: rgb(17\, 85\, 204)\; font-variant-numeric: normal\; fo
 nt-variant-east-asian: normal\; text-decoration-line: underline\; text-dec
 oration-skip-ink: none\; vertical-align: baseline\;">www.articket.com.ar</
 span></a></p><p class="MsoNormal" style="margin-right: 0px\; margin-bottom
 : 10pt\; margin-left: 0px\; text-align: center\; text-size-adjust: 100%\; 
 color: rgb(34\, 34\, 34)\; font-family: Arial\, Helvetica\, sans-serif\; f
 ont-size: small\; line-height: 14.95px\;"><span style="font-family: Calibr
 i\, sans-serif\;"><br></span></p><p class="MsoNormal" style="margin-right:
  0px\; margin-bottom: 10pt\; margin-left: 0px\; text-align: center\; text-
 size-adjust: 100%\; color: rgb(34\, 34\, 34)\; font-family: Arial\, Helvet
 ica\, sans-serif\; font-size: small\; line-height: 14.95px\;"><span style=
 "font-family: Arial\; font-size: 14.6667px\; font-weight: 700\;">EVENTO AT
 P +14 hasta 00hs</span></p><p class="MsoNormal" style="margin-right: 0px\;
  margin-bottom: 10pt\; margin-left: 0px\; text-align: center\; text-size-a
 djust: 100%\; color: rgb(34\, 34\, 34)\; font-family: Arial\, Helvetica\, 
 sans-serif\; font-size: small\; line-height: 14.95px\;"><span style="font-
 family: Arial\; font-size: 14.6667px\; font-weight: 700\;"><br></span></p>
 <p dir="ltr" style="margin: 0pt 0px\; text-align: center\; line-height: 1.
 38\;"><font face="Abel\, sans-serif" color="#9c9c94"><span style="font-siz
 e: 12px\;">PROMO BANCO PROVINCIA CONDICIONES:&nbsp\;<a href="https://tr.ee
 /89uSGj" target="_blank">https://tr.ee/89uSGj</a></span></font></p><p dir=
 "ltr" style="margin: 0pt 0px\; text-align: center\; line-height: 1.38\;"><
 br style="font-family: Abel\, sans-serif\;"></p><br>
END:VEVENT
END:VCALENDAR
