BEGIN:VCALENDAR
VERSION:2.0
PRODID:-//My Calendar//mxm.dk//
BEGIN:VEVENT
SUMMARY:BUENOS VAMPIROS - LOS INCIERTOS EN WO
DTSTART:20260314T000000Z
DTEND:20260314T030000Z
DTSTAMP:20260421T051320Z
DESCRIPTION:<div style="text-align: center\;"><div style="text-align: cent
 er\;"><span style="color: rgb(31\, 31\, 31)\; font-family: &quot\;Segoe UI
 &quot\;\; font-size: 24px\; font-variant-ligatures: no-contextual\; text-a
 lign: start\;"><b><u>BUENOS VAMPIROS - LOS INCIERTOS EN WO</u></b></span><
 /div><span jsname="SjW3R" class="J-J5-Ji edeTZ" jsaction="JcCCed:.CLIENT" 
 style="position: relative\; display: inline-flex\; -webkit-box-align: cent
 er\; align-items: center\; flex-wrap: wrap\; min-height: 28px\; vertical-a
 lign: bottom\; color: rgb(34\, 34\, 34)\; font-family: &quot\;Google Sans&
 quot\;\, Roboto\, RobotoDraft\, Helvetica\, Arial\, sans-serif\; font-size
 : 22px\; text-align: start\;"><b><u><div jscontroller="sggJRd" jsaction="m
 ouseenter:Oh6g9b\; mouseleave:Oh6g9b\; click:KjsqPd\; keydown:mAamLc\;" cl
 ass="pG" data-tooltip-contained="true" data-tooltip-align="b\,l" data-tool
 tip-delay="1500" aria-label="Importante principalmente por los integrantes
  de la conversación" role="switch" aria-checked="true" jsname="FaKNoe" da
 ta-is-important="true" tabindex="0" style="text-align: center\; height: 20
 px\; width: 20px\; font-size: 0px\; padding: 0px\; position: relative\; cu
 rsor: pointer\; margin: 0px 8px 0px 0px\; display: inline-block\;"></div><
 span style="text-align: center\; color: rgb(33\, 37\, 41)\; font-family: -
 apple-system\, BlinkMacSystemFont\, &quot\;Segoe UI&quot\;\, Roboto\, &quo
 t\;Helvetica Neue&quot\;\, Arial\, &quot\;Noto Sans&quot\;\, sans-serif\, 
 &quot\;Apple Color Emoji&quot\;\, &quot\;Segoe UI Emoji&quot\;\, &quot\;Se
 goe UI Symbol&quot\;\, &quot\;Noto Color Emoji&quot\;\; font-size: 1rem\; 
 font-weight: 400\;"><span style="font-size: 24px\;"><b>EN WO NECOCHEA&nbsp
 \;</b></span></span></u></b></span></div><p style="text-align: center\;"><
 br></p><p style="text-align: center\;">Entradas anticipadas limitadas en e
 fectivo:</p><p style="text-align: center\;">&nbsp\;ADN Store: Calle 61 N°
  2813 - Necochea.</p><p style="text-align: center\;">www.articket.com.ar</
 p><p style="text-align: center\;"><br></p><p style="text-align: center\;">
 <span style="font-weight: bolder\;">APTO TODO PUBLICO</span></p><p style="
 text-align: center\;"><span style="font-weight: bolder\;"><br></span></p><
 p dir="ltr" style="margin: 0pt 0px\; text-align: center\; line-height: 1.3
 8\;"><font face="Abel\, sans-serif" color="#9c9c94"><span style="font-size
 : 12px\;">PROMO BANCO PROVINCIA CONDICIONES:&nbsp\;<a href="https://tr.ee/
 89uSGj" target="_blank">https://tr.ee/89uSGj</a></span></font></p><p dir="
 ltr" style="margin: 0pt 0px\; text-align: center\; line-height: 1.38\;"><b
 r></p><br>
END:VEVENT
END:VCALENDAR
