BEGIN:VCALENDAR
VERSION:2.0
PRODID:-//My Calendar//mxm.dk//
BEGIN:VEVENT
SUMMARY:POLENTA - EN EL CLUB TRI
DTSTART:20260323T010000Z
DTEND:20260323T070000Z
DTSTAMP:20260421T064809Z
DESCRIPTION:<p dir="ltr" style="text-align: center\; margin: 0pt 0px\; lin
 e-height: 1.656\;"><font color="#201f1e" face="Arial"><span style="font-si
 ze: 24px\; white-space-collapse: preserve\; font-family: Arial\;"><b><u>PO
 LENTA EN EL CLUB TRI</u></b></span></font></p><p dir="ltr" style="margin: 
 0pt 0px\; text-align: center\; line-height: 1.656\;"><br></p><p dir="ltr" 
 style="margin: 0pt 0px\; text-align: center\; line-height: 1.656\;"><span 
 style="font-family: &quot\;Segoe UI&quot\;\;"><span style="font-family: Ar
 ial\;">Polenta no es cualquier fiesta. Es una fiesta para todxs. Somos un 
 mix de lásers\, goce\, churros\, baile y mucho más. Cada Polenter es un 
 láser en la pista\, una diversidad de miradas que saben disfrutar. Somos 
 una historia para contar al otro día\, una anécdota nueva en tu vida\, u
 n mensaje a ese amigo diciéndole que tuviste la mejor noche del mundo</sp
 an>.</span></p><div style="text-align: center\;"><br></div><p dir="ltr" st
 yle="margin: 0pt 0px\; text-align: center\; line-height: 1.656\;"><br></p>
 <p dir="ltr" style="margin: 0pt 0px\; font-family: Abel\, sans-serif\; tex
 t-align: center\; color: rgb(51\, 51\, 51)\; font-size: 14px\; line-height
 : 1.656\;"><span style="font-size: 11.5pt\; font-family: Arial\; color: rg
 b(32\, 31\, 30)\; background-color: transparent\; font-variant-numeric: no
 rmal\; font-variant-east-asian: normal\; vertical-align: baseline\; white-
 space-collapse: preserve\;">Entradas anticipadas limitadas en efectivo:</s
 pan></p><p dir="ltr" style="margin: 0pt 0px\; font-family: Abel\, sans-ser
 if\; text-align: center\; color: rgb(51\, 51\, 51)\; font-size: 14px\; lin
 e-height: 1.656\;"><span style="font-size: 11pt\; font-family: Arial\; col
 or: rgb(34\, 34\, 34)\; background-color: transparent\; font-variant-numer
 ic: normal\; font-variant-east-asian: normal\; vertical-align: baseline\; 
 white-space-collapse: preserve\;">&nbsp\;</span></p><p dir="ltr" style="ma
 rgin: 0pt 0px\; font-family: Abel\, sans-serif\; text-align: center\; colo
 r: rgb(51\, 51\, 51)\; font-size: 14px\; line-height: 1.656\;"><span style
 ="font-size: 11.5pt\; font-family: Arial\; color: rgb(32\, 31\, 30)\; back
 ground-color: transparent\; font-weight: 700\; font-variant-numeric: norma
 l\; font-variant-east-asian: normal\; vertical-align: baseline\; white-spa
 ce-collapse: preserve\;">La Casa de las Guitarras:</span><span style="font
 -size: 11.5pt\; font-family: Arial\; color: rgb(32\, 31\, 30)\; background
 -color: transparent\; font-variant-numeric: normal\; font-variant-east-asi
 an: normal\; vertical-align: baseline\; white-space-collapse: preserve\;">
  Belgrano 3420 - Mar del Plata</span></p><p dir="ltr" style="margin: 0pt 0
 px\; font-family: Abel\, sans-serif\; text-align: center\; color: rgb(51\,
  51\, 51)\; font-size: 14px\; line-height: 1.656\;"><span style="font-size
 : 11.5pt\; font-family: Arial\; color: rgb(32\, 31\, 30)\; background-colo
 r: transparent\; font-variant-numeric: normal\; font-variant-east-asian: n
 ormal\; vertical-align: baseline\; white-space-collapse: preserve\;"><span
  style="font-weight: bolder\;">FAVA Casa Central:</span></span><span style
 ="font-size: 11.5pt\; font-family: Arial\; color: rgb(32\, 31\, 30)\; back
 ground-color: transparent\; font-weight: 700\; font-variant-numeric: norma
 l\; font-variant-east-asian: normal\; vertical-align: baseline\; white-spa
 ce-collapse: preserve\;"> </span><span style="font-size: 11.5pt\; font-fam
 ily: Arial\; color: rgb(32\, 31\, 30)\; background-color: transparent\; fo
 nt-variant-numeric: normal\; font-variant-east-asian: normal\; vertical-al
 ign: baseline\; white-space-collapse: preserve\;">Av. Pedro Luro 3247 - Ma
 r del Plata</span></p><p dir="ltr" style="margin: 0pt 0px\; font-family: A
 bel\, sans-serif\; text-align: center\; color: rgb(51\, 51\, 51)\; font-si
 ze: 14px\; line-height: 1.656\;"><span style="background-color: transparen
 t\; color: rgb(34\, 34\, 34)\; font-family: Arial\; font-size: 11pt\; whit
 e-space-collapse: preserve\;">&nbsp\;</span></p><p dir="ltr" style="margin
 : 0pt 0px\; font-family: Abel\, sans-serif\; text-align: center\; color: r
 gb(51\, 51\, 51)\; font-size: 14px\; line-height: 1.38\;"><a href="http://
 www.articket.com.ar/" style="color: rgb(51\, 122\, 183)\;"><span style="fo
 nt-size: 11.5pt\; font-family: Arial\; color: rgb(17\, 85\, 204)\; font-va
 riant-numeric: normal\; font-variant-east-asian: normal\; text-decoration-
 line: underline\; text-decoration-skip-ink: none\; vertical-align: baselin
 e\; white-space-collapse: preserve\;">www.articket.com.ar</span></a></p><p
  dir="ltr" style="margin: 0pt 0px\; font-family: Abel\, sans-serif\; text-
 align: center\; color: rgb(51\, 51\, 51)\; font-size: 14px\; line-height: 
 1.656\;"><br></p><p dir="ltr" style="margin: 0pt 0px\; font-family: Abel\,
  sans-serif\; text-align: center\; color: rgb(51\, 51\, 51)\; font-size: 1
 4px\; line-height: 1.38\;"><span style="font-size: 11pt\; font-family: Ari
 al\; color: rgb(34\, 34\, 34)\; font-variant-numeric: normal\; font-varian
 t-east-asian: normal\; vertical-align: baseline\; white-space-collapse: pr
 eserve\;"><span style="font-weight: bolder\;">APTO MAYORES 18 AÑOS</span>
 </span></p><p dir="ltr" style="margin: 0pt 0px\; text-align: center\; line
 -height: 1.38\;"><span style="font-variant-numeric: normal\; font-variant-
 east-asian: normal\; vertical-align: baseline\;"><font color="#222222" fac
 e="Arial"><span style="font-size: 14.6667px\; white-space-collapse: preser
 ve\;"><b>\n\n<span style="font-size: 10px\;">El ORGANIZADOR\, junto con su
 s respectivos partners y sponsors\, se reservan el derecho de hacer uso de
  los datos personales y todas las imágenes registradas (tanto fotográfic
 as como de video) durante los eventos y/o shows para su uso en materiales 
 gráficos y/o digitales\, y en distintos medios de difusión. Por medio de
  la presente Ud. cede de manera gratuita los derechos editoriales de repro
 ducción\, distribución\, transformación y comunicación pública\, y au
 toriza el derecho a usar el/los nombre/s\, fotografías (fijas o en movimi
 ento) y todo tipo de imágenes registradas para fines institucionales\, co
 merciales y/o publicitarios." "Consultar por cupo TTNB a hola@fiestapolent
 a.com"</span></b></span></font></span></p><p dir="ltr" style="margin: 0pt 
 0px\; font-family: Abel\, sans-serif\; text-align: center\; color: rgb(51\
 , 51\, 51)\; font-size: 14px\; line-height: 1.38\;"><span style="font-size
 : 11pt\; font-family: Arial\; color: rgb(34\, 34\, 34)\; font-variant-nume
 ric: normal\; font-variant-east-asian: normal\; vertical-align: baseline\;
  white-space-collapse: preserve\;"><span style="font-weight: bolder\;"><br
 ></span></span></p><p dir="ltr" style="margin: 0pt 0px\; font-family: Abel
 \, sans-serif\; text-align: center\; color: rgb(51\, 51\, 51)\; font-size:
  14px\; line-height: 1.38\;"><br></p><p dir="ltr" style="margin: 0pt 0px\;
  font-family: Abel\, sans-serif\; text-align: center\; color: rgb(51\, 51\
 , 51)\; font-size: 14px\; line-height: 1.38\;"><br></p><p dir="ltr" style=
 "margin: 0pt 0px\; text-align: center\; line-height: 1.38\;"><font face="A
 bel\, sans-serif" color="#9c9c94"><span style="font-size: 12px\;">PROMO BA
 NCO PROVINCIA CONDICIONES:&nbsp\;<a href="https://tr.ee/89uSGj" target="_b
 lank">https://tr.ee/89uSGj</a></span></font></p><p dir="ltr" style="margin
 : 0pt 0px\; text-align: center\; line-height: 1.38\;"><br></p>
END:VEVENT
END:VCALENDAR
