BEGIN:VCALENDAR
VERSION:2.0
PRODID:-//My Calendar//mxm.dk//
BEGIN:VEVENT
SUMMARY:MAGGIE CULLEN EN TRES ARROYOS SUSPENDIDO
DTSTART:20260619T000000Z
DTEND:20260619T025500Z
DTSTAMP:20260424T124710Z
DESCRIPTION:<p dir="ltr" style="margin: 0pt 0px\; text-align: center\; tex
 t-size-adjust: 100%\; line-height: 1.656\;"><font color="#201f1e" face="Ar
 ial"><span style="font-size: 18px\; caret-color: rgb(32\, 31\, 30)\;"><b><
 u>MAGGIE CULLEN</u></b></span></font></p><p dir="ltr" style="margin: 0pt 0
 px\; text-align: center\; text-size-adjust: 100%\; line-height: 1.656\;"><
 font color="#201f1e" face="Arial"><span style="font-size: 15.3333px\; care
 t-color: rgb(32\, 31\, 30)\;"><u><span style="font-weight: bolder\; font-s
 ize: 18px\;">EN TRES ARROYOS</span></u></span></font></p><p dir="ltr" styl
 e="margin: 0pt 0px\; font-family: Abel\, sans-serif\; text-align: center\;
  text-size-adjust: 100%\; line-height: 1.656\;"><br></p><p dir="ltr" style
 ="margin: 0pt 0px\; text-align: center\; text-size-adjust: 100%\; line-hei
 ght: 1.656\;"><font face="Abel\, sans-serif"><br></font></p><div style="fo
 nt-family: Abel\, sans-serif\; text-align: center\; text-size-adjust: 100%
 \; color: rgb(51\, 51\, 51)\; font-size: 14px\;"><div style="font-size: 14
 .6667px\;"><font color="#222222" face="Arial"><span style="font-weight: 70
 0\;"><u></u></span></font></div></div><div style="text-align: center\; tex
 t-size-adjust: 100%\; font-family: Arial\, Helvetica\, sans-serif\; font-s
 ize: small\; color: rgb(33\, 33\, 33)\;"><p dir="ltr" style="margin: 0pt 0
 px\; color: rgb(51\, 51\, 51)\; font-family: Abel\, sans-serif\; font-size
 : 14px\; line-height: 1.656\;"><span style="font-size: 11.5pt\; font-famil
 y: Arial\; color: rgb(32\, 31\, 30)\; font-variant-numeric: normal\; font-
 variant-east-asian: normal\; vertical-align: baseline\;">Entradas en efect
 ivo en Boleteria del Teatro</span></p></div><div style="text-align: center
 \; text-size-adjust: 100%\; font-family: Arial\, Helvetica\, sans-serif\; 
 font-size: small\; color: rgb(33\, 33\, 33)\;"><i><br><div style="text-siz
 e-adjust: 100%\;"><br></div></i></div><p dir="ltr" style="margin: 0pt 0px\
 ; font-family: Abel\, sans-serif\; text-align: center\; text-size-adjust: 
 100%\; color: rgb(51\, 51\, 51)\; font-size: 14px\; line-height: 1.656\;">
 <span style="font-size: 11.5pt\; font-family: Arial\; color: rgb(32\, 31\,
  30)\; font-variant-numeric: normal\; font-variant-east-asian: normal\; ve
 rtical-align: baseline\;"></span></p><div style="text-align: center\; text
 -size-adjust: 100%\; font-family: Arial\, Helvetica\, sans-serif\; font-si
 ze: small\; color: rgb(33\, 33\, 33)\;"><a href="http://www.articket.com.a
 r/" style="color: rgb(51\, 122\, 183)\; font-family: Abel\, sans-serif\; f
 ont-size: 14px\;"><span style="font-size: 11.5pt\; font-family: Arial\; co
 lor: rgb(17\, 85\, 204)\; font-variant-numeric: normal\; font-variant-east
 -asian: normal\; text-decoration-line: underline\; text-decoration-skip-in
 k: none\; vertical-align: baseline\;">www.articket.com.ar</span></a><br><b
 r><br><span style="color: rgb(34\, 34\, 34)\; font-family: Arial\; font-si
 ze: 14.6667px\; font-weight: 700\;">SHOW APTO TODO PUBLICO</span></div><di
 v style="text-align: center\; text-size-adjust: 100%\; font-family: Arial\
 , Helvetica\, sans-serif\; font-size: small\; color: rgb(33\, 33\, 33)\;">
 <span style="color: rgb(34\, 34\, 34)\; font-family: Arial\; font-size: 14
 .6667px\; font-weight: 700\;"><br></span></div><div style="text-align: cen
 ter\; text-size-adjust: 100%\; font-family: Arial\, Helvetica\, sans-serif
 \; font-size: small\; color: rgb(33\, 33\, 33)\;"><p dir="ltr" style="marg
 in: 0pt 0px\; line-height: 1.38\;"><font face="Abel\, sans-serif" color="#
 9c9c94"><span style="font-size: 12px\;">PROMO BANCO PROVINCIA CONDICIONES:
 &nbsp\;<a href="https://tr.ee/89uSGj" target="_blank">https://tr.ee/89uSGj
 </a></span></font></p><p dir="ltr" style="margin: 0pt 0px\; line-height: 1
 .38\;"><br style="color: rgb(33\, 37\, 41)\; font-family: Abel\, sans-seri
 f\; font-size: 16px\;"></p></div><br>
END:VEVENT
END:VCALENDAR
