BEGIN:VCALENDAR
VERSION:2.0
PRODID:-//My Calendar//mxm.dk//
BEGIN:VEVENT
SUMMARY:BUENOS VAMPIROS-PYRAMIDES-CARTAS A MI EN CLUB TRI
DTSTART:20260328T230000Z
DTEND:20260329T070000Z
DTSTAMP:20260420T190917Z
DESCRIPTION:<p dir="ltr" style="text-align: center\; margin: 0pt 0px\; lin
 e-height: 1.656\;"><b><font color="#201f1e" face="Arial" style=""><span st
 yle="font-size: 24px\; white-space-collapse: preserve\;"><u style="">BUENO
 S VAMPIROS-PYRAMIDES-CARTAS</u></span></font>&nbsp\;</b></p><p dir="ltr" s
 tyle="margin: 0pt 0px\; text-align: center\; line-height: 1.656\;"><span s
 tyle="text-align: left\; font-size: 18px\; white-space-collapse: preserve\
 ;"><font color="#201f1e" face="Arial"><u><span style="font-weight: bolder\
 ;">EN CLUB TRI</span></u></font></span></p><p dir="ltr" style="margin: 0pt
  0px\; text-align: center\; line-height: 1.656\;"><br></p><p dir="ltr" sty
 le="margin: 0pt 0px\; text-align: center\; line-height: 1.656\;"><font col
 or="#201f1e" face="Arial"><span style="font-size: 15.3333px\; white-space-
 collapse: preserve\;"><span style="font-weight: bolder\;"><u>\n</u></span>
 </span></font></p><p dir="ltr" style="margin: 0pt 0px\; font-family: Abel\
 , sans-serif\; text-align: center\; color: rgb(51\, 51\, 51)\; font-size: 
 14px\; line-height: 1.656\;"><span style="font-size: 11.5pt\; font-family:
  Arial\; color: rgb(32\, 31\, 30)\; background-color: transparent\; font-v
 ariant-numeric: normal\; font-variant-east-asian: normal\; vertical-align:
  baseline\; white-space-collapse: preserve\;">Entradas anticipadas limitad
 as en efectivo:</span></p><p dir="ltr" style="margin: 0pt 0px\; font-famil
 y: Abel\, sans-serif\; text-align: center\; color: rgb(51\, 51\, 51)\; fon
 t-size: 14px\; line-height: 1.656\;"><span style="font-size: 11pt\; font-f
 amily: Arial\; color: rgb(34\, 34\, 34)\; background-color: transparent\; 
 font-variant-numeric: normal\; font-variant-east-asian: normal\; vertical-
 align: baseline\; white-space-collapse: preserve\;">&nbsp\;</span></p><p d
 ir="ltr" style="margin: 0pt 0px\; font-family: Abel\, sans-serif\; text-al
 ign: center\; color: rgb(51\, 51\, 51)\; font-size: 14px\; line-height: 1.
 656\;"><span style="font-size: 11.5pt\; font-family: Arial\; color: rgb(32
 \, 31\, 30)\; background-color: transparent\; font-weight: 700\; font-vari
 ant-numeric: normal\; font-variant-east-asian: normal\; vertical-align: ba
 seline\; white-space-collapse: preserve\;">La Casa de las Guitarras:</span
 ><span style="font-size: 11.5pt\; font-family: Arial\; color: rgb(32\, 31\
 , 30)\; background-color: transparent\; font-variant-numeric: normal\; fon
 t-variant-east-asian: normal\; vertical-align: baseline\; white-space-coll
 apse: preserve\;"> Belgrano 3420 - Mar del Plata</span></p><p dir="ltr" st
 yle="margin: 0pt 0px\; font-family: Abel\, sans-serif\; text-align: center
 \; color: rgb(51\, 51\, 51)\; font-size: 14px\; line-height: 1.656\;"><spa
 n style="font-size: 11.5pt\; font-family: Arial\; color: rgb(32\, 31\, 30)
 \; background-color: transparent\; font-variant-numeric: normal\; font-var
 iant-east-asian: normal\; vertical-align: baseline\; white-space-collapse:
  preserve\;"><span style="font-weight: bolder\;">FAVA Casa Central:</span>
 </span><span style="font-size: 11.5pt\; font-family: Arial\; color: rgb(32
 \, 31\, 30)\; background-color: transparent\; font-weight: 700\; font-vari
 ant-numeric: normal\; font-variant-east-asian: normal\; vertical-align: ba
 seline\; white-space-collapse: preserve\;"> </span><span style="font-size:
  11.5pt\; font-family: Arial\; color: rgb(32\, 31\, 30)\; background-color
 : transparent\; font-variant-numeric: normal\; font-variant-east-asian: no
 rmal\; vertical-align: baseline\; white-space-collapse: preserve\;">Av. Pe
 dro Luro 3247 - Mar del Plata</span></p><p dir="ltr" style="margin: 0pt 0p
 x\; font-family: Abel\, sans-serif\; text-align: center\; color: rgb(51\, 
 51\, 51)\; font-size: 14px\; line-height: 1.656\;"><span style="background
 -color: transparent\; color: rgb(34\, 34\, 34)\; font-family: Arial\; font
 -size: 11pt\; white-space-collapse: preserve\;">&nbsp\;</span></p><p dir="
 ltr" style="margin: 0pt 0px\; font-family: Abel\, sans-serif\; text-align:
  center\; color: rgb(51\, 51\, 51)\; font-size: 14px\; line-height: 1.38\;
 "><a href="http://www.articket.com.ar/" style="color: rgb(51\, 122\, 183)\
 ;"><span style="font-size: 11.5pt\; font-family: Arial\; color: rgb(17\, 8
 5\, 204)\; font-variant-numeric: normal\; font-variant-east-asian: normal\
 ; text-decoration-line: underline\; text-decoration-skip-ink: none\; verti
 cal-align: baseline\; white-space-collapse: preserve\;">www.articket.com.a
 r</span></a></p><p dir="ltr" style="margin: 0pt 0px\; font-family: Abel\, 
 sans-serif\; text-align: center\; color: rgb(51\, 51\, 51)\; font-size: 14
 px\; line-height: 1.656\;"><br></p><p dir="ltr" style="margin: 0pt 0px\; f
 ont-family: Abel\, sans-serif\; text-align: center\; color: rgb(51\, 51\, 
 51)\; font-size: 14px\; line-height: 1.38\;"><span style="color: rgb(34\, 
 34\, 34)\; font-family: Arial\; font-size: 14.6667px\; font-weight: 700\; 
 white-space-collapse: preserve\;">APTO MAYORES 18 AÑOS\n\n</span></p><p d
 ir="ltr" style="margin: 0pt 0px\; text-align: center\; line-height: 1.38\;
 "><font face="Abel\, sans-serif" color="#9c9c94"><span style="font-size: 1
 2px\;">PROMO BANCO PROVINCIA CONDICIONES:&nbsp\;<a href="https://tr.ee/89u
 SGj" target="_blank">https://tr.ee/89uSGj</a></span></font></p><p dir="ltr
 " style="margin: 0pt 0px\; text-align: center\; line-height: 1.38\;"><br s
 tyle="font-family: Abel\, sans-serif\;"></p><p dir="ltr" style="margin: 0p
 t 0px\; font-family: Abel\, sans-serif\; text-align: center\; color: rgb(5
 1\, 51\, 51)\; font-size: 14px\; line-height: 1.38\;"><span style="color: 
 rgb(34\, 34\, 34)\; font-family: Arial\; font-size: 14.6667px\; font-weigh
 t: 700\; white-space-collapse: preserve\;"></span></p>
END:VEVENT
END:VCALENDAR
