BEGIN:VCALENDAR
VERSION:2.0
PRODID:-//My Calendar//mxm.dk//
BEGIN:VEVENT
SUMMARY:ADRIAN BERRA ANTES DE SALTAR
DTSTART:20260606T000000Z
DTEND:20260606T025500Z
DTSTAMP:20260424T125312Z
DESCRIPTION:<p dir="ltr" style="margin: 0pt 0px\; text-align: center\; lin
 e-height: 1.656\;"><span style="background-color: transparent\; font-varia
 nt-numeric: normal\; font-variant-east-asian: normal\; vertical-align: bas
 eline\;"><span style="color: rgb(32\, 31\, 30)\; font-family: Arial\; font
 -size: 24px\; text-decoration-line: underline\; white-space-collapse: pres
 erve\; font-weight: bold\;"><span style="font-size: 36px\;">ADRIAN BERRA\n
 </span>\n</span><font color="#201f1e" face="Arial"><span style="font-size:
  15.3333px\; white-space-collapse: preserve\;">Adrián Berra presenta “A
 ntes de saltar” en un show a full banda que marca una nueva etapa en su 
 recorrido artístico.\nEl nuevo disco —de sonoridad nocturna\, cercana y
  luminosa— cobra fuerza en vivo con un formato potente y expansivo. Las 
 canciones se despliegan con mayor intensidad\, sin perder la sensibilidad 
 que define su obra.\nEn el escenario\, el material reciente convive con lo
 s clásicos de su repertorio en un concierto que combina emoción\, energ
 ía y profundidad. Una experiencia para vivir el sonido completo de esta n
 ueva etapa.\nUna noche especial para conectar con las nuevas canciones y r
 eencontrarse con las de siempre.</span></font></span></p><p dir="ltr" styl
 e="margin: 0pt 0px\; text-align: center\; line-height: 1.656\;"><span styl
 e="background-color: transparent\; font-variant-numeric: normal\; font-var
 iant-east-asian: normal\; vertical-align: baseline\;"><font color="#201f1e
 " face="Arial"><span style="font-size: 15.3333px\; white-space-collapse: p
 reserve\;"><br></span></font></span></p><p dir="ltr" style="margin: 0pt 0p
 x\; text-align: center\; line-height: 1.656\;"><span style="background-col
 or: transparent\; font-variant-numeric: normal\; font-variant-east-asian: 
 normal\; vertical-align: baseline\;"><font color="#201f1e" face="Arial"><s
 pan style="font-size: 15.3333px\; white-space-collapse: preserve\;"><br></
 span><span style="font-size: 11.5pt\; white-space-collapse: preserve\;">\n
 Entradas anticipadas limitadas en efectivo:</span></font></span></p><p dir
 ="ltr" style="margin: 0pt 0px\; font-family: Abel\, sans-serif\; text-alig
 n: center\; color: rgb(51\, 51\, 51)\; font-size: 14px\; line-height: 1.65
 6\;"><span style="font-size: 11pt\; font-family: Arial\; color: rgb(34\, 3
 4\, 34)\; background-color: transparent\; font-variant-numeric: normal\; f
 ont-variant-east-asian: normal\; vertical-align: baseline\; white-space-co
 llapse: preserve\;">&nbsp\;</span></p><p dir="ltr" style="margin: 0pt 0px\
 ; font-family: Abel\, sans-serif\; text-align: center\; color: rgb(51\, 51
 \, 51)\; font-size: 14px\; line-height: 1.656\;"><span style="font-size: 1
 1.5pt\; font-family: Arial\; color: rgb(32\, 31\, 30)\; background-color: 
 transparent\; font-weight: 700\; font-variant-numeric: normal\; font-varia
 nt-east-asian: normal\; vertical-align: baseline\; white-space-collapse: p
 reserve\;">La Casa de las Guitarras:</span><span style="font-size: 11.5pt\
 ; font-family: Arial\; color: rgb(32\, 31\, 30)\; background-color: transp
 arent\; font-variant-numeric: normal\; font-variant-east-asian: normal\; v
 ertical-align: baseline\; white-space-collapse: preserve\;"> Belgrano 3420
  - Mar del Plata</span></p><p dir="ltr" style="margin: 0pt 0px\; font-fami
 ly: Abel\, sans-serif\; text-align: center\; color: rgb(51\, 51\, 51)\; fo
 nt-size: 14px\; line-height: 1.656\;"><span style="font-size: 11.5pt\; fon
 t-family: Arial\; color: rgb(32\, 31\, 30)\; background-color: transparent
 \; font-weight: 700\; font-variant-numeric: normal\; font-variant-east-asi
 an: normal\; vertical-align: baseline\; white-space-collapse: preserve\;">
 CONEX: </span><span style="font-size: 11.5pt\; font-family: Arial\; color:
  rgb(32\, 31\, 30)\; background-color: transparent\; font-variant-numeric:
  normal\; font-variant-east-asian: normal\; vertical-align: baseline\; whi
 te-space-collapse: preserve\;">San Martín 3263 - Mar del Plata</span></p>
 <p dir="ltr" style="margin: 0pt 0px\; font-family: Abel\, sans-serif\; tex
 t-align: center\; color: rgb(51\, 51\, 51)\; font-size: 14px\; line-height
 : 1.656\;"><span style="font-size: 11pt\; font-family: Arial\; color: rgb(
 34\, 34\, 34)\; background-color: transparent\; font-variant-numeric: norm
 al\; font-variant-east-asian: normal\; vertical-align: baseline\; white-sp
 ace-collapse: preserve\;">&nbsp\;</span></p><p dir="ltr" style="margin: 0p
 t 0px\; font-family: Abel\, sans-serif\; text-align: center\; color: rgb(5
 1\, 51\, 51)\; font-size: 14px\; line-height: 1.38\;"><a href="http://www.
 articket.com.ar/" style="color: rgb(51\, 122\, 183)\;"><span style="font-s
 ize: 11.5pt\; font-family: Arial\; color: rgb(17\, 85\, 204)\; font-varian
 t-numeric: normal\; font-variant-east-asian: normal\; text-decoration-line
 : underline\; text-decoration-skip-ink: none\; vertical-align: baseline\; 
 white-space-collapse: preserve\;">www.articket.com.ar</span></a></p><p sty
 le="font-family: Abel\, sans-serif\; text-align: center\;"><br style="colo
 r: rgb(51\, 51\, 51)\; font-size: 14px\;"></p><p dir="ltr" style="margin: 
 0pt 0px\; font-family: Abel\, sans-serif\; text-align: center\; color: rgb
 (51\, 51\, 51)\; font-size: 14px\; line-height: 1.38\;"><span style="font-
 size: 11pt\; font-family: Arial\; color: rgb(34\, 34\, 34)\; font-variant-
 numeric: normal\; font-variant-east-asian: normal\; vertical-align: baseli
 ne\; white-space-collapse: preserve\;"><span style="font-weight: 700\;">AP
 TO TODO PUBLICO(+3)\n\n</span></span></p><p dir="ltr" style="margin: 0pt 0
 px\; text-align: center\; line-height: 1.38\;"><font face="Abel\, sans-ser
 if" color="#9c9c94"><span style="font-size: 12px\;">PROMO BANCO PROVINCIA 
 CONDICIONES:&nbsp\;<a href="https://tr.ee/89uSGj" target="_blank">https://
 tr.ee/89uSGj</a></span></font></p>
END:VEVENT
END:VCALENDAR
