BEGIN:VCALENDAR
VERSION:2.0
PRODID:-//My Calendar//mxm.dk//
BEGIN:VEVENT
SUMMARY:ADRIAN BARILARI EN CABA
DTSTART:20260724T223000Z
DTEND:20260725T010000Z
DTSTAMP:20260424T125647Z
DESCRIPTION:<p dir="ltr" style="margin: 0pt 0px\; text-align: center\; lin
 e-height: 1.656\;"><font color="#201f1e" face="Arial"><span style="font-si
 ze: 24px\; white-space-collapse: preserve\;"><b><u><span style="font-size:
  36px\;">ADRIAN BARILARI\nEN CABA</span>\n</u></b></span></font></p><p dir
 ="ltr" style="margin: 0pt 0px\; font-family: Abel\, sans-serif\; text-alig
 n: center\; color: rgb(51\, 51\, 51)\; font-size: 14px\; line-height: 1.65
 6\;"><span style="background-color: transparent\; color: rgb(34\, 34\, 34)
 \; font-family: Arial\; font-size: 11pt\; white-space-collapse: preserve\;
 "><br></span></p><p dir="ltr" style="margin: 0pt 0px\; font-family: Abel\,
  sans-serif\; text-align: center\; color: rgb(51\, 51\, 51)\; font-size: 1
 4px\; line-height: 1.656\;"><span style="color: rgb(0\, 0\, 0)\; font-fami
 ly: Calibri\, Helvetica\, sans-serif\; font-size: 24px\; text-align: start
 \;">Adrian Barilari repasa las mejores canciones de Abuso de Poder\, Infie
 Rock y Barilari 4</span><span style="background-color: transparent\; color
 : rgb(34\, 34\, 34)\; font-family: Arial\; font-size: 11pt\; white-space-c
 ollapse: preserve\;"></span></p><p dir="ltr" style="margin: 0pt 0px\; font
 -family: Abel\, sans-serif\; text-align: center\; color: rgb(51\, 51\, 51)
 \; font-size: 14px\; line-height: 1.656\;"><span style="background-color: 
 transparent\; color: rgb(34\, 34\, 34)\; font-family: Arial\; font-size: 1
 1pt\; white-space-collapse: preserve\;"><br></span></p><p dir="ltr" style=
 "margin: 0pt 0px\; font-family: Abel\, sans-serif\; text-align: center\; c
 olor: rgb(51\, 51\, 51)\; font-size: 14px\; line-height: 1.656\;"><span st
 yle="background-color: transparent\; color: rgb(34\, 34\, 34)\; font-famil
 y: Arial\; font-size: 11pt\; white-space-collapse: preserve\;"><br></span>
 </p><p dir="ltr" style="margin: 0pt 0px\; font-family: Abel\, sans-serif\;
  text-align: center\; color: rgb(51\, 51\, 51)\; font-size: 14px\; line-he
 ight: 1.38\;"><a href="http://www.articket.com.ar/" style="color: rgb(51\,
  122\, 183)\;"><span style="font-size: 11.5pt\; font-family: Arial\; color
 : rgb(17\, 85\, 204)\; font-variant-numeric: normal\; font-variant-east-as
 ian: normal\; text-decoration-line: underline\; text-decoration-skip-ink: 
 none\; vertical-align: baseline\; white-space-collapse: preserve\;">www.ar
 ticket.com.ar</span></a></p><p dir="ltr" style="margin: 0pt 0px\; font-fam
 ily: Abel\, sans-serif\; text-align: center\; color: rgb(51\, 51\, 51)\; f
 ont-size: 14px\; line-height: 1.656\;"><br></p><p dir="ltr" style="margin:
  0pt 0px\; text-align: center\; line-height: 1.38\;"><font color="#222222"
  face="Arial"><span style="font-size: 14.6667px\; white-space-collapse: pr
 eserve\;"><span style="font-weight: bolder\;">SHOW APTO TODO PUBLICO\n\n</
 span></span></font></p><p dir="ltr" style="margin: 0pt 0px\; text-align: c
 enter\; line-height: 1.38\;"><font face="Abel\, sans-serif" color="#9c9c94
 "><span style="font-size: 12px\;">PROMO BANCO PROVINCIA CONDICIONES:&nbsp\
 ;<a href="https://tr.ee/89uSGj" target="_blank">https://tr.ee/89uSGj</a></
 span></font></p><p dir="ltr" style="margin: 0pt 0px\; text-align: center\;
  line-height: 1.38\;"><br style="font-family: Abel\, sans-serif\;"></p><p 
 dir="ltr" style="margin: 0pt 0px\; text-align: center\; line-height: 1.38\
 ;"><font color="#222222" face="Arial"><span style="font-size: 14.6667px\; 
 white-space-collapse: preserve\;"><span style="font-weight: bolder\;"></sp
 an></span></font></p><p dir="ltr" style="margin: 0pt 0px\; text-align: cen
 ter\; line-height: 1.38\;"><font color="#222222" face="Arial"><span style=
 "font-size: 14.6667px\; white-space-collapse: preserve\;"><span style="fon
 t-weight: bolder\;"><br></span></span></font></p><p dir="ltr" style="margi
 n: 0pt 0px\; text-align: center\; line-height: 1.38\;"><br></p>
END:VEVENT
END:VCALENDAR
