BEGIN:VCALENDAR
VERSION:2.0
PRODID:-//My Calendar//mxm.dk//
BEGIN:VEVENT
SUMMARY:ADRIAN BARILARI EN TAPIALES 10-5
DTSTART:20260510T230000Z
DTEND:20260511T025500Z
DTSTAMP:20260424T125636Z
DESCRIPTION:<p dir="ltr" style="margin: 0pt 0px\; text-align: center\; lin
 e-height: 1.656\;"><font color="#201f1e" face="Arial"><span style="font-si
 ze: 24px\; white-space-collapse: preserve\;"><span style="font-weight: bol
 der\;"><u><span style="font-size: 36px\;">ADRIAN BARILARI\nEN TAPIALES</sp
 an>\n</u></span></span></font></p><p dir="ltr" style="margin: 0pt 0px\; fo
 nt-family: Abel\, sans-serif\; text-align: center\; color: rgb(51\, 51\, 5
 1)\; font-size: 14px\; line-height: 1.656\;"><span style="background-color
 : transparent\; color: rgb(34\, 34\, 34)\; font-family: Arial\; font-size:
  11pt\; white-space-collapse: preserve\;"><br></span></p><p dir="ltr" styl
 e="margin: 0pt 0px\; text-align: center\; line-height: 1.656\;"><font colo
 r="#333333" face="Abel\, sans-serif"><span style="font-size: 18px\;"><b>Ba
 nda Soporte : Nena Rock Band</b></span></font></p><div style="text-align: 
 center\;"><br></div><p dir="ltr" style="margin: 0pt 0px\; font-family: Abe
 l\, sans-serif\; text-align: center\; color: rgb(51\, 51\, 51)\; font-size
 : 14px\; line-height: 1.656\;"><span style="background-color: transparent\
 ; color: rgb(34\, 34\, 34)\; font-family: Arial\; font-size: 11pt\; white-
 space-collapse: preserve\;"><br></span></p><p dir="ltr" style="margin: 0pt
  0px\; font-family: Abel\, sans-serif\; text-align: center\; color: rgb(51
 \, 51\, 51)\; font-size: 14px\; line-height: 1.38\;"><a href="http://www.a
 rticket.com.ar/" style="color: rgb(51\, 122\, 183)\;"><span style="font-si
 ze: 11.5pt\; font-family: Arial\; color: rgb(17\, 85\, 204)\; font-variant
 -numeric: normal\; font-variant-east-asian: normal\; text-decoration-line:
  underline\; text-decoration-skip-ink: none\; vertical-align: baseline\; w
 hite-space-collapse: preserve\;">www.articket.com.ar</span></a></p><p dir=
 "ltr" style="margin: 0pt 0px\; font-family: Abel\, sans-serif\; text-align
 : center\; color: rgb(51\, 51\, 51)\; font-size: 14px\; line-height: 1.656
 \;"><br></p><p dir="ltr" style="margin: 0pt 0px\; text-align: center\; lin
 e-height: 1.38\;"><font color="#222222" face="Arial"><span style="font-siz
 e: 14.6667px\; white-space-collapse: preserve\;"><span style="font-weight:
  bolder\;">SHOW APTO TODO PUBLICO\n\n</span></span></font></p><p dir="ltr"
  style="margin: 0pt 0px\; text-align: center\; line-height: 1.38\;"><font 
 face="Abel\, sans-serif" color="#9c9c94"><span style="font-size: 12px\;">P
 ROMO BANCO PROVINCIA CONDICIONES:&nbsp\;<a href="https://tr.ee/89uSGj" tar
 get="_blank">https://tr.ee/89uSGj</a></span></font></p>
END:VEVENT
END:VCALENDAR
