BEGIN:VCALENDAR
VERSION:2.0
PRODID:-//My Calendar//mxm.dk//
BEGIN:VEVENT
SUMMARY:NICO SERNA - MENTIRAS SOBRE EL AMOR
DTSTART:20260425T000000Z
DTEND:20260425T040000Z
DTSTAMP:20260424T125550Z
DESCRIPTION:<div style="text-align: center\;"><div><font color="#1f1f1f" f
 ace="Segoe UI"><span style="font-size: 24px\; font-variant-ligatures: no-c
 ontextual\;"><b><u>NICO SERNA - MENTIRAS SOBRE EL AMOR</u></b></span></fon
 t></div><div><br></div></div><p style="text-align: center\;"><br></p><p st
 yle="text-align: center\;">www.articket.com.ar</p><p style="text-align: ce
 nter\;"><br></p><p style="text-align: center\;"><span style="font-weight: 
 bolder\;">APTO TODO PUBLICO<br><br></span><span style="color: rgb(156\, 15
 6\, 148)\; font-family: Abel\, sans-serif\; font-size: 12px\;">PROMO BANCO
  PROVINCIA CONDICIONES:&nbsp\;</span><a href="https://tr.ee/89uSGj" target
 ="_blank" style="background-color: rgb(255\, 255\, 255)\; font-family: Abe
 l\, sans-serif\; font-size: 12px\;">https://tr.ee/89uSGj</a></p>
END:VEVENT
END:VCALENDAR
