BEGIN:VCALENDAR
VERSION:2.0
PRODID:-//My Calendar//mxm.dk//
BEGIN:VEVENT
SUMMARY:PULSO COSMICO A LA CARTA EN ABBEY ROAD
DTSTART:20260704T000000Z
DTEND:20260704T080000Z
DTSTAMP:20260424T125311Z
DESCRIPTION:<p style="text-align: center\;"><span style="font-size: 24px\;
 "><b><u>PULSO COSMICO</u></b></span></p><p style="text-align: center\;"><s
 pan style="font-size: 24px\;"><b><u>MUSICA A LA CARTA</u></b></span></p><p
  style="text-align: center\;"><span style="font-size: 24px\;"><span style=
 "font-weight: bolder\;"><u>EN ABBEY ROAD</u></span></span></p><p style="te
 xt-align: center\;"><span style="font-size: 24px\;"><span style="font-weig
 ht: bolder\;"><u><br></u></span></span></p><p style="text-align: center\;"
 ><span style="font-size: 18px\;"><b>Muestra de Alumnos 17. Escuela de Bate
 ria y&nbsp\; Percusión</b></span></p><p style="text-align: center\;"></p>
 <p style="text-align: center\;"><span style="font-size: 18px\;"><b>Direcci
 ón General: Emanuel Martínez&nbsp\;</b></span></p><p style="text-align: 
 center\;"><u><span style="font-weight: bolder\;"><br></span></u></p><p sty
 le="text-align: center\;"><span style="color: rgb(32\, 31\, 30)\; font-fam
 ily: Arial\; font-size: 11.5pt\;">Entradas anticipadas limitadas en efecti
 vo:</span></p><p dir="ltr" style="margin: 0pt 0px\; font-family: Abel\, sa
 ns-serif\; text-align: center\; text-size-adjust: 100%\; color: rgb(51\, 5
 1\, 51)\; font-size: 14px\; line-height: 1.656\;"><span style="font-size: 
 11pt\; font-family: Arial\; color: rgb(34\, 34\, 34)\; font-variant-numeri
 c: normal\; font-variant-east-asian: normal\; vertical-align: baseline\;">
 &nbsp\;</span></p><p dir="ltr" style="margin: 0pt 0px\; font-family: Abel\
 , sans-serif\; text-align: center\; text-size-adjust: 100%\; color: rgb(51
 \, 51\, 51)\; font-size: 14px\; line-height: 1.656\;"><span style="font-si
 ze: 11.5pt\; font-family: Arial\; color: rgb(32\, 31\, 30)\; font-weight: 
 700\; font-variant-numeric: normal\; font-variant-east-asian: normal\; ver
 tical-align: baseline\;">La Casa de las Guitarras:</span><span style="font
 -size: 11.5pt\; font-family: Arial\; color: rgb(32\, 31\, 30)\; font-varia
 nt-numeric: normal\; font-variant-east-asian: normal\; vertical-align: bas
 eline\;">&nbsp\;Belgrano 3420 - Mar del Plata</span></p><p dir="ltr" style
 ="margin: 0pt 0px\; font-family: Abel\, sans-serif\; text-align: center\; 
 color: rgb(51\, 51\, 51)\; font-size: 14px\; line-height: 1.656\;"><span s
 tyle="font-size: 11.5pt\; font-family: Arial\; color: rgb(32\, 31\, 30)\; 
 background-color: transparent\; font-variant-numeric: normal\; font-varian
 t-east-asian: normal\; vertical-align: baseline\; white-space-collapse: pr
 eserve\;"><span style="font-weight: bolder\;">FAVA Casa Central:</span></s
 pan><span style="font-size: 11.5pt\; font-family: Arial\; color: rgb(32\, 
 31\, 30)\; background-color: transparent\; font-weight: 700\; font-variant
 -numeric: normal\; font-variant-east-asian: normal\; vertical-align: basel
 ine\; white-space-collapse: preserve\;"> </span><span style="font-size: 11
 .5pt\; font-family: Arial\; color: rgb(32\, 31\, 30)\; background-color: t
 ransparent\; font-variant-numeric: normal\; font-variant-east-asian: norma
 l\; vertical-align: baseline\; white-space-collapse: preserve\;">Av. Pedro
  Luro 3247 - Mar del Plata</span></p><p dir="ltr" style="margin: 0pt 0px\;
  font-family: Abel\, sans-serif\; text-align: center\; text-size-adjust: 1
 00%\; color: rgb(51\, 51\, 51)\; font-size: 14px\; line-height: 1.656\;"><
 br></p><p dir="ltr" style="margin: 0pt 0px\; font-family: Abel\, sans-seri
 f\; text-align: center\; text-size-adjust: 100%\; color: rgb(51\, 51\, 51)
 \; font-size: 14px\; line-height: 1.38\;"><a href="http://www.articket.com
 .ar/" style="color: rgb(51\, 122\, 183)\;"><span style="font-size: 11.5pt\
 ; font-family: Arial\; color: rgb(17\, 85\, 204)\; font-variant-numeric: n
 ormal\; font-variant-east-asian: normal\; text-decoration-line: underline\
 ; text-decoration-skip-ink: none\; vertical-align: baseline\;">www.articke
 t.com.ar</span></a></p><p dir="ltr" style="margin: 0pt 0px\; font-family: 
 Abel\, sans-serif\; text-align: center\; text-size-adjust: 100%\; color: r
 gb(51\, 51\, 51)\; font-size: 14px\; line-height: 1.656\;"><br></p><p dir=
 "ltr" style="margin: 0pt 0px\; font-family: Abel\, sans-serif\; text-align
 : center\; text-size-adjust: 100%\; color: rgb(51\, 51\, 51)\; font-size: 
 14px\; line-height: 1.38\;"><span style="caret-color: rgb(34\, 34\, 34)\; 
 color: rgb(34\, 34\, 34)\; font-family: Arial\; font-size: 14.6667px\; whi
 te-space-collapse: preserve\;"><span style="font-weight: bolder\;">APTO TO
 DO PUBLICO</span></span></p><p dir="ltr" style="margin: 0pt 0px\; font-fam
 ily: Abel\, sans-serif\; text-align: center\; text-size-adjust: 100%\; col
 or: rgb(51\, 51\, 51)\; font-size: 14px\; line-height: 1.38\;"><span style
 ="caret-color: rgb(34\, 34\, 34)\; color: rgb(34\, 34\, 34)\; font-family:
  Arial\; font-size: 14.6667px\; white-space-collapse: preserve\;"><span st
 yle="font-weight: bolder\;"><br></span></span></p><p dir="ltr" style="marg
 in: 0pt 0px\; font-family: Abel\, sans-serif\; text-align: center\; text-s
 ize-adjust: 100%\; color: rgb(51\, 51\, 51)\; font-size: 14px\; line-heigh
 t: 1.38\;"><span style="caret-color: rgb(34\, 34\, 34)\; color: rgb(34\, 3
 4\, 34)\; font-family: Arial\; font-size: 14.6667px\; white-space-collapse
 : preserve\;"><span style="font-weight: bolder\;"><br></span></span></p><p
  dir="ltr" style="margin: 0pt 0px\; text-align: center\; line-height: 1.38
 \;"><font face="Abel\, sans-serif" color="#9c9c94"><span style="font-size:
  12px\;">PROMO BANCO PROVINCIA CONDICIONES:&nbsp\;<a href="https://tr.ee/8
 9uSGj" target="_blank">https://tr.ee/89uSGj</a></span></font></p>
END:VEVENT
END:VCALENDAR
