BEGIN:VCALENDAR
VERSION:2.0
PRODID:-//My Calendar//mxm.dk//
BEGIN:VEVENT
SUMMARY:MUSICA PARA VOLAR - FIESTA DE HITAZOS
DTSTART:20260523T000000Z
DTEND:20260523T080000Z
DTSTAMP:20260424T125910Z
DESCRIPTION:<p dir="ltr" style="margin: 0pt 0px\; text-align: center\; lin
 e-height: 1.656\;"><span style="font-size: 24px\;"><b><u><span style="font
 -size: 36px\;">MUSICA PARA VOLAR</span><br>"FIESTA DE HITAZOS"</u></b></sp
 an></p><p dir="ltr" style="margin: 0pt 0px\; text-align: center\; line-hei
 ght: 1.656\;"><span style="font-size: 24px\;"><u><span style="font-weight:
  bolder\;">EN VORTERIX<br><br></span></u></span></p><div style="text-align
 : center\;"><div dir="auto"><br style="color: rgb(34\, 34\, 34)\; font-fam
 ily: Arial\, Helvetica\, sans-serif\; font-size: small\; text-align: start
 \;"></div></div><div dir="auto" style="font-family: Abel\, sans-serif\; te
 xt-align: center\;"><div></div></div><p dir="ltr" style="margin: 0pt 0px\;
  font-family: Abel\, sans-serif\; text-align: center\; color: rgb(51\, 51\
 , 51)\; font-size: 14px\; line-height: 1.656\;"><span style="font-size: 11
 .5pt\; font-family: Arial\; color: rgb(32\, 31\, 30)\; background-color: t
 ransparent\; font-variant-numeric: normal\; font-variant-east-asian: norma
 l\; vertical-align: baseline\;"><u>Entradas anticipadas limitadas en efect
 ivo:</u></span></p><p dir="ltr" style="margin: 0pt 0px\; font-family: Abel
 \, sans-serif\; text-align: center\; color: rgb(51\, 51\, 51)\; font-size:
  14px\; line-height: 1.656\;"><span style="font-size: 11pt\; font-family: 
 Arial\; color: rgb(34\, 34\, 34)\; background-color: transparent\; font-va
 riant-numeric: normal\; font-variant-east-asian: normal\; vertical-align: 
 baseline\;">&nbsp\;</span></p><p dir="ltr" style="margin: 0pt 0px\; font-f
 amily: Abel\, sans-serif\; text-align: center\; color: rgb(51\, 51\, 51)\;
  font-size: 14px\; line-height: 1.656\;"><span style="font-size: 11.5pt\; 
 font-family: Arial\; color: rgb(32\, 31\, 30)\; background-color: transpar
 ent\; font-variant-numeric: normal\; font-variant-east-asian: normal\; ver
 tical-align: baseline\;"><span style="font-weight: bolder\;">La Casa de la
 s Guitarras:</span></span><span style="font-size: 11.5pt\; font-family: Ar
 ial\; color: rgb(32\, 31\, 30)\; background-color: transparent\; font-vari
 ant-numeric: normal\; font-variant-east-asian: normal\; vertical-align: ba
 seline\;">&nbsp\;Belgrano 3420 - Mar del Plata</span></p><p dir="ltr" styl
 e="margin: 0pt 0px\; font-family: Abel\, sans-serif\; text-align: center\;
  color: rgb(51\, 51\, 51)\; font-size: 14px\; line-height: 1.656\;"><span 
 style="font-size: 11.5pt\; font-family: Arial\; color: rgb(32\, 31\, 30)\;
  background-color: transparent\; font-variant-numeric: normal\; font-varia
 nt-east-asian: normal\; vertical-align: baseline\; white-space-collapse: p
 reserve\;"><span style="font-weight: bolder\;">FAVA Casa Central:</span></
 span><span style="font-size: 11.5pt\; font-family: Arial\; color: rgb(32\,
  31\, 30)\; background-color: transparent\; font-weight: 700\; font-varian
 t-numeric: normal\; font-variant-east-asian: normal\; vertical-align: base
 line\; white-space-collapse: preserve\;"> </span><span style="font-size: 1
 1.5pt\; font-family: Arial\; color: rgb(32\, 31\, 30)\; background-color: 
 transparent\; font-variant-numeric: normal\; font-variant-east-asian: norm
 al\; vertical-align: baseline\; white-space-collapse: preserve\;">Av. Pedr
 o Luro 3247 - Mar del Plata</span></p><p dir="ltr" style="margin: 0pt 0px\
 ; font-family: Abel\, sans-serif\; text-align: center\; color: rgb(51\, 51
 \, 51)\; font-size: 14px\; line-height: 1.656\;"><span style="background-c
 olor: transparent\; color: rgb(34\, 34\, 34)\; font-family: Arial\; font-s
 ize: 11pt\;">&nbsp\;</span></p><p dir="ltr" style="margin: 0pt 0px\; font-
 family: Abel\, sans-serif\; text-align: center\; color: rgb(51\, 51\, 51)\
 ; font-size: 14px\; line-height: 1.38\;"><a href="http://www.articket.com.
 ar/" target="_blank">www.articket.com.ar</a><a href="http://www.articket.c
 om.ar/" target="_blank"></a></p><p dir="ltr" style="margin: 0pt 0px\; font
 -family: Abel\, sans-serif\; text-align: center\; color: rgb(51\, 51\, 51)
 \; font-size: 14px\; line-height: 1.38\;"><br></p><p dir="ltr" style="marg
 in: 0pt 0px\; text-align: center\; line-height: 1.38\;"><br><span style="f
 ont-weight: bolder\;">EVENTO APTO TODO PUBLICO</span></p><p dir="ltr" styl
 e="margin: 0pt 0px\; text-align: center\; line-height: 1.38\;"><span style
 ="font-weight: bolder\;"><br></span></p><p dir="ltr" style="margin: 0pt 0p
 x\; text-align: center\; line-height: 1.38\;"><span style="font-weight: bo
 lder\;"><br></span></p><p dir="ltr" style="margin: 0pt 0px\; text-align: c
 enter\; line-height: 1.38\;"><span style="font-weight: bolder\;">---</span
 ></p><p dir="ltr" style="margin: 0pt 0px\; text-align: center\; line-heigh
 t: 1.38\;"><span style="font-weight: bolder\;"><br></span></p><p dir="ltr"
  style="margin: 0pt 0px\; text-align: center\; line-height: 1.38\;">La ban
 da\, reconocida por sus versiones únicas del rock nacional\, presenta su 
 nuevo espectáculo\, con arreglos originales para cuerdas y vientos. Un co
 ncierto en clave de celebración\, para vivir de pie y dejarse llevar por 
 clásicos de Cerati\, Charly\, Fito y más.</p><div style="text-align: cen
 ter\;"><br><br><iframe frameborder="0" src="//www.youtube.com/embed/6sTaea
 2DVM0" width="640" height="360" class="note-video-clip"></iframe><br><br><
 br><div>Este 22 de mayo\, el grupo Música para Volar presentará en Mar d
 el Plata su nuevo espectáculo\, titulado “Fiesta de hitazos“. Un repe
 rtorio potente\, que incluye canciones de Gustavo Cerati\, Charly García\
 , Fito Páez y otros referentes de la cultura rock latinoamericana y mundi
 al\, en versiones únicas con arreglos originales para banda y un ensamble
  de cuerdas y vientos.&nbsp\;</div><div>La función comenzará a las 21\, 
 en Vorterix de Diagonal Pueyrredon y Bolivar. Las entradas se consiguen en
  boletería y por sistema www.articket.com&nbsp\; y www.mpvolar.com.ar.&nb
 sp\;</div><div><br></div><div>El show</div><div>Entre todas las propuestas
  que Música para Volar desarrolló en su trayectoria\, Fiesta de hitazos 
 es el primer espectáculo pensado específicamente para público de pie. 
 “Fuimos generando una serie de segmentos muy enérgicos\, en los cuales 
 van apareciendo y dialogando canciones que nos mueven desde el cuerpo\, ha
 cia adentro y hacia afuera. Jugamos con ritmos dinámicos y emociones que 
 la música extrovierte: hay euforia\, bronca\, amores de los que se cantan
  a los cuatro vientos“\, explicó José Matteucci\, cantante y baterista
  del grupo.</div><div>“Es un recital muy catártico\, intenso y con pais
 ajes musicales muy diversos. Lo que creamos se parece a una montaña rusa 
 que nos lleva desde el funk seductor y bailable\, pasando por momentos de 
 pogo rockero\, estribillos para corear todos juntos\, la oscuridad de los 
 80\, la distorsión de los 90\, hasta momentos íntimos\, minimalistas mus
 icalmente. Hay que subirse\, y que la música nos lleve“\, agregó.</div
 ><div><br></div><div>La banda</div><div>Música para Volar (@mpvolar) est
 á integrada por José Matteucci en batería y voz\, Alexis Thompson en gu
 itarra\, Julieta Sciasci en bajo y voz y Bruno Moreno en piano\, quien ade
 más se encarga de componer los arreglos para orquesta y coro polifónico 
 de los distintos espectáculos. Formado en 2012\, el grupo realiza habitua
 lmente giras por Argentina y el exterior con sus shows sinfónicos\, de c
 ámara y eléctricos\, en los cuales abordan repertorios diversos.&nbsp\;<
 /div><div>Una constante en la carrera de Música para Volar es el profundo
  respeto por la obra musical que abordan\, así como la búsqueda de gener
 ar experiencias integrales en el espectador\, diseñando cada detalle de l
 a puesta en función de crear momentos únicos de reencuentro con las comp
 osiciones.<br><br><br>Produce Alongi producciones / Clap Producciones / Vi
 cky Bosso producciones<br><br><font face="Abel\, sans-serif" color="#9c9c9
 4"><span style="font-size: 12px\;">PROMO BANCO PROVINCIA CONDICIONES:&nbsp
 \;</span></font><a href="https://tr.ee/89uSGj" target="_blank" style="back
 ground-color: rgb(255\, 255\, 255)\;">https://tr.ee/89uSGj</a></div></div>
END:VEVENT
END:VCALENDAR
