BEGIN:VCALENDAR
VERSION:2.0
PRODID:-//My Calendar//mxm.dk//
BEGIN:VEVENT
SUMMARY:WILLY BRONCA EN VORTERIX
DTSTART:20260502T000000Z
DTEND:20260502T050000Z
DTSTAMP:20260424T124617Z
DESCRIPTION:<p dir="ltr" style="margin: 0pt 0px\; text-align: center\; lin
 e-height: 1.656\;"><span style="text-align: left\; font-size: 24px\;"><u s
 tyle=""><b>WILLY BRONCA EN VORTERIX</b></u></span></p><div style="text-ali
 gn: center\; font-family: Arial\, Helvetica\, sans-serif\; font-size: smal
 l\; color: rgb(0\, 0\, 0)\;"><p class="MsoNormal" style="margin: 0cm 0cm 8
 pt\; color: rgb(34\, 34\, 34)\; line-height: 16.1891px\;"><br></p><p dir="
 ltr" style="margin: 0pt 0px\; color: rgb(33\, 37\, 41)\; font-family: -app
 le-system\, BlinkMacSystemFont\, &quot\;Segoe UI&quot\;\, Roboto\, &quot\;
 Helvetica Neue&quot\;\, Arial\, &quot\;Noto Sans&quot\;\, sans-serif\, &qu
 ot\;Apple Color Emoji&quot\;\, &quot\;Segoe UI Emoji&quot\;\, &quot\;Segoe
  UI Symbol&quot\;\, &quot\;Noto Color Emoji&quot\;\; font-size: 16px\; lin
 e-height: 1.656\;"><font color="#222222" face="Arial"><span style="font-si
 ze: 14.6667px\;">Willy Bronca\, el artista multifacético de crecimiento m
 ás explosivo de 2025\, acaba de lanzar “Pequeñas diferencias”\, el p
 rimer adelanto de lo que será su tercer álbum de estudio -producido por 
 Catriel Ciavarella (baterista de Divididos) y Juano Sarda-\, una canción 
 que pone el foco en los contrastes de su vida en el conurbano bonaerense\,
  específicamente en José C. Paz\, al noroeste del Gran Buenos Aires vers
 us la Capital Federal.</span></font></p><p dir="ltr" style="margin: 0pt 0p
 x\; color: rgb(33\, 37\, 41)\; font-family: -apple-system\, BlinkMacSystem
 Font\, &quot\;Segoe UI&quot\;\, Roboto\, &quot\;Helvetica Neue&quot\;\, Ar
 ial\, &quot\;Noto Sans&quot\;\, sans-serif\, &quot\;Apple Color Emoji&quot
 \;\, &quot\;Segoe UI Emoji&quot\;\, &quot\;Segoe UI Symbol&quot\;\, &quot\
 ;Noto Color Emoji&quot\;\; font-size: 16px\; line-height: 1.656\;"><font c
 olor="#222222" face="Arial"><span style="font-size: 14.6667px\;"><br></spa
 n></font></p><p dir="ltr" style="margin: 0pt 0px\; color: rgb(33\, 37\, 41
 )\; font-family: -apple-system\, BlinkMacSystemFont\, &quot\;Segoe UI&quot
 \;\, Roboto\, &quot\;Helvetica Neue&quot\;\, Arial\, &quot\;Noto Sans&quot
 \;\, sans-serif\, &quot\;Apple Color Emoji&quot\;\, &quot\;Segoe UI Emoji&
 quot\;\, &quot\;Segoe UI Symbol&quot\;\, &quot\;Noto Color Emoji&quot\;\; 
 font-size: 16px\; line-height: 1.656\;"><font color="#222222" face="Arial"
 ><span style="font-size: 14.6667px\;">Nacido en Perú y criado en el conur
 bano bonaerense\, Willy Bronca irrumpió en la industria con una propuesta
  que descoloca por talento\, intensidad y originalidad. Sus fraseos vertig
 inosos\, cargados de líricas sociales\, conviven con una formación music
 al sólida -de conservatorio- y una sensibilidad popular que le permite fu
 sionar rap con jazz\, funk\, soul y folklore latinoamericano. Ese cruce lo
  posicionó como una de las voces más singulares de su generación.</span
 ></font></p><p dir="ltr" style="margin: 0pt 0px\; color: rgb(33\, 37\, 41)
 \; font-family: -apple-system\, BlinkMacSystemFont\, &quot\;Segoe UI&quot\
 ;\, Roboto\, &quot\;Helvetica Neue&quot\;\, Arial\, &quot\;Noto Sans&quot\
 ;\, sans-serif\, &quot\;Apple Color Emoji&quot\;\, &quot\;Segoe UI Emoji&q
 uot\;\, &quot\;Segoe UI Symbol&quot\;\, &quot\;Noto Color Emoji&quot\;\; f
 ont-size: 16px\; line-height: 1.656\;"><font color="#222222" face="Arial">
 <span style="font-size: 14.6667px\;"><br></span></font></p><p dir="ltr" st
 yle="margin: 0pt 0px\; color: rgb(33\, 37\, 41)\; font-family: -apple-syst
 em\, BlinkMacSystemFont\, &quot\;Segoe UI&quot\;\, Roboto\, &quot\;Helveti
 ca Neue&quot\;\, Arial\, &quot\;Noto Sans&quot\;\, sans-serif\, &quot\;App
 le Color Emoji&quot\;\, &quot\;Segoe UI Emoji&quot\;\, &quot\;Segoe UI Sym
 bol&quot\;\, &quot\;Noto Color Emoji&quot\;\; font-size: 16px\; line-heigh
 t: 1.656\;"><font color="#222222" face="Arial"><span style="font-size: 14.
 6667px\;">Además de su potencia lírica\, Willy Bronca tiene una cualidad
  que terminó de definir su impronta en vivo: rapea mientras toca la bater
 ía. Ese doble rol sobre el escenario es también uno de los elementos que
  reafirma su singularidad.</span></font></p><p dir="ltr" style="margin: 0p
 t 0px\; color: rgb(33\, 37\, 41)\; font-family: -apple-system\, BlinkMacSy
 stemFont\, &quot\;Segoe UI&quot\;\, Roboto\, &quot\;Helvetica Neue&quot\;\
 , Arial\, &quot\;Noto Sans&quot\;\, sans-serif\, &quot\;Apple Color Emoji&
 quot\;\, &quot\;Segoe UI Emoji&quot\;\, &quot\;Segoe UI Symbol&quot\;\, &q
 uot\;Noto Color Emoji&quot\;\; font-size: 16px\; line-height: 1.656\;"><fo
 nt color="#222222" face="Arial"><span style="font-size: 14.6667px\;"><br><
 /span></font></p><p dir="ltr" style="margin: 0pt 0px\; color: rgb(33\, 37\
 , 41)\; font-family: -apple-system\, BlinkMacSystemFont\, &quot\;Segoe UI&
 quot\;\, Roboto\, &quot\;Helvetica Neue&quot\;\, Arial\, &quot\;Noto Sans&
 quot\;\, sans-serif\, &quot\;Apple Color Emoji&quot\;\, &quot\;Segoe UI Em
 oji&quot\;\, &quot\;Segoe UI Symbol&quot\;\, &quot\;Noto Color Emoji&quot\
 ;\; font-size: 16px\; line-height: 1.656\;"><font color="#222222" face="Ar
 ial"><span style="font-size: 14.6667px\;">En muy poco tiempo\, logró gana
 rse la atención de figuras que rara vez confluyen alrededor de un mismo a
 rtista. En diciembre\, abrió los shows de María Becerra en River y compa
 rtió escenario con Divididos\, Bersuit y Manu Chao\, entre otros proyecto
 s consagrados. Fue invitado por León Gieco a grabar una nueva versión de
  “La Marcha de la Bronca” y su talento llegó incluso a oídos de Rosa
 lía\, quien lo vio en vivo durante el último show de Cindy Cats.<br><br>
 <br></span></font></p></div><div dir="auto" style="font-family: Abel\, san
 s-serif\; text-align: center\;"><div></div></div><p dir="ltr" style="margi
 n: 0pt 0px\; font-family: Abel\, sans-serif\; text-align: center\; color: 
 rgb(51\, 51\, 51)\; font-size: 14px\; line-height: 1.656\;"><span style="f
 ont-size: 11.5pt\; font-family: Arial\; color: rgb(32\, 31\, 30)\; backgro
 und-color: transparent\; font-variant-numeric: normal\; font-variant-east-
 asian: normal\; vertical-align: baseline\;">Entradas anticipadas limitadas
  en efectivo:</span></p><p dir="ltr" style="margin: 0pt 0px\; font-family:
  Abel\, sans-serif\; text-align: center\; color: rgb(51\, 51\, 51)\; font-
 size: 14px\; line-height: 1.656\;"><span style="font-size: 11pt\; font-fam
 ily: Arial\; color: rgb(34\, 34\, 34)\; background-color: transparent\; fo
 nt-variant-numeric: normal\; font-variant-east-asian: normal\; vertical-al
 ign: baseline\;">&nbsp\;</span></p><p dir="ltr" style="margin: 0pt 0px\; f
 ont-family: Abel\, sans-serif\; text-align: center\; color: rgb(51\, 51\, 
 51)\; font-size: 14px\; line-height: 1.656\;"><span style="font-size: 11.5
 pt\; font-family: Arial\; color: rgb(32\, 31\, 30)\; background-color: tra
 nsparent\; font-variant-numeric: normal\; font-variant-east-asian: normal\
 ; vertical-align: baseline\;"><span style="font-weight: bolder\;">La Casa 
 de las Guitarras:</span></span><span style="font-size: 11.5pt\; font-famil
 y: Arial\; color: rgb(32\, 31\, 30)\; background-color: transparent\; font
 -variant-numeric: normal\; font-variant-east-asian: normal\; vertical-alig
 n: baseline\;">&nbsp\;Belgrano 3420 - Mar del Plata</span></p><p dir="ltr"
  style="margin: 0pt 0px\; font-family: Abel\, sans-serif\; text-align: cen
 ter\; color: rgb(51\, 51\, 51)\; font-size: 14px\; line-height: 1.656\;"><
 span style="white-space-collapse: preserve\; background-color: transparent
 \; font-size: 11.5pt\; font-family: Arial\; color: rgb(32\, 31\, 30)\; fon
 t-variant-numeric: normal\; font-variant-east-asian: normal\; vertical-ali
 gn: baseline\;"><span style="font-weight: bolder\;">FAVA Casa Central:</sp
 an></span><span style="white-space-collapse: preserve\; background-color: 
 transparent\; font-size: 11.5pt\; font-family: Arial\; color: rgb(32\, 31\
 , 30)\; font-weight: 700\; font-variant-numeric: normal\; font-variant-eas
 t-asian: normal\; vertical-align: baseline\;"> </span><span style="white-s
 pace-collapse: preserve\; background-color: transparent\; font-size: 11.5p
 t\; font-family: Arial\; color: rgb(32\, 31\, 30)\; font-variant-numeric: 
 normal\; font-variant-east-asian: normal\; vertical-align: baseline\;">Av.
  Pedro Luro 3247 - Mar del Plata</span></p><p dir="ltr" style="margin: 0pt
  0px\; font-family: Abel\, sans-serif\; text-align: center\; color: rgb(51
 \, 51\, 51)\; font-size: 14px\; line-height: 1.656\;"><br></p><div style="
 text-align: center\;"><br></div><p dir="ltr" style="margin: 0pt 0px\; font
 -family: Abel\, sans-serif\; text-align: center\; color: rgb(51\, 51\, 51)
 \; font-size: 14px\; line-height: 1.656\;"><span style="font-size: 11pt\; 
 font-family: Arial\; color: rgb(34\, 34\, 34)\; background-color: transpar
 ent\; font-variant-numeric: normal\; font-variant-east-asian: normal\; ver
 tical-align: baseline\;"><b><span style="font-size: 18px\;">EVENTO ATP</sp
 an><br></b><br></span></p><p dir="ltr" style="margin: 0pt 0px\; font-famil
 y: Abel\, sans-serif\; text-align: center\; color: rgb(51\, 51\, 51)\; fon
 t-size: 14px\; line-height: 1.38\;"><a href="http://www.articket.com.ar/" 
 target="_blank">www.articket.com.ar</a><a href="http://www.articket.com.ar
 /" target="_blank"></a><br><br></p><p dir="ltr" style="margin: 0pt 0px\; t
 ext-align: center\; line-height: 1.38\;"><font face="Abel\, sans-serif" co
 lor="#9c9c94"><span style="font-size: 12px\;">PROMO BANCO PROVINCIA CONDIC
 IONES:&nbsp\;<a href="https://tr.ee/89uSGj" target="_blank">https://tr.ee/
 89uSGj</a></span></font></p><p dir="ltr" style="margin: 0pt 0px\; text-ali
 gn: center\; line-height: 1.38\;"><br style="font-family: Abel\, sans-seri
 f\;"></p><p dir="ltr" style="margin: 0pt 0px\; font-family: Abel\, sans-se
 rif\; text-align: center\; color: rgb(51\, 51\, 51)\; font-size: 14px\; li
 ne-height: 1.38\;"><br></p>
END:VEVENT
END:VCALENDAR
