BEGIN:VCALENDAR
VERSION:2.0
PRODID:-//My Calendar//mxm.dk//
BEGIN:VEVENT
SUMMARY:LA BALLENA EN TANDIL 24-5
DTSTART:20260525T000000Z
DTEND:20260525T025500Z
DTSTAMP:20260424T124438Z
DESCRIPTION:<div style="text-align: center\;"><font face="Arial"><span sty
 le="font-weight: bolder\;"><u><span style="font-size: 24px\;">LA BALLENA</
 span></u></span></font></div><div style="text-align: center\;"><font face=
 "Arial"><span style="font-weight: bolder\; font-size: 24px\;"><u>EN TANDIL
 </u></span></font></div><p dir="ltr" style="margin: 0pt 0px\; text-align: 
 center\; line-height: 1.656\;"><br></p><p dir="ltr" style="margin: 0pt 0px
 \; font-family: Abel\, sans-serif\; text-align: center\; color: rgb(51\, 5
 1\, 51)\; font-size: 14px\; line-height: 1.656\;"><span style="color: rgb(
 34\, 34\, 34)\; font-family: Arial\; font-size: 11pt\;">&nbsp\;</span></p>
 <p dir="ltr" style="margin: 0pt 0px\; font-family: Abel\, sans-serif\; tex
 t-align: center\; color: rgb(51\, 51\, 51)\; font-size: 14px\; line-height
 : 1.38\;"><a href="http://www.articket.com.ar/" target="_blank">www.artick
 et.com.ar</a><a href="http://www.articket.com.ar/" target="_blank"></a></p
 ><p dir="ltr" style="margin: 0pt 0px\; font-family: Abel\, sans-serif\; te
 xt-align: center\; color: rgb(51\, 51\, 51)\; font-size: 14px\; line-heigh
 t: 1.38\;"><br></p><p><u style="font-size: 1rem\; font-family: Abel\, sans
 -serif\;"></u></p><p dir="ltr" style="margin: 0pt 0px\; font-family: Abel\
 , sans-serif\; text-align: center\; color: rgb(51\, 51\, 51)\; line-height
 : 1.38\;"><span style="font-size: 18px\;"><span style="font-weight: bolder
 \;">EVENTO APTO +11 AÑOS</span></span></p><p dir="ltr" style="margin: 0pt
  0px\; font-family: Abel\, sans-serif\; text-align: center\; color: rgb(51
 \, 51\, 51)\; font-size: 14px\; line-height: 1.38\;"><span style="font-wei
 ght: bolder\; font-size: 18px\;"><br></span></p><p dir="ltr" style="margin
 : 0pt 0px\; font-family: Abel\, sans-serif\; text-align: center\; color: r
 gb(51\, 51\, 51)\; font-size: 14px\; line-height: 1.38\;"><span style="fon
 t-weight: bolder\; font-size: 18px\;">---</span></p><p dir="ltr" style="ma
 rgin: 0pt 0px\; font-family: Abel\, sans-serif\; text-align: center\; colo
 r: rgb(51\, 51\, 51)\; font-size: 14px\; line-height: 1.38\;"><span style=
 "font-weight: bolder\; font-size: 18px\;"><br></span></p><p dir="ltr" styl
 e="margin: 0pt 0px\; text-align: center\; line-height: 1.38\;"><font color
 ="#333333" face="Abel\, sans-serif"><span style="font-size: 18px\;"><span 
 style="font-weight: bolder\;">Con gran concurrencia del público la exitos
 a obra “La Ballena”\, protagonizada por Julio Chávez y la dirección 
 de Ricky Pashkus\, da su presente en el&nbsp\;</span></span></font></p><p 
 dir="ltr" style="margin: 0pt 0px\; text-align: center\; line-height: 1.38\
 ;"><font color="#333333" face="Abel\, sans-serif"><span style="font-size: 
 18px\;"><span style="font-weight: bolder\;"><br></span></span></font></p><
 p dir="ltr" style="margin: 0pt 0px\; text-align: center\; line-height: 1.3
 8\;"><font color="#333333" face="Abel\, sans-serif"><span style="font-size
 : 18px\;"><span style="font-weight: bolder\;">La misma\, que es reconocida
  mundialmente e inspiró la película por la que Brendan Fraser ganó un O
 scar.</span></span></font></p><p dir="ltr" style="margin: 0pt 0px\; text-a
 lign: center\; line-height: 1.38\;"><font color="#333333" face="Abel\, san
 s-serif"><span style="font-size: 18px\;"><span style="font-weight: bolder\
 ;"><br></span></span></font></p><p dir="ltr" style="margin: 0pt 0px\; text
 -align: center\; line-height: 1.38\;"><font color="#333333" face="Abel\, s
 ans-serif"><span style="font-size: 18px\;"><span style="font-weight: bolde
 r\;"><br></span></span></font></p><p dir="ltr" style="margin: 0pt 0px\; te
 xt-align: center\; line-height: 1.38\;"><font color="#333333" face="Abel\,
  sans-serif"><span style="font-size: 18px\;"><span style="font-weight: bol
 der\;">SOBRE LA BALLENA&nbsp\;</span></span></font></p><p dir="ltr" style=
 "margin: 0pt 0px\; text-align: center\; line-height: 1.38\;"><font color="
 #333333" face="Abel\, sans-serif"><span style="font-size: 18px\;"><span st
 yle="font-weight: bolder\;"><br></span></span></font></p><p dir="ltr" styl
 e="margin: 0pt 0px\; text-align: center\; line-height: 1.38\;"><font color
 ="#333333" face="Abel\, sans-serif"><span style="font-size: 18px\;"><span 
 style="font-weight: bolder\;">Charlie es un profesor de literatura que da 
 clases desde su casa. Está enfermo\, tiene obesidad mórbida\, ha decidid
 o no atenderse y atraviesa sus días acompañado de su amiga Ana. Así\, c
 onoce a Tomás\, un joven religioso que lo lleva a enfrentar su historia. 
 Y frente a la certeza de sus últimos días decide reencontrarse con Ellie
 \, su hija\, a la que no ve desde hace ocho años.&nbsp\;</span></span></f
 ont></p><p dir="ltr" style="margin: 0pt 0px\; text-align: center\; line-he
 ight: 1.38\;"><font color="#333333" face="Abel\, sans-serif"><span style="
 font-size: 18px\;"><span style="font-weight: bolder\;">Con ella\, intentar
 á reparar un vínculo marcado por recuerdos\, silencios y rencores. “La
  Ballena” es la historia de un final. Los últimos días en la vida de u
 n hombre que lleva en su cuerpo el daño que se ha hecho\, que ha hecho y 
 que le han hecho. Los últimos días de un hombre que intenta reparar algo
  impulsado por una esperanza en el mundo. Perdonar y ser perdonado es una 
 forma de darle una nueva oportunidad al ser humano.</span></span></font></
 p><p dir="ltr" style="margin: 0pt 0px\; text-align: center\; line-height: 
 1.38\;"><font color="#333333" face="Abel\, sans-serif"><span style="font-s
 ize: 18px\;"><span style="font-weight: bolder\;"><br></span></span></font>
 </p><p dir="ltr" style="margin: 0pt 0px\; text-align: center\; line-height
 : 1.38\;"><font color="#333333" face="Abel\, sans-serif"><span style="font
 -size: 18px\;"><span style="font-weight: bolder\;">&nbsp\;FICHA TÉCNICA:<
 /span></span></font></p><p dir="ltr" style="margin: 0pt 0px\; text-align: 
 center\; line-height: 1.38\;"><font color="#333333" face="Abel\, sans-seri
 f"><span style="font-size: 18px\;"><span style="font-weight: bolder\;"><br
 ></span></span></font></p><p dir="ltr" style="margin: 0pt 0px\; text-align
 : center\; line-height: 1.38\;"><font color="#333333" face="Abel\, sans-se
 rif"><span style="font-size: 18px\;"><span style="font-weight: bolder\;">A
 utor: Samuel D. Hunter&nbsp\;</span></span></font></p><p dir="ltr" style="
 margin: 0pt 0px\; text-align: center\; line-height: 1.38\;"><font color="#
 333333" face="Abel\, sans-serif"><span style="font-size: 18px\;"><span sty
 le="font-weight: bolder\;">Escenografía: Jorge Ferrari&nbsp\;</span></spa
 n></font></p><p dir="ltr" style="margin: 0pt 0px\; text-align: center\; li
 ne-height: 1.38\;"><font color="#333333" face="Abel\, sans-serif"><span st
 yle="font-size: 18px\;"><span style="font-weight: bolder\;">Vestuario: Gus
 tavo Alderete de “La Polilla"&nbsp\;</span></span></font></p><p dir="ltr
 " style="margin: 0pt 0px\; text-align: center\; line-height: 1.38\;"><font
  color="#333333" face="Abel\, sans-serif"><span style="font-size: 18px\;">
 <span style="font-weight: bolder\;">Música: Diego Vainer&nbsp\;</span></s
 pan></font></p><p dir="ltr" style="margin: 0pt 0px\; text-align: center\; 
 line-height: 1.38\;"><font color="#333333" face="Abel\, sans-serif"><span 
 style="font-size: 18px\;"><span style="font-weight: bolder\;">Maquillaje F
 X: Germán Pérez\, Marianela Moldavsky&nbsp\;</span></span></font></p><p 
 dir="ltr" style="margin: 0pt 0px\; text-align: center\; line-height: 1.38\
 ;"><font color="#333333" face="Abel\, sans-serif"><span style="font-size: 
 18px\;"><span style="font-weight: bolder\;">Dirección: Ricky Pashkus&nbsp
 \;</span></span></font></p><p dir="ltr" style="margin: 0pt 0px\; text-alig
 n: center\; line-height: 1.38\;"><font color="#333333" face="Abel\, sans-s
 erif"><span style="font-size: 18px\;"><span style="font-weight: bolder\;">
 Producción Ejecutiva: Francisco Martínez Jones&nbsp\;</span></span></fon
 t></p><p dir="ltr" style="margin: 0pt 0px\; text-align: center\; line-heig
 ht: 1.38\;"></p><p dir="ltr" style="margin: 0pt 0px\; text-align: center\;
  line-height: 1.38\;"><font color="#333333" face="Abel\, sans-serif"><span
  style="font-size: 18px\;"><span style="font-weight: bolder\;">Producción
  General: Rimas - Maximiliano Córdoba - Juan Pelosi - Quality Produccione
 s</span></span></font></p><div style="text-align: center\;"><br></div><p d
 ir="ltr" style="margin: 0pt 0px\; font-family: Abel\, sans-serif\; text-al
 ign: center\; color: rgb(51\, 51\, 51)\; font-size: 14px\; line-height: 1.
 38\;"><span style="font-weight: bolder\;"><br></span></p><p dir="ltr" styl
 e="margin: 0pt 0px\; text-align: center\; line-height: 1.38\;"><font face=
 "Abel\, sans-serif" color="#9c9c94"><span style="font-size: 12px\;">PROMO 
 BANCO PROVINCIA CONDICIONES:&nbsp\;<a href="https://tr.ee/89uSGj" target="
 _blank">https://tr.ee/89uSGj</a></span></font></p><p dir="ltr" style="marg
 in: 0pt 0px\; text-align: center\; line-height: 1.38\;"><br style="font-fa
 mily: Abel\, sans-serif\;"></p>
END:VEVENT
END:VCALENDAR
