BEGIN:VCALENDAR
VERSION:2.0
PRODID:-//My Calendar//mxm.dk//
BEGIN:VEVENT
SUMMARY:EL HOMBRE INESPERADO EN BOLIVAR
DTSTART:20260802T000000Z
DTEND:20260802T025500Z
DTSTAMP:20260424T124438Z
DESCRIPTION:<div style="text-align: center\;"><font color="#000000" face="
 Arial"><span style="font-size: 24px\; white-space-collapse: preserve\;"><b
 ><u>EL HOMBRE INESPERADO</u></b></span></font></div><div style="text-align
 : center\;"><font color="#000000" face="Arial"><span style="font-size: 24p
 x\; white-space-collapse: preserve\;"><b><u>EN BOLIVAR</u></b></span></fon
 t></div><div style="text-align: center\;"><font face="Arial"><font color="
 #000000" style="font-family: &quot\;Times New Roman&quot\;\; font-size: 15
 .3333px\; white-space-collapse: preserve\;">\n\nEntradas Anticipadas en ef
 ectivo:\n\n</font></font></div><div style="text-align: center\;"><p dir="l
 tr" style="margin: 0pt 0px\; font-family: Abel\, sans-serif\; color: rgb(5
 1\, 51\, 51)\; font-size: 14px\; line-height: 1.656\;"><span style="font-s
 ize: 11.5pt\; font-family: Arial\; color: rgb(32\, 31\, 30)\; font-variant
 -numeric: normal\; font-variant-east-asian: normal\; vertical-align: basel
 ine\;"></span></p><p dir="ltr" style="margin: 0pt 0px\; line-height: 1.656
 \;"><span style="color: rgb(32\, 31\, 30)\; font-family: Arial\; font-size
 : 11.5pt\; caret-color: rgb(51\, 51\, 51)\; font-variant-numeric: normal\;
  font-variant-east-asian: normal\; vertical-align: baseline\;"><span style
 ="font-weight: bolder\;">PC Cell:&nbsp\;</span></span><font color="#201f1e
 " face="Arial"><span style="font-size: 15.3333px\; caret-color: rgb(51\, 5
 1\, 51)\;">Calle Olavarría Nro112<span style="font-weight: bolder\;">&nbs
 p\;</span></span></font><span style="color: rgb(32\, 31\, 30)\; font-famil
 y: Arial\; font-size: 11.5pt\; caret-color: rgb(51\, 51\, 51)\;">&nbsp\;-&
 nbsp\;</span><span style="font-weight: bolder\; color: rgb(32\, 31\, 30)\;
  font-family: Arial\; font-size: 11.5pt\; caret-color: rgb(51\, 51\, 51)\;
 ">Bolivar</span></p><div><span style="font-weight: bolder\; color: rgb(32\
 , 31\, 30)\; font-family: Arial\; font-size: 11.5pt\; caret-color: rgb(51\
 , 51\, 51)\;"><br></span></div><div style="font-family: Arial\, Helvetica\
 , sans-serif\; color: rgb(33\, 33\, 33)\; font-size: small\;"><a href="htt
 p://www.articket.com.ar/" style="color: rgb(51\, 122\, 183)\; font-family:
  Abel\, sans-serif\; font-size: 14px\;"><span style="font-size: 11.5pt\; f
 ont-family: Arial\; color: rgb(17\, 85\, 204)\; font-variant-numeric: norm
 al\; font-variant-east-asian: normal\; text-decoration-line: underline\; t
 ext-decoration-skip-ink: none\; vertical-align: baseline\; white-space-col
 lapse: preserve\;">www.articket.com.ar</span></a></div><div style="font-fa
 mily: Arial\, Helvetica\, sans-serif\; color: rgb(33\, 33\, 33)\; font-siz
 e: small\;"><br></div><div><br style="color: rgb(51\, 51\, 51)\; font-size
 : 14px\;"><p dir="ltr" style="margin: 0pt 0px\; font-family: Abel\, sans-s
 erif\; color: rgb(51\, 51\, 51)\; font-size: 14px\; line-height: 1.38\;"><
 span style="font-variant-numeric: normal\; font-variant-east-asian: normal
 \; vertical-align: baseline\;"><font color="#222222" face="Arial"><span st
 yle="font-size: 11pt\; white-space-collapse: preserve\;"><span style="font
 -weight: bolder\;">EVENTO  APTO TODO PUBLICO</span></span></font></span></
 p><p dir="ltr" style="margin: 0pt 0px\; font-family: Abel\, sans-serif\; c
 olor: rgb(51\, 51\, 51)\; font-size: 14px\; line-height: 1.38\;"><span sty
 le="font-variant-numeric: normal\; font-variant-east-asian: normal\; verti
 cal-align: baseline\;"><font color="#222222" face="Arial"><span style="fon
 t-size: 11pt\; white-space-collapse: preserve\;"><span style="font-weight:
  bolder\;"><br></span></span></font></span></p><p dir="ltr" style="margin:
  0pt 0px\; font-family: Abel\, sans-serif\; color: rgb(51\, 51\, 51)\; fon
 t-size: 14px\; line-height: 1.38\;"><span style="font-variant-numeric: nor
 mal\; font-variant-east-asian: normal\; vertical-align: baseline\;"><span 
 style="color: rgb(156\, 156\, 148)\; font-size: 12px\;">PROMO BANCO PROVIN
 CIA CONDICIONES:&nbsp\;</span><a href="https://tr.ee/89uSGj" target="_blan
 k" style="background-color: rgb(255\, 255\, 255)\; font-size: 12px\;">http
 s://tr.ee/89uSGj</a><font color="#222222" face="Arial"><span style="font-s
 ize: 11pt\; white-space-collapse: preserve\;"><span style="font-weight: bo
 lder\;"></span></span></font></span></p></div></div>
END:VEVENT
END:VCALENDAR
