BEGIN:VCALENDAR
VERSION:2.0
PRODID:-//My Calendar//mxm.dk//
BEGIN:VEVENT
SUMMARY:EL HOMBRE INESPERADO EN OLAVARRIA
DTSTART:20260607T230000Z
DTEND:20260608T025500Z
DTSTAMP:20260424T124612Z
DESCRIPTION:<p dir="ltr" style="text-align: center\; margin: 0pt 0px\; -we
 bkit-tap-highlight-color: rgba(0\, 0\, 0\, 0)\; text-size-adjust: 100%\; l
 ine-height: 1.656\;"><font color="#201f1e" face="Arial"><span style="font-
 size: 18px\; caret-color: rgb(51\, 51\, 51)\;"><b><u>EL HOMBRE INESPERADO<
 /u></b></span></font></p><p dir="ltr" style="margin: 0pt 0px\; text-align:
  center\; -webkit-tap-highlight-color: rgba(0\, 0\, 0\, 0)\; text-size-adj
 ust: 100%\; line-height: 1.656\;"><font color="#201f1e" face="Arial"><u><f
 ont face="Abel\, sans-serif"><span style="font-size: 15.3333px\; font-weig
 ht: bolder\; caret-color: rgb(51\, 51\, 51)\;">EN OLAVARRIA</span></font><
 /u></font></p><p dir="ltr" style="margin: 0pt 0px\; font-family: Abel\, sa
 ns-serif\; text-align: center\; color: rgb(51\, 51\, 51)\; font-size: 14px
 \; caret-color: rgb(51\, 51\, 51)\; -webkit-tap-highlight-color: rgba(0\, 
 0\, 0\, 0)\; text-size-adjust: 100%\; line-height: 1.656\;"><span style="f
 ont-size: 11.5pt\; font-family: Arial\; color: rgb(32\, 31\, 30)\; font-va
 riant-numeric: normal\; font-variant-east-asian: normal\; vertical-align: 
 baseline\;"><br></span></p><p dir="ltr" style="margin: 0pt 0px\; font-fami
 ly: Abel\, sans-serif\; text-align: center\; color: rgb(51\, 51\, 51)\; fo
 nt-size: 14px\; caret-color: rgb(51\, 51\, 51)\; -webkit-tap-highlight-col
 or: rgba(0\, 0\, 0\, 0)\; text-size-adjust: 100%\; line-height: 1.656\;"><
 span style="font-size: 11.5pt\; font-family: Arial\; color: rgb(32\, 31\, 
 30)\; font-variant-numeric: normal\; font-variant-east-asian: normal\; ver
 tical-align: baseline\;">Entradas anticipadas:<br><br></span></p><p dir="l
 tr" style="margin: 0pt 0px\; font-family: Abel\, sans-serif\; text-align: 
 center\; color: rgb(51\, 51\, 51)\; font-size: 14px\; caret-color: rgb(51\
 , 51\, 51)\; -webkit-tap-highlight-color: rgba(0\, 0\, 0\, 0)\; text-size-
 adjust: 100%\; line-height: 1.656\;"><u style="color: rgb(34\, 34\, 34)\; 
 font-family: Arial\; font-size: 14.6667px\;">POR SISTEMA:<br></u><span sty
 le="font-weight: 700\; color: rgb(34\, 34\, 34)\; font-family: Arial\; fon
 t-size: 11pt\;">(Todos los medios de pago)</span></p><p dir="ltr" style="m
 argin: 0pt 0px\; font-family: Abel\, sans-serif\; text-align: center\; col
 or: rgb(51\, 51\, 51)\; font-size: 14px\; caret-color: rgb(51\, 51\, 51)\;
  -webkit-tap-highlight-color: rgba(0\, 0\, 0\, 0)\; text-size-adjust: 100%
 \; line-height: 1.656\;"><span style="font-weight: 700\; color: rgb(34\, 3
 4\, 34)\; font-family: Arial\; font-size: 11pt\;"><br></span></p><p dir="l
 tr" style="margin: 0pt 0px\; font-family: Abel\, sans-serif\; text-align: 
 center\; color: rgb(51\, 51\, 51)\; font-size: 14px\; caret-color: rgb(51\
 , 51\, 51)\; -webkit-tap-highlight-color: rgba(0\, 0\, 0\, 0)\; text-size-
 adjust: 100%\; line-height: 1.656\;"><font color="#222222" face="Arial"><s
 pan style="font-size: 14.6667px\;"><u>Efectivo en:</u></span></font></p><p
  dir="ltr" style="margin: 0pt 0px\; font-family: Abel\, sans-serif\; text-
 align: center\; color: rgb(51\, 51\, 51)\; font-size: 14px\; caret-color: 
 rgb(51\, 51\, 51)\; -webkit-tap-highlight-color: rgba(0\, 0\, 0\, 0)\; tex
 t-size-adjust: 100%\; line-height: 1.656\;"><span style="font-size: 11.5pt
 \; font-family: Arial\; color: rgb(32\, 31\, 30)\; font-weight: 700\; font
 -variant-numeric: normal\; font-variant-east-asian: normal\; vertical-alig
 n: baseline\;">TecnoCentro:</span><span style="font-size: 11.5pt\; font-fa
 mily: Arial\; color: rgb(32\, 31\, 30)\; font-variant-numeric: normal\; fo
 nt-variant-east-asian: normal\; vertical-align: baseline\;">&nbsp\;Rivadav
 ia 3065 -&nbsp\;<span style="font-weight: 700\;">Olavarria</span></span></
 p><div style="text-align: center\; -webkit-tap-highlight-color: rgba(0\, 0
 \, 0\, 0)\; text-size-adjust: 100%\; font-family: Arial\, Helvetica\, sans
 -serif\; font-size: small\; color: rgb(33\, 33\, 33)\;"><i><br></i></div><
 p dir="ltr" style="margin: 0pt 0px\; font-family: Abel\, sans-serif\; text
 -align: center\; color: rgb(51\, 51\, 51)\; font-size: 14px\; caret-color:
  rgb(51\, 51\, 51)\; -webkit-tap-highlight-color: rgba(0\, 0\, 0\, 0)\; te
 xt-size-adjust: 100%\; line-height: 1.656\;"><span style="font-size: 11pt\
 ; font-family: Arial\; color: rgb(34\, 34\, 34)\; font-variant-numeric: no
 rmal\; font-variant-east-asian: normal\; vertical-align: baseline\;"><span
  style="font-weight: 700\;"><u>Entradas de Discapacidad</u></span></span><
 /p><p dir="ltr" style="margin: 0pt 0px\; font-family: Abel\, sans-serif\; 
 text-align: center\; color: rgb(51\, 51\, 51)\; font-size: 14px\; caret-co
 lor: rgb(51\, 51\, 51)\; -webkit-tap-highlight-color: rgba(0\, 0\, 0\, 0)\
 ; text-size-adjust: 100%\; line-height: 1.656\;"><span style="font-size: 1
 1pt\; font-family: Arial\; color: rgb(34\, 34\, 34)\; font-variant-numeric
 : normal\; font-variant-east-asian: normal\; vertical-align: baseline\;"><
 /span></p><p dir="ltr" style="margin: 0pt 0px\; font-family: Abel\, sans-s
 erif\; text-align: center\; color: rgb(51\, 51\, 51)\; font-size: 14px\; l
 ine-height: 1.656\;"><span style="font-size: 11pt\; font-family: Arial\; c
 olor: rgb(34\, 34\, 34)\; font-variant-numeric: normal\; font-variant-east
 -asian: normal\; vertical-align: baseline\;">Para solicitar entradas de di
 scapacidad por favor&nbsp\;dirigirse a la&nbsp\;<span style="font-weight: 
 bolder\;">Boletería del Teatro</span>&nbsp\;de&nbsp\;<span style="font-we
 ight: bolder\;">Lunes a viernes de 8:30 a 16hs.</span></span></p><p style=
 "margin: 0pt 0px\; text-align: center\; color: rgb(34\, 34\, 34)\; font-fa
 mily: Arial\, Helvetica\, sans-serif\; font-size: small\; line-height: 1.6
 56\;"><font face="Arial" color="#ffffff"><span style="font-size: 14.6667px
 \; background-color: rgb(103\, 78\, 167)\;"><span style="font-weight: bold
 er\;">Las entradas se podrán&nbsp\;solicitar a partir del 1er día hábil
  del mes corriente del evento.</span></span></font></p><p dir="ltr" style=
 "margin: 0pt 0px\; font-family: Abel\, sans-serif\; text-align: center\; c
 olor: rgb(51\, 51\, 51)\; font-size: 14px\; caret-color: rgb(51\, 51\, 51)
 \; -webkit-tap-highlight-color: rgba(0\, 0\, 0\, 0)\; text-size-adjust: 10
 0%\; line-height: 1.656\;"><span style="font-size: 11pt\; font-family: Ari
 al\; color: rgb(34\, 34\, 34)\; font-variant-numeric: normal\; font-varian
 t-east-asian: normal\; vertical-align: baseline\;"><br></span></p><p dir="
 ltr" style="margin: 0pt 0px\; font-family: Abel\, sans-serif\; text-align:
  center\; color: rgb(51\, 51\, 51)\; font-size: 14px\; caret-color: rgb(51
 \, 51\, 51)\; -webkit-tap-highlight-color: rgba(0\, 0\, 0\, 0)\; text-size
 -adjust: 100%\; line-height: 1.38\;"><a href="http://www.articket.com.ar/"
  style="color: rgb(51\, 122\, 183)\;"><span style="font-size: 11.5pt\; fon
 t-family: Arial\; color: rgb(17\, 85\, 204)\; font-variant-numeric: normal
 \; font-variant-east-asian: normal\; text-decoration-line: underline\; tex
 t-decoration-skip-ink: none\; vertical-align: baseline\;">www.articket.com
 .ar</span></a></p><p style="font-family: Abel\, sans-serif\; text-align: c
 enter\;"><br style="color: rgb(51\, 51\, 51)\; font-size: 14px\; caret-col
 or: rgb(51\, 51\, 51)\; -webkit-tap-highlight-color: rgba(0\, 0\, 0\, 0)\;
  text-size-adjust: 100%\;"></p><p dir="ltr" style="margin: 0pt 0px\; font-
 family: Abel\, sans-serif\; text-align: center\; color: rgb(51\, 51\, 51)\
 ; font-size: 14px\; caret-color: rgb(51\, 51\, 51)\; -webkit-tap-highlight
 -color: rgba(0\, 0\, 0\, 0)\; text-size-adjust: 100%\; line-height: 1.38\;
 "><span style="font-size: 11pt\; font-family: Arial\; color: rgb(34\, 34\,
  34)\; font-weight: 700\; font-variant-numeric: normal\; font-variant-east
 -asian: normal\; vertical-align: baseline\;">APTO +13 AÑOS</span></p><p d
 ir="ltr" style="margin: 0pt 0px\; font-family: Abel\, sans-serif\; text-al
 ign: center\; color: rgb(51\, 51\, 51)\; font-size: 14px\; caret-color: rg
 b(51\, 51\, 51)\; -webkit-tap-highlight-color: rgba(0\, 0\, 0\, 0)\; text-
 size-adjust: 100%\; line-height: 1.38\;"><span style="font-size: 11pt\; fo
 nt-family: Arial\; color: rgb(34\, 34\, 34)\; font-weight: 700\; font-vari
 ant-numeric: normal\; font-variant-east-asian: normal\; vertical-align: ba
 seline\;"><br></span></p><p dir="ltr" style="margin: 0pt 0px\; font-family
 : Abel\, sans-serif\; text-align: center\; color: rgb(51\, 51\, 51)\; font
 -size: 14px\; caret-color: rgb(51\, 51\, 51)\; -webkit-tap-highlight-color
 : rgba(0\, 0\, 0\, 0)\; text-size-adjust: 100%\; line-height: 1.38\;"><spa
 n style="font-size: 11pt\; font-family: Arial\; color: rgb(34\, 34\, 34)\;
  font-weight: 700\; font-variant-numeric: normal\; font-variant-east-asian
 : normal\; vertical-align: baseline\;">---</span></p><p dir="ltr" style="m
 argin: 0pt 0px\; font-family: Abel\, sans-serif\; text-align: center\; col
 or: rgb(51\, 51\, 51)\; font-size: 14px\; caret-color: rgb(51\, 51\, 51)\;
  -webkit-tap-highlight-color: rgba(0\, 0\, 0\, 0)\; text-size-adjust: 100%
 \; line-height: 1.38\;"><span style="font-size: 11pt\; font-family: Arial\
 ; color: rgb(34\, 34\, 34)\; font-weight: 700\; font-variant-numeric: norm
 al\; font-variant-east-asian: normal\; vertical-align: baseline\;"><br></s
 pan></p><p dir="ltr" style="margin: 0pt 0px\; text-align: center\; -webkit
 -tap-highlight-color: rgba(0\, 0\, 0\, 0)\; text-size-adjust: 100%\; line-
 height: 1.38\;"><font color="#333333" face="Abel\, sans-serif"><span style
 ="font-size: 18px\; caret-color: rgb(51\, 51\, 51)\;">Interpretada por Ger
 mán Palacios e Inés Estévez\, está dirigida por los mismos actores.</s
 pan></font></p><p dir="ltr" style="margin: 0pt 0px\; text-align: center\; 
 -webkit-tap-highlight-color: rgba(0\, 0\, 0\, 0)\; text-size-adjust: 100%\
 ; line-height: 1.38\;"><font color="#333333" face="Abel\, sans-serif"><spa
 n style="font-size: 18px\; caret-color: rgb(51\, 51\, 51)\;">Un viaje.</sp
 an></font></p><p dir="ltr" style="margin: 0pt 0px\; text-align: center\; -
 webkit-tap-highlight-color: rgba(0\, 0\, 0\, 0)\; text-size-adjust: 100%\;
  line-height: 1.38\;"><font color="#333333" face="Abel\, sans-serif"><span
  style="font-size: 18px\; caret-color: rgb(51\, 51\, 51)\;">Un encuentro i
 mpensado.</span></font></p><p dir="ltr" style="margin: 0pt 0px\; text-alig
 n: center\; -webkit-tap-highlight-color: rgba(0\, 0\, 0\, 0)\; text-size-a
 djust: 100%\; line-height: 1.38\;"><font color="#333333" face="Abel\, sans
 -serif"><span style="font-size: 18px\; caret-color: rgb(51\, 51\, 51)\;">S
 uspenso y misterio.</span></font></p><p dir="ltr" style="margin: 0pt 0px\;
  text-align: center\; -webkit-tap-highlight-color: rgba(0\, 0\, 0\, 0)\; t
 ext-size-adjust: 100%\; line-height: 1.38\;"><font color="#333333" face="A
 bel\, sans-serif"><span style="font-size: 18px\; caret-color: rgb(51\, 51\
 , 51)\;">Dos soledades coinciden en un mismo vagón de tren.</span></font>
 </p><p dir="ltr" style="margin: 0pt 0px\; text-align: center\; -webkit-tap
 -highlight-color: rgba(0\, 0\, 0\, 0)\; text-size-adjust: 100%\; line-heig
 ht: 1.38\;"><font color="#333333" face="Abel\, sans-serif"><span style="fo
 nt-size: 18px\; caret-color: rgb(51\, 51\, 51)\;">Sus pensamientos vuelan 
 hasta entrecruzarse en un intercambio pleno de poesía\,</span></font></p>
 <p dir="ltr" style="margin: 0pt 0px\; text-align: center\; -webkit-tap-hig
 hlight-color: rgba(0\, 0\, 0\, 0)\; text-size-adjust: 100%\; line-height: 
 1.38\;"><font color="#333333" face="Abel\, sans-serif"><span style="font-s
 ize: 18px\; caret-color: rgb(51\, 51\, 51)\;">humor\, inteligencia y giros
  sorprendentes llenos de intriga que podrían transformar</span></font></p
 ><p dir="ltr" style="margin: 0pt 0px\; text-align: center\; -webkit-tap-hi
 ghlight-color: rgba(0\, 0\, 0\, 0)\; text-size-adjust: 100%\; line-height:
  1.38\;"><font color="#333333" face="Abel\, sans-serif"><span style="font-
 size: 18px\; caret-color: rgb(51\, 51\, 51)\;">sus vidas.</span></font></p
 ><p dir="ltr" style="margin: 0pt 0px\; text-align: center\; -webkit-tap-hi
 ghlight-color: rgba(0\, 0\, 0\, 0)\; text-size-adjust: 100%\; line-height:
  1.38\;"><font color="#333333" face="Abel\, sans-serif"><span style="font-
 size: 18px\; caret-color: rgb(51\, 51\, 51)\;">¿Cuánto de esto es azar? 
 ¿Cuánto es destino?</span></font></p><p dir="ltr" style="margin: 0pt 0px
 \; text-align: center\; -webkit-tap-highlight-color: rgba(0\, 0\, 0\, 0)\;
  text-size-adjust: 100%\; line-height: 1.38\;"><font color="#333333" face=
 "Abel\, sans-serif"><span style="font-size: 18px\; caret-color: rgb(51\, 5
 1\, 51)\;">El espectador va a decidirlo mientras viaja con ellos.</span></
 font></p><p dir="ltr" style="margin: 0pt 0px\; text-align: center\; -webki
 t-tap-highlight-color: rgba(0\, 0\, 0\, 0)\; text-size-adjust: 100%\; line
 -height: 1.38\;"><br></p><p dir="ltr" style="margin: 0pt 0px\; text-align:
  center\; -webkit-tap-highlight-color: rgba(0\, 0\, 0\, 0)\; text-size-adj
 ust: 100%\; line-height: 1.38\;"><font color="#222222" face="Arial"><span 
 style="font-size: 14.6667px\; caret-color: rgb(51\, 51\, 51)\;"><span styl
 e="font-weight: bolder\;"><br></span></span></font></p><p dir="ltr" style=
 "margin: 0pt 0px\; text-align: center\; line-height: 1.38\;"><font face="A
 bel\, sans-serif" color="#9c9c94"><span style="font-size: 12px\;">PROMO BA
 NCO PROVINCIA CONDICIONES:&nbsp\;<a href="https://tr.ee/89uSGj" target="_b
 lank">https://tr.ee/89uSGj</a></span></font></p><p dir="ltr" style="margin
 : 0pt 0px\; text-align: center\; line-height: 1.38\;"><br></p>
END:VEVENT
END:VCALENDAR
