BEGIN:VCALENDAR
VERSION:2.0
PRODID:-//My Calendar//mxm.dk//
BEGIN:VEVENT
SUMMARY:OPERACION ROSA ROSA EN TRES ARROYOS
DTSTART:20260517T000000Z
DTEND:20260517T030000Z
DTSTAMP:20260424T124330Z
DESCRIPTION:<p dir="ltr" style="margin: 0pt 0px\; text-align: center\; tex
 t-size-adjust: 100%\; line-height: 1.656\;"><font color="#201f1e" face="Ar
 ial"><span style="font-size: 36px\; caret-color: rgb(32\, 31\, 30)\;"><b><
 u>OPERACION ROSA ROSA</u></b></span></font></p><p dir="ltr" style="margin:
  0pt 0px\; text-align: center\; text-size-adjust: 100%\; line-height: 1.65
 6\;"><font color="#201f1e" face="Arial"><span style="font-size: 15.3333px\
 ; caret-color: rgb(32\, 31\, 30)\;"><u><span style="font-size: 24px\;"><b>
 EN TRES ARROYOS</b></span></u></span></font></p><p dir="ltr" style="margin
 : 0pt 0px\; font-family: Abel\, sans-serif\; text-align: center\; text-siz
 e-adjust: 100%\; line-height: 1.656\;"><br></p><div style="font-family: Ab
 el\, sans-serif\; text-align: center\; text-size-adjust: 100%\; color: rgb
 (51\, 51\, 51)\; font-size: 14px\;"><div style="font-size: 14.6667px\;"><f
 ont color="#222222" face="Arial"><span style="font-weight: 700\;"><u></u><
 /span></font></div></div><div style="text-align: center\; text-size-adjust
 : 100%\; font-family: Arial\, Helvetica\, sans-serif\; font-size: small\; 
 color: rgb(33\, 33\, 33)\;"><div style="text-size-adjust: 100%\;"><p dir="
 ltr" style="margin: 0pt 0px\; color: rgb(51\, 51\, 51)\; font-family: Abel
 \, sans-serif\; font-size: 14px\; line-height: 1.656\;"><span style="font-
 size: 11.5pt\; font-family: Arial\; color: rgb(32\, 31\, 30)\; font-varian
 t-numeric: normal\; font-variant-east-asian: normal\; vertical-align: base
 line\;"><span style="font-size: 11pt\;">Entradas en efectivo en Boletería
  del Teatro de Tres Arroyos (</span><span style="color: rgb(33\, 37\, 41)\
 ; font-family: Abel\, sans-serif\; font-size: 11pt\; text-align: left\;">A
 v. Moreno 655\, Tres Arroyos\, Buenos Aires)</span></span></p><div><span s
 tyle="font-size: 11.5pt\; font-family: Arial\; color: rgb(32\, 31\, 30)\; 
 font-variant-numeric: normal\; font-variant-east-asian: normal\; vertical-
 align: baseline\;"><span style="color: rgb(33\, 37\, 41)\; font-family: Ab
 el\, sans-serif\; font-size: 11pt\; text-align: left\;"><br></span></span>
 </div></div></div><div style="text-align: center\; text-size-adjust: 100%\
 ; font-family: Arial\, Helvetica\, sans-serif\; font-size: small\; color: 
 rgb(33\, 33\, 33)\;"><i><div style="text-size-adjust: 100%\;"><br></div></
 i></div><p dir="ltr" style="margin: 0pt 0px\; font-family: Abel\, sans-ser
 if\; text-align: center\; text-size-adjust: 100%\; color: rgb(51\, 51\, 51
 )\; font-size: 14px\; line-height: 1.656\;"><span style="font-size: 11.5pt
 \; font-family: Arial\; color: rgb(32\, 31\, 30)\; font-variant-numeric: n
 ormal\; font-variant-east-asian: normal\; vertical-align: baseline\;"></sp
 an></p><div style="text-align: center\; text-size-adjust: 100%\; font-fami
 ly: Arial\, Helvetica\, sans-serif\; font-size: small\; color: rgb(33\, 33
 \, 33)\;"><a href="http://www.articket.com.ar/" style="color: rgb(51\, 122
 \, 183)\; font-family: Abel\, sans-serif\; font-size: 14px\;"><span style=
 "font-size: 11.5pt\; font-family: Arial\; color: rgb(17\, 85\, 204)\; font
 -variant-numeric: normal\; font-variant-east-asian: normal\; text-decorati
 on-line: underline\; text-decoration-skip-ink: none\; vertical-align: base
 line\;">www.articket.com.ar</span></a><br><br><br><span style="color: rgb(
 34\, 34\, 34)\; font-family: Arial\; font-size: 14.6667px\; font-weight: 7
 00\;">SHOW APTO TODO PUBLICO</span></div><div style="text-align: center\; 
 text-size-adjust: 100%\; font-family: Arial\, Helvetica\, sans-serif\; fon
 t-size: small\; color: rgb(33\, 33\, 33)\;"><span style="color: rgb(34\, 3
 4\, 34)\; font-family: Arial\; font-size: 14.6667px\; font-weight: 700\;">
 <br></span></div><div style="text-align: center\; text-size-adjust: 100%\;
  font-family: Arial\, Helvetica\, sans-serif\; font-size: small\; color: r
 gb(33\, 33\, 33)\;"><span style="color: rgb(34\, 34\, 34)\; font-family: A
 rial\; font-size: 14.6667px\; font-weight: 700\;">---</span></div><div sty
 le="text-align: center\; text-size-adjust: 100%\; font-family: Arial\, Hel
 vetica\, sans-serif\; font-size: small\; color: rgb(33\, 33\, 33)\;"><br><
 /div><div style="text-align: center\; text-size-adjust: 100%\; font-family
 : Arial\, Helvetica\, sans-serif\; font-size: small\; color: rgb(33\, 33\,
  33)\;"><span style="color: rgb(34\, 34\, 34)\; font-family: Arial\; font-
 size: 14.6667px\; font-weight: 700\;"><br></span><p dir="ltr" style="margi
 n: 0pt 0px\; line-height: 1.38\;"><font face="Abel\, sans-serif" color="#9
 c9c94"><span style="font-size: 12px\;">PROMO BANCO PROVINCIA CONDICIONES:&
 nbsp\;<a href="https://tr.ee/89uSGj" target="_blank">https://tr.ee/89uSGj<
 /a></span></font></p><p dir="ltr" style="margin: 0pt 0px\; line-height: 1.
 38\;"><br style="color: rgb(33\, 37\, 41)\; font-family: Abel\, sans-serif
 \; font-size: 16px\;"></p></div>
END:VEVENT
END:VCALENDAR
