BEGIN:VCALENDAR
VERSION:2.0
PRODID:-//My Calendar//mxm.dk//
BEGIN:VEVENT
SUMMARY:GUERRERAS DORADAS EN OLAVARRIA
DTSTART:20260604T210000Z
DTEND:20260604T230000Z
DTSTAMP:20260424T124449Z
DESCRIPTION:<p dir="ltr" style="text-align: center\; margin: 0pt 0px\; -we
 bkit-tap-highlight-color: rgba(0\, 0\, 0\, 0)\; text-size-adjust: 100%\; l
 ine-height: 1.656\;"><font color="#201f1e" face="Arial"><span style="font-
 size: 18px\; caret-color: rgb(51\, 51\, 51)\;"><b><u>GUERRERAS DORADAS</u>
 </b></span></font></p><p dir="ltr" style="margin: 0pt 0px\; text-align: ce
 nter\; -webkit-tap-highlight-color: rgba(0\, 0\, 0\, 0)\; text-size-adjust
 : 100%\; line-height: 1.656\;"><font color="#201f1e" face="Arial"><u><font
  face="Abel\, sans-serif"><span style="font-size: 15.3333px\; font-weight:
  bolder\; caret-color: rgb(51\, 51\, 51)\;">EN OLAVARRIA</span></font></u>
 </font></p><p dir="ltr" style="margin: 0pt 0px\; font-family: Abel\, sans-
 serif\; text-align: center\; color: rgb(51\, 51\, 51)\; font-size: 14px\; 
 caret-color: rgb(51\, 51\, 51)\; -webkit-tap-highlight-color: rgba(0\, 0\,
  0\, 0)\; text-size-adjust: 100%\; line-height: 1.656\;"><span style="font
 -size: 11.5pt\; font-family: Arial\; color: rgb(32\, 31\, 30)\; font-varia
 nt-numeric: normal\; font-variant-east-asian: normal\; vertical-align: bas
 eline\;"><br></span></p><p dir="ltr" style="margin: 0pt 0px\; font-family:
  Abel\, sans-serif\; text-align: center\; color: rgb(51\, 51\, 51)\; font-
 size: 14px\; caret-color: rgb(51\, 51\, 51)\; -webkit-tap-highlight-color:
  rgba(0\, 0\, 0\, 0)\; text-size-adjust: 100%\; line-height: 1.656\;"><spa
 n style="font-size: 11.5pt\; font-family: Arial\; color: rgb(32\, 31\, 30)
 \; font-variant-numeric: normal\; font-variant-east-asian: normal\; vertic
 al-align: baseline\;">Entradas anticipadas:<br><br></span></p><p dir="ltr"
  style="margin: 0pt 0px\; font-family: Abel\, sans-serif\; text-align: cen
 ter\; color: rgb(51\, 51\, 51)\; font-size: 14px\; caret-color: rgb(51\, 5
 1\, 51)\; -webkit-tap-highlight-color: rgba(0\, 0\, 0\, 0)\; text-size-adj
 ust: 100%\; line-height: 1.656\;"><u style="color: rgb(34\, 34\, 34)\; fon
 t-family: Arial\; font-size: 14.6667px\;">POR SISTEMA:<br></u><span style=
 "font-weight: 700\; color: rgb(34\, 34\, 34)\; font-family: Arial\; font-s
 ize: 11pt\;">(Todos los medios de pago)</span></p><p dir="ltr" style="marg
 in: 0pt 0px\; font-family: Abel\, sans-serif\; text-align: center\; color:
  rgb(51\, 51\, 51)\; font-size: 14px\; caret-color: rgb(51\, 51\, 51)\; -w
 ebkit-tap-highlight-color: rgba(0\, 0\, 0\, 0)\; text-size-adjust: 100%\; 
 line-height: 1.656\;"><span style="font-weight: 700\; color: rgb(34\, 34\,
  34)\; font-family: Arial\; font-size: 11pt\;"><br></span></p><p dir="ltr"
  style="margin: 0pt 0px\; font-family: Abel\, sans-serif\; text-align: cen
 ter\; color: rgb(51\, 51\, 51)\; font-size: 14px\; caret-color: rgb(51\, 5
 1\, 51)\; -webkit-tap-highlight-color: rgba(0\, 0\, 0\, 0)\; text-size-adj
 ust: 100%\; line-height: 1.656\;"><font color="#222222" face="Arial"><span
  style="font-size: 14.6667px\;"><u>Efectivo en:</u></span></font></p><p di
 r="ltr" style="margin: 0pt 0px\; font-family: Abel\, sans-serif\; text-ali
 gn: center\; color: rgb(51\, 51\, 51)\; font-size: 14px\; caret-color: rgb
 (51\, 51\, 51)\; -webkit-tap-highlight-color: rgba(0\, 0\, 0\, 0)\; text-s
 ize-adjust: 100%\; line-height: 1.656\;"><span style="font-size: 11.5pt\; 
 font-family: Arial\; color: rgb(32\, 31\, 30)\; font-weight: 700\; font-va
 riant-numeric: normal\; font-variant-east-asian: normal\; vertical-align: 
 baseline\;">TecnoCentro:</span><span style="font-size: 11.5pt\; font-famil
 y: Arial\; color: rgb(32\, 31\, 30)\; font-variant-numeric: normal\; font-
 variant-east-asian: normal\; vertical-align: baseline\;">&nbsp\;Rivadavia 
 3065 -&nbsp\;<span style="font-weight: 700\;">Olavarria</span></span></p><
 div style="text-align: center\; -webkit-tap-highlight-color: rgba(0\, 0\, 
 0\, 0)\; text-size-adjust: 100%\; font-family: Arial\, Helvetica\, sans-se
 rif\; font-size: small\; color: rgb(33\, 33\, 33)\;"><i><br></i></div><p d
 ir="ltr" style="margin: 0pt 0px\; font-family: Abel\, sans-serif\; text-al
 ign: center\; color: rgb(51\, 51\, 51)\; font-size: 14px\; caret-color: rg
 b(51\, 51\, 51)\; -webkit-tap-highlight-color: rgba(0\, 0\, 0\, 0)\; text-
 size-adjust: 100%\; line-height: 1.656\;"><span style="font-size: 11pt\; f
 ont-family: Arial\; color: rgb(34\, 34\, 34)\; font-variant-numeric: norma
 l\; font-variant-east-asian: normal\; vertical-align: baseline\;"><span st
 yle="font-weight: 700\;"><u>Entradas de Discapacidad</u></span></span></p>
 <p dir="ltr" style="margin: 0pt 0px\; font-family: Abel\, sans-serif\; tex
 t-align: center\; color: rgb(51\, 51\, 51)\; font-size: 14px\; caret-color
 : rgb(51\, 51\, 51)\; -webkit-tap-highlight-color: rgba(0\, 0\, 0\, 0)\; t
 ext-size-adjust: 100%\; line-height: 1.656\;"><span style="font-size: 11pt
 \; font-family: Arial\; color: rgb(34\, 34\, 34)\; font-variant-numeric: n
 ormal\; font-variant-east-asian: normal\; vertical-align: baseline\;"></sp
 an></p><p dir="ltr" style="margin: 0pt 0px\; font-family: Abel\, sans-seri
 f\; text-align: center\; color: rgb(51\, 51\, 51)\; font-size: 14px\; line
 -height: 1.656\;"><span style="font-size: 11pt\; font-family: Arial\; colo
 r: rgb(34\, 34\, 34)\; font-variant-numeric: normal\; font-variant-east-as
 ian: normal\; vertical-align: baseline\;">Para solicitar entradas de disca
 pacidad por favor&nbsp\;dirigirse a la&nbsp\;<span style="font-weight: bol
 der\;">Boletería del Teatro</span>&nbsp\;de&nbsp\;<span style="font-weigh
 t: bolder\;">Lunes a viernes de 8:30 a 16hs.</span></span></p><p style="ma
 rgin: 0pt 0px\; text-align: center\; color: rgb(34\, 34\, 34)\; font-famil
 y: Arial\, Helvetica\, sans-serif\; font-size: small\; line-height: 1.656\
 ;"><font face="Arial" color="#ffffff"><span style="font-size: 14.6667px\; 
 background-color: rgb(103\, 78\, 167)\;"><span style="font-weight: bolder\
 ;">Las entradas se podrán&nbsp\;solicitar a partir del 1er día hábil de
 l mes corriente del evento.</span></span></font></p><p dir="ltr" style="ma
 rgin: 0pt 0px\; font-family: Abel\, sans-serif\; text-align: center\; colo
 r: rgb(51\, 51\, 51)\; font-size: 14px\; caret-color: rgb(51\, 51\, 51)\; 
 -webkit-tap-highlight-color: rgba(0\, 0\, 0\, 0)\; text-size-adjust: 100%\
 ; line-height: 1.656\;"><span style="font-size: 11pt\; font-family: Arial\
 ; color: rgb(34\, 34\, 34)\; font-variant-numeric: normal\; font-variant-e
 ast-asian: normal\; vertical-align: baseline\;"><br></span></p><p dir="ltr
 " style="margin: 0pt 0px\; font-family: Abel\, sans-serif\; text-align: ce
 nter\; color: rgb(51\, 51\, 51)\; font-size: 14px\; caret-color: rgb(51\, 
 51\, 51)\; -webkit-tap-highlight-color: rgba(0\, 0\, 0\, 0)\; text-size-ad
 just: 100%\; line-height: 1.38\;"><a href="http://www.articket.com.ar/" st
 yle="color: rgb(51\, 122\, 183)\;"><span style="font-size: 11.5pt\; font-f
 amily: Arial\; color: rgb(17\, 85\, 204)\; font-variant-numeric: normal\; 
 font-variant-east-asian: normal\; text-decoration-line: underline\; text-d
 ecoration-skip-ink: none\; vertical-align: baseline\;">www.articket.com.ar
 </span></a></p><p style="font-family: Abel\, sans-serif\; text-align: cent
 er\;"><br style="color: rgb(51\, 51\, 51)\; font-size: 14px\; caret-color:
  rgb(51\, 51\, 51)\; -webkit-tap-highlight-color: rgba(0\, 0\, 0\, 0)\; te
 xt-size-adjust: 100%\;"></p><p dir="ltr" style="margin: 0pt 0px\; font-fam
 ily: Abel\, sans-serif\; text-align: center\; color: rgb(51\, 51\, 51)\; f
 ont-size: 14px\; caret-color: rgb(51\, 51\, 51)\; -webkit-tap-highlight-co
 lor: rgba(0\, 0\, 0\, 0)\; text-size-adjust: 100%\; line-height: 1.38\;"><
 span style="font-size: 11pt\; font-family: Arial\; color: rgb(34\, 34\, 34
 )\; font-weight: 700\; font-variant-numeric: normal\; font-variant-east-as
 ian: normal\; vertical-align: baseline\;">APTO TODO PUBLICO</span></p><p d
 ir="ltr" style="margin: 0pt 0px\; font-family: Abel\, sans-serif\; text-al
 ign: center\; color: rgb(51\, 51\, 51)\; font-size: 14px\; caret-color: rg
 b(51\, 51\, 51)\; -webkit-tap-highlight-color: rgba(0\, 0\, 0\, 0)\; text-
 size-adjust: 100%\; line-height: 1.38\;"><span style="font-size: 11pt\; fo
 nt-family: Arial\; color: rgb(34\, 34\, 34)\; font-weight: 700\; font-vari
 ant-numeric: normal\; font-variant-east-asian: normal\; vertical-align: ba
 seline\;"><br></span></p><p dir="ltr" style="margin: 0pt 0px\; font-family
 : Abel\, sans-serif\; text-align: center\; color: rgb(51\, 51\, 51)\; font
 -size: 14px\; caret-color: rgb(51\, 51\, 51)\; -webkit-tap-highlight-color
 : rgba(0\, 0\, 0\, 0)\; text-size-adjust: 100%\; line-height: 1.38\;"><spa
 n style="font-size: 11pt\; font-family: Arial\; color: rgb(34\, 34\, 34)\;
  font-weight: 700\; font-variant-numeric: normal\; font-variant-east-asian
 : normal\; vertical-align: baseline\;">---</span></p><p dir="ltr" style="m
 argin: 0pt 0px\; font-family: Abel\, sans-serif\; text-align: center\; col
 or: rgb(51\, 51\, 51)\; font-size: 14px\; caret-color: rgb(51\, 51\, 51)\;
  -webkit-tap-highlight-color: rgba(0\, 0\, 0\, 0)\; text-size-adjust: 100%
 \; line-height: 1.38\;"><span style="font-size: 11pt\; font-family: Arial\
 ; color: rgb(34\, 34\, 34)\; font-weight: 700\; font-variant-numeric: norm
 al\; font-variant-east-asian: normal\; vertical-align: baseline\;"><br></s
 pan></p><p dir="ltr" style="margin: 0pt 0px\; text-align: center\; -webkit
 -tap-highlight-color: rgba(0\, 0\, 0\, 0)\; text-size-adjust: 100%\; line-
 height: 1.38\;">Un show infantil lleno de música\, magia y valentía</p><
 p dir="ltr" style="margin: 0pt 0px\; text-align: center\; -webkit-tap-high
 light-color: rgba(0\, 0\, 0\, 0)\; text-size-adjust: 100%\; line-height: 1
 .38\;">La oscuridad se expande y amenaza con apoderarse del mundo… pero 
 tres chicas muy</p><p dir="ltr" style="margin: 0pt 0px\; text-align: cente
 r\; -webkit-tap-highlight-color: rgba(0\, 0\, 0\, 0)\; text-size-adjust: 1
 00%\; line-height: 1.38\;">especiales fueron enviadas para protegernos.</p
 ><p dir="ltr" style="margin: 0pt 0px\; text-align: center\; -webkit-tap-hi
 ghlight-color: rgba(0\, 0\, 0\, 0)\; text-size-adjust: 100%\; line-height:
  1.38\;">Tres jóvenes artistas que descubren que no solo nacieron para br
 illar en los</p><p dir="ltr" style="margin: 0pt 0px\; text-align: center\;
  -webkit-tap-highlight-color: rgba(0\, 0\, 0\, 0)\; text-size-adjust: 100%
 \; line-height: 1.38\;">escenarios\, sino también para defender la espera
 nza y la alegría de todos.</p><p dir="ltr" style="margin: 0pt 0px\; text-
 align: center\; -webkit-tap-highlight-color: rgba(0\, 0\, 0\, 0)\; text-si
 ze-adjust: 100%\; line-height: 1.38\;">Entre coreografías llenas de energ
 ía\, canciones que hacen vibrar y amistades que serán</p><p dir="ltr" st
 yle="margin: 0pt 0px\; text-align: center\; -webkit-tap-highlight-color: r
 gba(0\, 0\, 0\, 0)\; text-size-adjust: 100%\; line-height: 1.38\;">puestas
  a prueba\, estas guerreras deberán enfrentarse a los enemigos de la luz 
 con el</p><p dir="ltr" style="margin: 0pt 0px\; text-align: center\; -webk
 it-tap-highlight-color: rgba(0\, 0\, 0\, 0)\; text-size-adjust: 100%\; lin
 e-height: 1.38\;">poder de la música y la unión de sus voces.</p><p dir=
 "ltr" style="margin: 0pt 0px\; text-align: center\; -webkit-tap-highlight-
 color: rgba(0\, 0\, 0\, 0)\; text-size-adjust: 100%\; line-height: 1.38\;"
 >Un espectáculo donde se demuestra que el verdadero poder está en:</p><p
  dir="ltr" style="margin: 0pt 0px\; text-align: center\; -webkit-tap-highl
 ight-color: rgba(0\, 0\, 0\, 0)\; text-size-adjust: 100%\; line-height: 1.
 38\;">Creer en una misma.</p><p dir="ltr" style="margin: 0pt 0px\; text-al
 ign: center\; -webkit-tap-highlight-color: rgba(0\, 0\, 0\, 0)\; text-size
 -adjust: 100%\; line-height: 1.38\;">Mostrarse tal cual somos.</p><p dir="
 ltr" style="margin: 0pt 0px\; text-align: center\; -webkit-tap-highlight-c
 olor: rgba(0\, 0\, 0\, 0)\; text-size-adjust: 100%\; line-height: 1.38\;">
 Confiar en los amigos y seres queridos.</p><p dir="ltr" style="margin: 0pt
  0px\; text-align: center\; -webkit-tap-highlight-color: rgba(0\, 0\, 0\, 
 0)\; text-size-adjust: 100%\; line-height: 1.38\;">Cuanto más fuerte y m
 ás unidos cantemos\, ¡nada podrá detenernos!</p><p dir="ltr" style="mar
 gin: 0pt 0px\; text-align: center\; -webkit-tap-highlight-color: rgba(0\, 
 0\, 0\, 0)\; text-size-adjust: 100%\; line-height: 1.38\;">Las Guerreras d
 oradas es un show único que combina música\, emoción y un mensaje</p><p
  dir="ltr" style="margin: 0pt 0px\; text-align: center\; -webkit-tap-highl
 ight-color: rgba(0\, 0\, 0\, 0)\; text-size-adjust: 100%\; line-height: 1.
 38\;">inspirador para toda la familia.</p><p dir="ltr" style="margin: 0pt 
 0px\; text-align: center\; -webkit-tap-highlight-color: rgba(0\, 0\, 0\, 0
 )\; text-size-adjust: 100%\; line-height: 1.38\;"><br></p><p dir="ltr" sty
 le="margin: 0pt 0px\; text-align: center\; -webkit-tap-highlight-color: rg
 ba(0\, 0\, 0\, 0)\; text-size-adjust: 100%\; line-height: 1.38\;"><font co
 lor="#222222" face="Arial"><span style="font-size: 14.6667px\; caret-color
 : rgb(51\, 51\, 51)\;"><span style="font-weight: bolder\;"><br></span></sp
 an></font></p><p dir="ltr" style="margin: 0pt 0px\; text-align: center\; l
 ine-height: 1.38\;"><font face="Abel\, sans-serif" color="#9c9c94"><span s
 tyle="font-size: 12px\;">PROMO BANCO PROVINCIA CONDICIONES:&nbsp\;<a href=
 "https://tr.ee/89uSGj" target="_blank">https://tr.ee/89uSGj</a></span></fo
 nt></p><p dir="ltr" style="margin: 0pt 0px\; text-align: center\; line-hei
 ght: 1.38\;"><br></p>
END:VEVENT
END:VCALENDAR
